BEGIN:VCALENDAR
VERSION:2.0
PRODID:-// - ECPv6.15.20//NONSGML v1.0//EN
CALSCALE:GREGORIAN
METHOD:PUBLISH
X-ORIGINAL-URL:https://www.celinescuisine.com
X-WR-CALDESC:Events for 
REFRESH-INTERVAL;VALUE=DURATION:PT1H
X-Robots-Tag:noindex
X-PUBLISHED-TTL:PT1H
BEGIN:VTIMEZONE
TZID:America/Los_Angeles
BEGIN:DAYLIGHT
TZOFFSETFROM:-0800
TZOFFSETTO:-0700
TZNAME:PDT
DTSTART:20150308T100000
END:DAYLIGHT
BEGIN:STANDARD
TZOFFSETFROM:-0700
TZOFFSETTO:-0800
TZNAME:PST
DTSTART:20151101T090000
END:STANDARD
BEGIN:DAYLIGHT
TZOFFSETFROM:-0800
TZOFFSETTO:-0700
TZNAME:PDT
DTSTART:20160313T100000
END:DAYLIGHT
BEGIN:STANDARD
TZOFFSETFROM:-0700
TZOFFSETTO:-0800
TZNAME:PST
DTSTART:20161106T090000
END:STANDARD
BEGIN:DAYLIGHT
TZOFFSETFROM:-0800
TZOFFSETTO:-0700
TZNAME:PDT
DTSTART:20170312T100000
END:DAYLIGHT
BEGIN:STANDARD
TZOFFSETFROM:-0700
TZOFFSETTO:-0800
TZNAME:PST
DTSTART:20171105T090000
END:STANDARD
END:VTIMEZONE
BEGIN:VEVENT
DTSTART;TZID=America/Los_Angeles:20160607T133000
DTEND;TZID=America/Los_Angeles:20160607T153000
DTSTAMP:20260424T143354
CREATED:20160511T201640Z
LAST-MODIFIED:20160511T201640Z
UID:12290-1465306200-1465313400@www.celinescuisine.com
SUMMARY:Sweet Treats Baking Camp DESSERTS AROUND THE WORLD #1650.202
DESCRIPTION:This camp has been designed specifically for kids who want to have fun in the kitchen and be creative. They’ll learn all about the wonderful world of baking and techniques needed to make some of their favorite sweet treats. They will use real ingredients that are not processed or from a box! At the end of each class\, kids will eat their creations. At the end of the camp\, kids will receive a baking diploma and copies of all the recipes they made. All levels are welcome in this hands-on cooking class. Menu Sample: Cheesecake (USA)\, Victoria sponge cake (UK)\, Panna cotta (Italy)\, Tarte au Citron – Lemon Tart (France).
URL:https://www.celinescuisine.com/events/sweet-treats-baking-camp-desserts-around-the-world-1650-202-2/
LOCATION:Temecula Community Center (CRC)\, 30875 Rancho Vista Road\, Temecula\, CA\, 92590\, United States
END:VEVENT
END:VCALENDAR