BEGIN:VCALENDAR
VERSION:2.0
PRODID:-// - ECPv6.15.20//NONSGML v1.0//EN
CALSCALE:GREGORIAN
METHOD:PUBLISH
X-ORIGINAL-URL:https://www.celinescuisine.com
X-WR-CALDESC:Events for 
REFRESH-INTERVAL;VALUE=DURATION:PT1H
X-Robots-Tag:noindex
X-PUBLISHED-TTL:PT1H
BEGIN:VTIMEZONE
TZID:America/Los_Angeles
BEGIN:DAYLIGHT
TZOFFSETFROM:-0800
TZOFFSETTO:-0700
TZNAME:PDT
DTSTART:20150308T100000
END:DAYLIGHT
BEGIN:STANDARD
TZOFFSETFROM:-0700
TZOFFSETTO:-0800
TZNAME:PST
DTSTART:20151101T090000
END:STANDARD
BEGIN:DAYLIGHT
TZOFFSETFROM:-0800
TZOFFSETTO:-0700
TZNAME:PDT
DTSTART:20160313T100000
END:DAYLIGHT
BEGIN:STANDARD
TZOFFSETFROM:-0700
TZOFFSETTO:-0800
TZNAME:PST
DTSTART:20161106T090000
END:STANDARD
BEGIN:DAYLIGHT
TZOFFSETFROM:-0800
TZOFFSETTO:-0700
TZNAME:PDT
DTSTART:20170312T100000
END:DAYLIGHT
BEGIN:STANDARD
TZOFFSETFROM:-0700
TZOFFSETTO:-0800
TZNAME:PST
DTSTART:20171105T090000
END:STANDARD
END:VTIMEZONE
BEGIN:VEVENT
DTSTART;TZID=America/Los_Angeles:20160707T090000
DTEND;TZID=America/Los_Angeles:20160707T223000
DTSTAMP:20260424T130352
CREATED:20160512T191804Z
LAST-MODIFIED:20160512T191804Z
UID:12335-1467882000-1467930600@www.celinescuisine.com
SUMMARY:Kids Cooking & Baking Combo Camp ( 6 Yrs. to 13 Yrs )Bar Code # 26770
DESCRIPTION:This baking/cooking camp is a fun and creative way to give your kids the opportunity to learn about different baking-cooking techniques. Every day the kids will learn to make a new dessert and/or savory dish using different ingredients. Menu sample: pizza flatbread\, basic tomato sauce\, summer fruit crumble\, chocolate and banana cigars cookies\, Italian croissants and chocolate dipped strawberries.
URL:https://www.celinescuisine.com/events/kids-cooking-baking-combo-camp-6-yrs-to-13-yrs-bar-code-26770-4/
LOCATION:Virtual Murrieta Community Center\, 41810 Juniper st\, Murrieta\, 92562\, United States
END:VEVENT
BEGIN:VEVENT
DTSTART;TZID=America/Los_Angeles:20160707T111500
DTEND;TZID=America/Los_Angeles:20160707T131500
DTSTAMP:20260424T130352
CREATED:20160512T212933Z
LAST-MODIFIED:20160512T212933Z
UID:12372-1467890100-1467897300@www.celinescuisine.com
SUMMARY:Teens Master Chefs Camp (9 Yrs. to 15 Yrs.)Bar Code # 26773
DESCRIPTION:Is you child a master chef? Show off your skills and learn new techniques at camp. On the last day we will have mystery baskets\, team challenges\, and judging
URL:https://www.celinescuisine.com/events/teens-master-chefs-camp-9-yrs-to-15-yrs-bar-code-26773-3/
LOCATION:Virtual Murrieta Community Center\, 41810 Juniper st\, Murrieta\, 92562\, United States
END:VEVENT
BEGIN:VEVENT
DTSTART;TZID=America/Los_Angeles:20160707T133000
DTEND;TZID=America/Los_Angeles:20160707T153000
DTSTAMP:20260424T130352
CREATED:20160512T214242Z
LAST-MODIFIED:20160512T214242Z
UID:12392-1467898200-1467905400@www.celinescuisine.com
SUMMARY:Teen Cupcake Wars Camp – 9 Yrs. to 15 Yrs Bar Code # 2677
DESCRIPTION:During this week\, kids/teens will learn the basics of baking\, decorating and presenting their edible creations. On the last day they will be able to put their new skills to the test.
URL:https://www.celinescuisine.com/events/teen-cupcake-wars-camp-9-yrs-to-15-yrs-bar-code-2677-3/
LOCATION:Virtual Murrieta Community Center\, 41810 Juniper st\, Murrieta\, 92562\, United States
END:VEVENT
BEGIN:VEVENT
DTSTART;TZID=America/Los_Angeles:20160707T154500
DTEND;TZID=America/Los_Angeles:20160707T174500
DTSTAMP:20260424T130352
CREATED:20160512T212350Z
LAST-MODIFIED:20160512T212350Z
UID:12362-1467906300-1467913500@www.celinescuisine.com
SUMMARY:Kids Culinary Camp (6-13 Years ) Bar Code # 26782
DESCRIPTION:This culinary camp is a fun and creative way to give your kids the opportunity to learn about cooking from scratch\, discovering new ingredients and eating things. Sample Menu: zucchini fritters with homemade dipping sauce\, quesadillas\, ratatouille\, scrambled egg\, quiche lorraine baba ganoush.
URL:https://www.celinescuisine.com/events/kids-culinary-camp-6-13-years-bar-code-26782-3/
LOCATION:Virtual Murrieta Community Center\, 41810 Juniper st\, Murrieta\, 92562\, United States
END:VEVENT
END:VCALENDAR