BEGIN:VCALENDAR
VERSION:2.0
PRODID:-// - ECPv6.15.20//NONSGML v1.0//EN
CALSCALE:GREGORIAN
METHOD:PUBLISH
X-ORIGINAL-URL:https://www.celinescuisine.com
X-WR-CALDESC:Events for 
REFRESH-INTERVAL;VALUE=DURATION:PT1H
X-Robots-Tag:noindex
X-PUBLISHED-TTL:PT1H
BEGIN:VTIMEZONE
TZID:America/Los_Angeles
BEGIN:DAYLIGHT
TZOFFSETFROM:-0800
TZOFFSETTO:-0700
TZNAME:PDT
DTSTART:20170312T100000
END:DAYLIGHT
BEGIN:STANDARD
TZOFFSETFROM:-0700
TZOFFSETTO:-0800
TZNAME:PST
DTSTART:20171105T090000
END:STANDARD
BEGIN:DAYLIGHT
TZOFFSETFROM:-0800
TZOFFSETTO:-0700
TZNAME:PDT
DTSTART:20180311T100000
END:DAYLIGHT
BEGIN:STANDARD
TZOFFSETFROM:-0700
TZOFFSETTO:-0800
TZNAME:PST
DTSTART:20181104T090000
END:STANDARD
BEGIN:DAYLIGHT
TZOFFSETFROM:-0800
TZOFFSETTO:-0700
TZNAME:PDT
DTSTART:20190310T100000
END:DAYLIGHT
BEGIN:STANDARD
TZOFFSETFROM:-0700
TZOFFSETTO:-0800
TZNAME:PST
DTSTART:20191103T090000
END:STANDARD
END:VTIMEZONE
BEGIN:VEVENT
DTSTART;TZID=America/Los_Angeles:20180123T173000
DTEND;TZID=America/Los_Angeles:20180123T190000
DTSTAMP:20260423T105035
CREATED:20180123T174353Z
LAST-MODIFIED:20180123T184741Z
UID:12671-1516728600-1516734000@www.celinescuisine.com
SUMMARY:Cooking for Kids- 7192
DESCRIPTION:If kids make it they will eat it! Kids work together as a team and eat whatever they make. During these three weeks kids will learn to make from scratch: \nQuiche Lorraine Zucchini Noodles\, Panini/Sandwich and more! \n**Please note that menu is subject to change without notice** \nThese classes teach children how to create in the kitchen and discover new cooking techniques from all over the world in a safe environment. Items are always cooked from scratch\, never from a box or mix! This class is fun and delicious and open for all skill levels. \nThe menu is different each session. Please advise staff of food allergies or special diets upon enrollment. \nIncluded in the class: Recipes (by email)\, aprons and instruction. \nKids will eat what they make during the class. Bring your own water and ensure you are wearing close toed shoes and have hair tied back. \nWHEN :Tuesdays January 23rd – February 6th\nTIME: (5:30pm-7:00pm)\nWHERE : 26480 Lazy Creek Rd\, Sun City\, CA 92586 \nPrice: 	$59.00 (Resident)\n$70.00 (Non-resident)\nAges: 	At least 6 but less than 14\nGender: 	Coed\nSpaces: 	7 openings remaining
URL:https://www.celinescuisine.com/events/cooking-for-kids-7192/
LOCATION:MENIFEE\, 26480 Lazy Creek Rd\,\, Sun City\, CA\, 92586\, United States
END:VEVENT
END:VCALENDAR