BEGIN:VCALENDAR
VERSION:2.0
PRODID:-// - ECPv6.15.20//NONSGML v1.0//EN
CALSCALE:GREGORIAN
METHOD:PUBLISH
X-ORIGINAL-URL:https://www.celinescuisine.com
X-WR-CALDESC:Events for 
REFRESH-INTERVAL;VALUE=DURATION:PT1H
X-Robots-Tag:noindex
X-PUBLISHED-TTL:PT1H
BEGIN:VTIMEZONE
TZID:America/Los_Angeles
BEGIN:DAYLIGHT
TZOFFSETFROM:-0800
TZOFFSETTO:-0700
TZNAME:PDT
DTSTART:20170312T100000
END:DAYLIGHT
BEGIN:STANDARD
TZOFFSETFROM:-0700
TZOFFSETTO:-0800
TZNAME:PST
DTSTART:20171105T090000
END:STANDARD
BEGIN:DAYLIGHT
TZOFFSETFROM:-0800
TZOFFSETTO:-0700
TZNAME:PDT
DTSTART:20180311T100000
END:DAYLIGHT
BEGIN:STANDARD
TZOFFSETFROM:-0700
TZOFFSETTO:-0800
TZNAME:PST
DTSTART:20181104T090000
END:STANDARD
BEGIN:DAYLIGHT
TZOFFSETFROM:-0800
TZOFFSETTO:-0700
TZNAME:PDT
DTSTART:20190310T100000
END:DAYLIGHT
BEGIN:STANDARD
TZOFFSETFROM:-0700
TZOFFSETTO:-0800
TZNAME:PST
DTSTART:20191103T090000
END:STANDARD
END:VTIMEZONE
BEGIN:VEVENT
DTSTART;TZID=America/Los_Angeles:20180124T171500
DTEND;TZID=America/Los_Angeles:20180124T184500
DTSTAMP:20260423T104915
CREATED:20180123T192105Z
LAST-MODIFIED:20180123T192219Z
UID:12681-1516814100-1516819500@www.celinescuisine.com
SUMMARY:PETITE CHEFS -Temecula 1665.101- JAN 24 - FEB 6
DESCRIPTION:EVERY WEDESDNAY from JAN 24 – FEB 6 \nThese fun cooking classes for kids teach fundamental techniques easy for kids to duplicate at home ( with your supervision). \nWe cook/ bake from scratch not from a mix or box.These are hands-on cooking class and All levels welcome! \nMenu sample : Italian Panini\, French ham-cheese croissants\, mini quiches and more!\n Each session has diffeent menu and theme so you may want to register your child to all of them. \nRecipes are emailed after the 3 classes.
URL:https://www.celinescuisine.com/events/petite-chefs-temecula-1665-101-jan-24-feb-6/
LOCATION:Temecula Community Center (CRC)\, 30875 Rancho Vista Road\, Temecula\, CA\, 92590\, United States
END:VEVENT
END:VCALENDAR