BEGIN:VCALENDAR
VERSION:2.0
PRODID:-// - ECPv6.15.20//NONSGML v1.0//EN
CALSCALE:GREGORIAN
METHOD:PUBLISH
X-ORIGINAL-URL:https://www.celinescuisine.com
X-WR-CALDESC:Events for 
REFRESH-INTERVAL;VALUE=DURATION:PT1H
X-Robots-Tag:noindex
X-PUBLISHED-TTL:PT1H
BEGIN:VTIMEZONE
TZID:America/Los_Angeles
BEGIN:DAYLIGHT
TZOFFSETFROM:-0800
TZOFFSETTO:-0700
TZNAME:PDT
DTSTART:20170312T100000
END:DAYLIGHT
BEGIN:STANDARD
TZOFFSETFROM:-0700
TZOFFSETTO:-0800
TZNAME:PST
DTSTART:20171105T090000
END:STANDARD
BEGIN:DAYLIGHT
TZOFFSETFROM:-0800
TZOFFSETTO:-0700
TZNAME:PDT
DTSTART:20180311T100000
END:DAYLIGHT
BEGIN:STANDARD
TZOFFSETFROM:-0700
TZOFFSETTO:-0800
TZNAME:PST
DTSTART:20181104T090000
END:STANDARD
BEGIN:DAYLIGHT
TZOFFSETFROM:-0800
TZOFFSETTO:-0700
TZNAME:PDT
DTSTART:20190310T100000
END:DAYLIGHT
BEGIN:STANDARD
TZOFFSETFROM:-0700
TZOFFSETTO:-0800
TZNAME:PST
DTSTART:20191103T090000
END:STANDARD
END:VTIMEZONE
BEGIN:VEVENT
DTSTART;TZID=America/Los_Angeles:20180205T174500
DTEND;TZID=America/Los_Angeles:20180205T190000
DTSTAMP:20260423T092719
CREATED:20180117T205924Z
LAST-MODIFIED:20180118T020231Z
UID:12620-1517852700-1517857200@www.celinescuisine.com
SUMMARY:COMBO COOKING/ BAKING CLASS for kids
DESCRIPTION:COMBO COOKING/ BAKING CLASS for kids /  New Session \n2/5/18 To  2/26/18- Monday \n5:45 pm-7:00 pm \nMenu : Menu sample: ham cheese béchamel croissant\, cookies\,cake\, Breadstick\, Mini quiches….  \nWe use natural\, organic ingredients when availale. Only cooking/ baking from scratch not from a box or mix! \nGetting kids involved in the kitchen and exposing them to different\nfoods is a great way to develop healthier and adventurous eating habits. Come join us and start your kids on a healthier way of living. Menu sample: ham cheese béchamel croissant\, cookies\,cake\,\nBreadstick\, Mini quiches…. New menu for each session so you can register for all classes Closed toed\nshoes and tied hair required. Bring water. For food allergies or special diet please notify staff at time\nof registration.. >New menu for each session so you can register for all classes Closed toed\nshoes and tied hair required. Bring water. For food allergies or special diet please notify staff at time\nof registration. \nMURRIETA COMMUNITY CENTER | 01/18-02/01 | 5:45pm-7pm
URL:https://www.celinescuisine.com/events/little-chefs-6-13-years-old-cooking-class/
LOCATION:Virtual Murrieta Community Center\, 41810 Juniper st\, Murrieta\, 92562\, United States
ATTACH;FMTTYPE=image/jpeg:https://www.celinescuisine.com/wp-content/uploads/2017/05/IMG_7539-1-e1557516520797.jpg
END:VEVENT
END:VCALENDAR