BEGIN:VCALENDAR
VERSION:2.0
PRODID:-// - ECPv6.15.20//NONSGML v1.0//EN
CALSCALE:GREGORIAN
METHOD:PUBLISH
X-ORIGINAL-URL:https://www.celinescuisine.com
X-WR-CALDESC:Events for 
REFRESH-INTERVAL;VALUE=DURATION:PT1H
X-Robots-Tag:noindex
X-PUBLISHED-TTL:PT1H
BEGIN:VTIMEZONE
TZID:America/Los_Angeles
BEGIN:DAYLIGHT
TZOFFSETFROM:-0800
TZOFFSETTO:-0700
TZNAME:PDT
DTSTART:20170312T100000
END:DAYLIGHT
BEGIN:STANDARD
TZOFFSETFROM:-0700
TZOFFSETTO:-0800
TZNAME:PST
DTSTART:20171105T090000
END:STANDARD
BEGIN:DAYLIGHT
TZOFFSETFROM:-0800
TZOFFSETTO:-0700
TZNAME:PDT
DTSTART:20180311T100000
END:DAYLIGHT
BEGIN:STANDARD
TZOFFSETFROM:-0700
TZOFFSETTO:-0800
TZNAME:PST
DTSTART:20181104T090000
END:STANDARD
BEGIN:DAYLIGHT
TZOFFSETFROM:-0800
TZOFFSETTO:-0700
TZNAME:PDT
DTSTART:20190310T100000
END:DAYLIGHT
BEGIN:STANDARD
TZOFFSETFROM:-0700
TZOFFSETTO:-0800
TZNAME:PST
DTSTART:20191103T090000
END:STANDARD
END:VTIMEZONE
BEGIN:VEVENT
DTSTART;TZID=America/Los_Angeles:20180316T183000
DTEND;TZID=America/Los_Angeles:20180316T203000
DTSTAMP:20260423T080725
CREATED:20180120T014237Z
LAST-MODIFIED:20180120T014237Z
UID:12657-1521225000-1521232200@www.celinescuisine.com
SUMMARY:FRENCH PASTRIES 1O1 FOR ADULTS
DESCRIPTION:1 class/ session \nNo need to travel to Paris to enjoy some amazing classic French desserts and pastries. Celine Cossou\nFrench born will initiate you to the most amazing French desserts you have dreamed about!\nTwo different menus / two different dates you can register to both!!:\nMENU 3/16/18 Cream puff and Eclairs\ntreats Closed toed shoes and tied hair required. Bring water. For food allergies or special diet please\nnotify staff at time of registration.
URL:https://www.celinescuisine.com/events/french-pastries-1o1-for-adults/
LOCATION:Virtual Murrieta Community Center\, 41810 Juniper st\, Murrieta\, 92562\, United States
END:VEVENT
END:VCALENDAR