BEGIN:VCALENDAR
VERSION:2.0
PRODID:-// - ECPv6.15.20//NONSGML v1.0//EN
CALSCALE:GREGORIAN
METHOD:PUBLISH
X-ORIGINAL-URL:https://www.celinescuisine.com
X-WR-CALDESC:Events for 
REFRESH-INTERVAL;VALUE=DURATION:PT1H
X-Robots-Tag:noindex
X-PUBLISHED-TTL:PT1H
BEGIN:VTIMEZONE
TZID:America/Los_Angeles
BEGIN:DAYLIGHT
TZOFFSETFROM:-0800
TZOFFSETTO:-0700
TZNAME:PDT
DTSTART:20170312T100000
END:DAYLIGHT
BEGIN:STANDARD
TZOFFSETFROM:-0700
TZOFFSETTO:-0800
TZNAME:PST
DTSTART:20171105T090000
END:STANDARD
BEGIN:DAYLIGHT
TZOFFSETFROM:-0800
TZOFFSETTO:-0700
TZNAME:PDT
DTSTART:20180311T100000
END:DAYLIGHT
BEGIN:STANDARD
TZOFFSETFROM:-0700
TZOFFSETTO:-0800
TZNAME:PST
DTSTART:20181104T090000
END:STANDARD
BEGIN:DAYLIGHT
TZOFFSETFROM:-0800
TZOFFSETTO:-0700
TZNAME:PDT
DTSTART:20190310T100000
END:DAYLIGHT
BEGIN:STANDARD
TZOFFSETFROM:-0700
TZOFFSETTO:-0800
TZNAME:PST
DTSTART:20191103T090000
END:STANDARD
END:VTIMEZONE
BEGIN:VEVENT
DTSTART;TZID=America/Los_Angeles:20180326T090000
DTEND;TZID=America/Los_Angeles:20180326T110000
DTSTAMP:20260423T064020
CREATED:20180308T185917Z
LAST-MODIFIED:20180308T190015Z
UID:12796-1522054800-1522062000@www.celinescuisine.com
SUMMARY:Kids Sweet Dessert- Spring Break camp (3/26-3/29)
DESCRIPTION:MONDAY to THURSDAY- 4 -days \n9-11 am \n  \nDuring Spring Break get your kids out of the house and into our kitchen! This sweet baking camp ( new menu) is a fun and creative way to give your kids the opportunity to learn about baking from scratch\, unique\ndesserts. Sample menu ( subject to change without notice) : sun chocolate tart\, duo chocolate marble cake\,berries crumble\, tarte fine aux pommes (French thin apple tart)…\nClosed toed shoes and tight up hair are required. Please let staff know of any food allergies or special diets –\nno ingredients substation. Participant with very mild allergies can participate not severe.
URL:https://www.celinescuisine.com/events/kids-sweet-dessert/
LOCATION:Virtual Murrieta Community Center\, 41810 Juniper st\, Murrieta\, 92562\, United States
END:VEVENT
BEGIN:VEVENT
DTSTART;TZID=America/Los_Angeles:20180326T111500
DTEND;TZID=America/Los_Angeles:20180326T131500
DTSTAMP:20260423T064020
CREATED:20180308T204609Z
LAST-MODIFIED:20180308T204609Z
UID:12802-1522062900-1522070100@www.celinescuisine.com
SUMMARY:KIDS CULINARY CAMP (Spring Break) - 3/26 to 3/29- Session 2
DESCRIPTION:Monday to Thursday- 4 days \n  \n11:15 am to 1: 15 pm \n  \nDuring Spring Break get your kids out of the house and into our kitchen! This camp offers a new menu for little\nchefs who wants fun in the kitchen! Cooking is a creative way to give your kids the opportunity to learn\nabout cooking from scratch\, discovering new flavors and taste. Sample menu ( subject to change without\nnotice) : Italian tart\, colorful Bruschetta\, \, savory waffles\, sweet potatoes baked fries with homemade dip…\nClosed toed shoes and tight up hair are required. Please let staff know of any food allergies or special diets \n 
URL:https://www.celinescuisine.com/events/kids-culinary-camp-spring-break-3-26-to-3-29-session-2/
LOCATION:Virtual Murrieta Community Center\, 41810 Juniper st\, Murrieta\, 92562\, United States
ATTACH;FMTTYPE=image/jpeg:https://www.celinescuisine.com/wp-content/uploads/2016/05/photo-1-6-scaled.jpg
END:VEVENT
BEGIN:VEVENT
DTSTART;TZID=America/Los_Angeles:20180326T140000
DTEND;TZID=America/Los_Angeles:20180326T160000
DTSTAMP:20260423T064020
CREATED:20180120T013654Z
LAST-MODIFIED:20180308T184810Z
UID:12651-1522072800-1522080000@www.celinescuisine.com
SUMMARY:KIDS CULINARY CAMP (Spring Break) - 3/26 to 3/29
DESCRIPTION:Monday to Thursday- 4 days \n  \n2-4 pm \n  \nDuring Spring Break get your kids out of the house and into our kitchen! This camp offers a new menu for little\nchefs who wants fun in the kitchen! Cooking is a creative way to give your kids the opportunity to learn\nabout cooking from scratch\, discovering new flavors and taste. Sample menu ( subject to change without\nnotice) : Italian tart\, colorful Bruschetta\, \, savory waffles\, sweet potatoes baked fries with homemade dip…\nClosed toed shoes and tight up hair are required. Please let staff know of any food allergies or special diets
URL:https://www.celinescuisine.com/events/kids-culinary-camp-spring-break-3-26-to-3-29/
LOCATION:Murrieta Community Center\, Juniper street\, murrieta\, 92562\, United States
ATTACH;FMTTYPE=image/jpeg:https://www.celinescuisine.com/wp-content/uploads/2017/11/IMG_1015-e1516412181713.jpg
END:VEVENT
END:VCALENDAR