BEGIN:VCALENDAR
VERSION:2.0
PRODID:-// - ECPv6.15.20//NONSGML v1.0//EN
CALSCALE:GREGORIAN
METHOD:PUBLISH
X-ORIGINAL-URL:https://www.celinescuisine.com
X-WR-CALDESC:Events for 
REFRESH-INTERVAL;VALUE=DURATION:PT1H
X-Robots-Tag:noindex
X-PUBLISHED-TTL:PT1H
BEGIN:VTIMEZONE
TZID:America/Los_Angeles
BEGIN:DAYLIGHT
TZOFFSETFROM:-0800
TZOFFSETTO:-0700
TZNAME:PDT
DTSTART:20170312T100000
END:DAYLIGHT
BEGIN:STANDARD
TZOFFSETFROM:-0700
TZOFFSETTO:-0800
TZNAME:PST
DTSTART:20171105T090000
END:STANDARD
BEGIN:DAYLIGHT
TZOFFSETFROM:-0800
TZOFFSETTO:-0700
TZNAME:PDT
DTSTART:20180311T100000
END:DAYLIGHT
BEGIN:STANDARD
TZOFFSETFROM:-0700
TZOFFSETTO:-0800
TZNAME:PST
DTSTART:20181104T090000
END:STANDARD
BEGIN:DAYLIGHT
TZOFFSETFROM:-0800
TZOFFSETTO:-0700
TZNAME:PDT
DTSTART:20190310T100000
END:DAYLIGHT
BEGIN:STANDARD
TZOFFSETFROM:-0700
TZOFFSETTO:-0800
TZNAME:PST
DTSTART:20191103T090000
END:STANDARD
END:VTIMEZONE
BEGIN:VEVENT
DTSTART;TZID=America/Los_Angeles:20180402T090000
DTEND;TZID=America/Los_Angeles:20180402T110000
DTSTAMP:20260423T064054
CREATED:20180306T210714Z
LAST-MODIFIED:20180306T210714Z
UID:12742-1522659600-1522666800@www.celinescuisine.com
SUMMARY:DESSERTS AROUND THE WORLD  -Fm 4/2 to 4/5 2018-4 days
DESCRIPTION:This camp starts on  Monday April 2\,  2018 / day 1 and ends on Thursday April 4\, 2018 / 4-day camp \nMenu : Japanese roll cake\, cream puff\, muffins\, scones\, chocolate lava cake \n\nApril 2- April 5 9- 11 am\n6-14 years old\n\n  \n  \n 
URL:https://www.celinescuisine.com/events/desserts-around-the-world-fm-4-2-to-4-5-2018-4-days/
LOCATION:TCC 28816 Pujol Street Temecula\, 28816 Pujol Street Temecula\, TEMECULA\, CA\, 92590\, United States
END:VEVENT
BEGIN:VEVENT
DTSTART;TZID=America/Los_Angeles:20180402T113000
DTEND;TZID=America/Los_Angeles:20180402T133000
DTSTAMP:20260423T064054
CREATED:20180306T213547Z
LAST-MODIFIED:20180306T213547Z
UID:12767-1522668600-1522675800@www.celinescuisine.com
SUMMARY:CULINARY CAMP FOR KIDS - fm 4/2 to 4/5 - Temecula TCC 11:30 AM TO 1:30 PM
DESCRIPTION:This camp starts on Monday April 2\, 2018 until Thursday April 4\, 2018 \nfrom 11:30 am to 1: 30 pm \n  \nMenu: Fritata or quiche\, quesadillas\, paninis\, stuffed croissant and many more! \n\nApril 3- April 5 2-4 pm\n9-14 years old
URL:https://www.celinescuisine.com/events/culinary-camp-for-kids-fm-4-2-to-4-5-temecula-tcc-1130-am-to-130-pm/
LOCATION:TCC 28816 Pujol Street Temecula\, 28816 Pujol Street Temecula\, TEMECULA\, CA\, 92590\, United States
ATTACH;FMTTYPE=image/jpeg:https://www.celinescuisine.com/wp-content/uploads/2016/05/Petite-Chefs-1665.102-friedrice1.jpg
END:VEVENT
BEGIN:VEVENT
DTSTART;TZID=America/Los_Angeles:20180402T140000
DTEND;TZID=America/Los_Angeles:20180402T160000
DTSTAMP:20260423T064054
CREATED:20180306T215757Z
LAST-MODIFIED:20180306T215757Z
UID:12778-1522677600-1522684800@www.celinescuisine.com
SUMMARY:CUPCAKE WARS - fm 4/2 to 4/5 - 2-4 pm - Temecula
DESCRIPTION:DAY #2 – APRIL 3\, 2018 \n  \nThis camp starts on April 2 and ends on April 5\, 2018 – from 2-4 pm every day/4 days \nOne of the most popular camp in the Valley. While kids learn how to make their cupcake from scratch and decorate them . On the last day 2 teams compete again each other to become ” the Best Cupcake”. NB Every year TV show contact me and ask for the best of my student that could be in their TV show! \nWHEN : April 2- 5 April \nWHERE : TCC 28816 Pujol Street Temecula \nCOST: $ 99 \nAGE : 9-14 years old
URL:https://www.celinescuisine.com/events/cupcake-wars-fm-4-2-to-4-5-2-4-pm-temecula/
LOCATION:TCC 28816 Pujol Street Temecula\, 28816 Pujol Street Temecula\, TEMECULA\, CA\, 92590\, United States
ATTACH;FMTTYPE=image/jpeg:https://www.celinescuisine.com/wp-content/uploads/2018/03/CUPCAKES1650.2022-e1526608584534.jpg
END:VEVENT
END:VCALENDAR