BEGIN:VCALENDAR
VERSION:2.0
PRODID:-// - ECPv6.15.20//NONSGML v1.0//EN
CALSCALE:GREGORIAN
METHOD:PUBLISH
X-ORIGINAL-URL:https://www.celinescuisine.com
X-WR-CALDESC:Events for 
REFRESH-INTERVAL;VALUE=DURATION:PT1H
X-Robots-Tag:noindex
X-PUBLISHED-TTL:PT1H
BEGIN:VTIMEZONE
TZID:America/Los_Angeles
BEGIN:DAYLIGHT
TZOFFSETFROM:-0800
TZOFFSETTO:-0700
TZNAME:PDT
DTSTART:20170312T100000
END:DAYLIGHT
BEGIN:STANDARD
TZOFFSETFROM:-0700
TZOFFSETTO:-0800
TZNAME:PST
DTSTART:20171105T090000
END:STANDARD
BEGIN:DAYLIGHT
TZOFFSETFROM:-0800
TZOFFSETTO:-0700
TZNAME:PDT
DTSTART:20180311T100000
END:DAYLIGHT
BEGIN:STANDARD
TZOFFSETFROM:-0700
TZOFFSETTO:-0800
TZNAME:PST
DTSTART:20181104T090000
END:STANDARD
BEGIN:DAYLIGHT
TZOFFSETFROM:-0800
TZOFFSETTO:-0700
TZNAME:PDT
DTSTART:20190310T100000
END:DAYLIGHT
BEGIN:STANDARD
TZOFFSETFROM:-0700
TZOFFSETTO:-0800
TZNAME:PST
DTSTART:20191103T090000
END:STANDARD
END:VTIMEZONE
BEGIN:VEVENT
DTSTART;TZID=America/Los_Angeles:20180404T090000
DTEND;TZID=America/Los_Angeles:20180404T110000
DTSTAMP:20260423T064228
CREATED:20180306T211931Z
LAST-MODIFIED:20180306T211931Z
UID:12762-1522832400-1522839600@www.celinescuisine.com
SUMMARY:•	DESSERTS AROUND THE WORLD  -Fm 4/2 to 4/5 2018-4 days
DESCRIPTION:DAY #3 April 4\, 2018 – 9- 11 am \n  \n*This camp starts on  Monday April 2\,  2018 / day 1 and ends on Thursday April 4\, 2018 / 4-day camp \nMenu : Japanese roll cake\, cream puff\, muffins\, scones\, chocolate lava cake \n\nApril 2- April 5 9- 11 am\n\n6-14 years old
URL:https://www.celinescuisine.com/events/%e2%80%a2desserts-around-the-world-fm-4-2-to-4-5-2018-4-days-2/
LOCATION:TCC 28816 Pujol Street Temecula\, 28816 Pujol Street Temecula\, TEMECULA\, CA\, 92590\, United States
ATTACH;FMTTYPE=image/jpeg:https://www.celinescuisine.com/wp-content/uploads/2017/05/IMG_7470.jpg
END:VEVENT
BEGIN:VEVENT
DTSTART;TZID=America/Los_Angeles:20180404T113000
DTEND;TZID=America/Los_Angeles:20180404T133000
DTSTAMP:20260423T064228
CREATED:20180306T214836Z
LAST-MODIFIED:20180306T214836Z
UID:12771-1522841400-1522848600@www.celinescuisine.com
SUMMARY:CULINARY CAMP FOR KIDS - Fm 4/2 to 4/5 11:30 am to 1 : 30 pm - Temecula
DESCRIPTION:DAY # 2 – April 3\, 2018\nThis camp starts on April 2 and ends on April 5\, 4-day 11:30 am to 1 : 30 pm\n\n  \nMenu: Fritata or quiche\, quesadillas\, paninis\, stuffed croissant and many more! \n\nApril 2- April 5 2-4 pm\n9-14 years old
URL:https://www.celinescuisine.com/events/culinary-camp-for-kids-fm-4-2-to-4-5-1130-am-to-1-30-pm-temecula/
LOCATION:TCC 28816 Pujol Street Temecula\, 28816 Pujol Street Temecula\, TEMECULA\, CA\, 92590\, United States
ATTACH;FMTTYPE=image/jpeg:https://www.celinescuisine.com/wp-content/uploads/2017/12/saladjicama-e1554755549583.jpg
END:VEVENT
BEGIN:VEVENT
DTSTART;TZID=America/Los_Angeles:20180404T140000
DTEND;TZID=America/Los_Angeles:20180404T160000
DTSTAMP:20260423T064228
CREATED:20180306T220737Z
LAST-MODIFIED:20180306T220737Z
UID:12784-1522850400-1522857600@www.celinescuisine.com
SUMMARY:CUPCAKE WARS - fm 4/2-4/5 - 2-4 pm Temecula
DESCRIPTION:One of the most popular camp in the Valley. While kids learn how to make their cupcake from scratch and decorate them . On the last day 2 teams compete again each other to become ” the Best Cupcake”. NB Every year TV show contact me and ask for the best of my student that could be in their TV show! \nWHEN : April 2- 5 April \nWHERE : TCC 28816 Pujol Street Temecula \nCOST: $ 99 \nAGE : 6-13 years old
URL:https://www.celinescuisine.com/events/cupcake-wars-fm-4-2-4-5-2-4-pm-temecula/
LOCATION:TCC 28816 Pujol Street Temecula\, 28816 Pujol Street Temecula\, TEMECULA\, CA\, 92590\, United States
ATTACH;FMTTYPE=image/jpeg:https://www.celinescuisine.com/wp-content/uploads/2018/03/CUPCAKES1650.20212-e1551373807864.jpg
END:VEVENT
END:VCALENDAR