BEGIN:VCALENDAR
VERSION:2.0
PRODID:-// - ECPv6.15.20//NONSGML v1.0//EN
CALSCALE:GREGORIAN
METHOD:PUBLISH
X-ORIGINAL-URL:https://www.celinescuisine.com
X-WR-CALDESC:Events for 
REFRESH-INTERVAL;VALUE=DURATION:PT1H
X-Robots-Tag:noindex
X-PUBLISHED-TTL:PT1H
BEGIN:VTIMEZONE
TZID:America/Los_Angeles
BEGIN:DAYLIGHT
TZOFFSETFROM:-0800
TZOFFSETTO:-0700
TZNAME:PDT
DTSTART:20180311T100000
END:DAYLIGHT
BEGIN:STANDARD
TZOFFSETFROM:-0700
TZOFFSETTO:-0800
TZNAME:PST
DTSTART:20181104T090000
END:STANDARD
BEGIN:DAYLIGHT
TZOFFSETFROM:-0800
TZOFFSETTO:-0700
TZNAME:PDT
DTSTART:20190310T100000
END:DAYLIGHT
BEGIN:STANDARD
TZOFFSETFROM:-0700
TZOFFSETTO:-0800
TZNAME:PST
DTSTART:20191103T090000
END:STANDARD
BEGIN:DAYLIGHT
TZOFFSETFROM:-0800
TZOFFSETTO:-0700
TZNAME:PDT
DTSTART:20200308T100000
END:DAYLIGHT
BEGIN:STANDARD
TZOFFSETFROM:-0700
TZOFFSETTO:-0800
TZNAME:PST
DTSTART:20201101T090000
END:STANDARD
END:VTIMEZONE
BEGIN:VEVENT
DTSTART;TZID=America/Los_Angeles:20190603T083000
DTEND;TZID=America/Los_Angeles:20190606T103000
DTSTAMP:20260423T064326
CREATED:20190430T172344Z
LAST-MODIFIED:20190430T172940Z
UID:14107-1559550600-1559817000@www.celinescuisine.com
SUMMARY:# 0224.2A FRENCH PASTRIES CAMPS FOR KIDS -06/3-06/06
DESCRIPTION:Starts Monday 6/3 until Thursday 6/6 2019 \n  \nThis unique camp teaches kids and teens how to make amazing desserts. In this hands-on\, fun and interactive cooking camp students work together as a team during each step of the prep. Kids eat what they make. All levels are welcome. Note: A material fee of $15 is due and payable to the instructor at the first class meeting. \n  \nMENU: Napoleon\, fine French apple tart\, madeleines\, chocolate croissant ice cream\, French regional cookies
URL:https://www.celinescuisine.com/events/0224-2a-french-pastries-camps-for-kids-06-3-06-06-2019-06-06/
END:VEVENT
BEGIN:VEVENT
DTSTART;TZID=America/Los_Angeles:20190603T110000
DTEND;TZID=America/Los_Angeles:20190606T130000
DTSTAMP:20260423T064326
CREATED:20190430T175253Z
LAST-MODIFIED:20190430T175253Z
UID:14115-1559559600-1559826000@www.celinescuisine.com
SUMMARY:0195.2A  Jr. Master Chefs Camp
DESCRIPTION:Jun 3\, 2019 to Jun 6\, 2019 \n  \nEach Mon 11am to 1pm \nEach Tue 11am to 1pm \nEach Wed 11am to 1pm \nEach Thu 11am to 1pm \n  \nDuring this camp master chefs learn essential culinary concepts in sautéing\, roasting\, baking\, and other techniques all while creating delicious dishes that are eaten at the conclusion of each class. On the last day of camp chefs put their culinary tricks to the test as we put on a friendly competition. Teens with some basic cooking skills can join this camp. Note: A material fee of $15 is due and payable to the instructor at the first class meeting.
URL:https://www.celinescuisine.com/events/0195-2a-jr-master-chefs-camp/
LOCATION:Villegas Park/Ysmael Villegas Community Center 3091 Esperanza St. Riverside\, CA\, 92504\, 3091 Esperanza St.\, Riverside\, CA\, 92504\, california\, 92504\, United States
END:VEVENT
BEGIN:VEVENT
DTSTART;TZID=America/Los_Angeles:20190603T133000
DTEND;TZID=America/Los_Angeles:20190606T153000
DTSTAMP:20260423T064326
CREATED:20190430T173805Z
LAST-MODIFIED:20190501T002409Z
UID:14109-1559568600-1559835000@www.celinescuisine.com
SUMMARY:0240.2A Jr. Cupcake Wars & Food Imposters Camp
DESCRIPTION:Jun 3\, 2019 to Jun 6\, 2019Each Mon 1:30pm to 3:30pmEach Tue 1:30pm to 3:30pmEach Wed 1:30pm to 3:30pmEach Thu 1:30pm to 3:30pm\n\nDuring this camp kids and teens learn the basics of baking\, decorating and presenting their edible creations. Each day\, they work together as a team measuring\, mixing and sifting ingredients to create delicious and beautiful cupcakes. On the last day they put their new skills to the test as two teams compete against each other and we will juge the best creation! Note: A material fee of $15 is due and payable to the instructor at the first class meeting. \n  \n. As a new theme some cupcakes will be food imposters such as Chinese take out cupcake and hamburger cupcakes.
URL:https://www.celinescuisine.com/events/0240-2a-jr-cupcake-wars-food-imposters-camp/
LOCATION:Villegas Park/Ysmael Villegas Community Center 3091 Esperanza St. Riverside\, CA\, 92504\, 3091 Esperanza St.\, Riverside\, CA\, 92504\, california\, 92504\, United States
END:VEVENT
END:VCALENDAR