BEGIN:VCALENDAR
VERSION:2.0
PRODID:-// - ECPv6.15.20//NONSGML v1.0//EN
CALSCALE:GREGORIAN
METHOD:PUBLISH
X-ORIGINAL-URL:https://www.celinescuisine.com
X-WR-CALDESC:Events for 
REFRESH-INTERVAL;VALUE=DURATION:PT1H
X-Robots-Tag:noindex
X-PUBLISHED-TTL:PT1H
BEGIN:VTIMEZONE
TZID:America/Los_Angeles
BEGIN:DAYLIGHT
TZOFFSETFROM:-0800
TZOFFSETTO:-0700
TZNAME:PDT
DTSTART:20180311T100000
END:DAYLIGHT
BEGIN:STANDARD
TZOFFSETFROM:-0700
TZOFFSETTO:-0800
TZNAME:PST
DTSTART:20181104T090000
END:STANDARD
BEGIN:DAYLIGHT
TZOFFSETFROM:-0800
TZOFFSETTO:-0700
TZNAME:PDT
DTSTART:20190310T100000
END:DAYLIGHT
BEGIN:STANDARD
TZOFFSETFROM:-0700
TZOFFSETTO:-0800
TZNAME:PST
DTSTART:20191103T090000
END:STANDARD
BEGIN:DAYLIGHT
TZOFFSETFROM:-0800
TZOFFSETTO:-0700
TZNAME:PDT
DTSTART:20200308T100000
END:DAYLIGHT
BEGIN:STANDARD
TZOFFSETFROM:-0700
TZOFFSETTO:-0800
TZNAME:PST
DTSTART:20201101T090000
END:STANDARD
END:VTIMEZONE
BEGIN:VEVENT
DTSTART;TZID=America/Los_Angeles:20190722T090000
DTEND;TZID=America/Los_Angeles:20190725T230000
DTSTAMP:20260423T080723
CREATED:20190509T160432Z
LAST-MODIFIED:20190509T160432Z
UID:14173-1563786000-1564095600@www.celinescuisine.com
SUMMARY:KSCC 72019 Summer cooking camp
DESCRIPTION:During this summer get your kids outside the house and inside our kitchen! This unique culinary camp in the Valley offers a new menu and is a fun an creative way to give your kids an opportunity to learn about cooking from scratch discovering new ingredients and eating new things \n  \nMenu  ITALIAN FRITTATA\, SWEET POTATOES AND ZUCHINI FRIES\, QUESADILLA\, KALE PARMESAN CHIPS\, CHEESE PUFFS
URL:https://www.celinescuisine.com/events/kscc-72019-summer-cooking-camp/
LOCATION:Murrieta Community Center\, Juniper street\, murrieta\, 92562\, United States
CATEGORIES:Kids Baking and Culinary Camps ( Inland Empire and Temecula Valley),Murrieta Culinary camps,SUMMER COOKING - BAKINB CAMPS
END:VEVENT
BEGIN:VEVENT
DTSTART;TZID=America/Los_Angeles:20190722T113000
DTEND;TZID=America/Los_Angeles:20190725T133000
DTSTAMP:20260423T080723
CREATED:20190509T161257Z
LAST-MODIFIED:20190509T161257Z
UID:14176-1563795000-1564061400@www.celinescuisine.com
SUMMARY:ETC 72019  EVERYTHING CHOCOLATE
DESCRIPTION:During this summer break get your chil(dren) out of the house and inside our kitchen. This new chocoholic is a fun and creative way to give your child(ren) the opportunity to learn about baking from scratch and discovering new chocolate treats! \n  \nChocolate menu ( subject to change without notice) : snowflake pastry\, croissant profiterole\, brownies\, famous Levain NYC chocolate chip cookies\, chocolate banan paninis and more
URL:https://www.celinescuisine.com/events/etc-72019-everything-chocolate/
LOCATION:Murrieta Community Center\, Juniper street\, murrieta\, 92562\, United States
CATEGORIES:Kids Baking and Culinary Camps ( Inland Empire and Temecula Valley),Murrieta Culinary camps,SUMMER COOKING - BAKINB CAMPS
END:VEVENT
BEGIN:VEVENT
DTSTART;TZID=America/Los_Angeles:20190722T140000
DTEND;TZID=America/Los_Angeles:20190725T160000
DTSTAMP:20260423T080723
CREATED:20190509T161540Z
LAST-MODIFIED:20190509T161540Z
UID:14178-1563804000-1564070400@www.celinescuisine.com
SUMMARY:ETC  72019-2  EVERYTHING CHOCOLATE CAMP!
DESCRIPTION:During this summer break get your chil(dren) out of the house and inside our kitchen. This new chocoholic is a fun and creative way to give your child(ren) the opportunity to learn about baking from scratch and discovering new chocolate treats! \n  \nChocolate menu ( subject to change without notice) : snowflake pastry\, croissant profiterole\, brownies\, famous Levain NYC chocolate chip cookies\, chocolate banan paninis and more
URL:https://www.celinescuisine.com/events/etc-72019-2-everything-chocolate-camp/
LOCATION:Murrieta Community Center\, Juniper street\, murrieta\, 92562\, United States
CATEGORIES:Kids Baking and Culinary Camps ( Inland Empire and Temecula Valley),Murrieta Culinary camps,SUMMER COOKING - BAKINB CAMPS
END:VEVENT
BEGIN:VEVENT
DTSTART;TZID=America/Los_Angeles:20190722T153000
DTEND;TZID=America/Los_Angeles:20190725T173000
DTSTAMP:20260423T080723
CREATED:20190509T155615Z
LAST-MODIFIED:20190509T155701Z
UID:14170-1563809400-1564075800@www.celinescuisine.com
SUMMARY:1650.202  French Pastries and Desserts
DESCRIPTION:Make real french treats from a French born instructor! Camp will be like visiting a Parisian pastry shop with madeleine\, cream puff\, napoleon\, parisian almond croissant\, and french cookies \n  \nMenu : lemon madeleine\, cream strawberry napoleon\,  cream puffs filled with vanilla ice cram and topped with chocolate warm sauce\, cherry custard tart ( clafouti)f
URL:https://www.celinescuisine.com/events/1650-202-french-pastries-and-desserts/
LOCATION:TCC 28816 Pujol Street Temecula\, 28816 Pujol Street Temecula\, TEMECULA\, CA\, 92590\, United States
CATEGORIES:Kids Baking and Culinary Camps ( Inland Empire and Temecula Valley),SUMMER COOKING - BAKINB CAMPS,Temecula Culinary Camps
END:VEVENT
BEGIN:VEVENT
DTSTART;TZID=America/Los_Angeles:20190722T163000
DTEND;TZID=America/Los_Angeles:20190725T183000
DTSTAMP:20260423T080723
CREATED:20190509T161832Z
LAST-MODIFIED:20190509T161832Z
UID:14180-1563813000-1564079400@www.celinescuisine.com
SUMMARY:KSCC  72019-2
DESCRIPTION:During this summer get your kids outside the house and inside our kitchen! This unique culinary camp in the Valley offers a new menu and is a fun an creative way to give your kids an opportunity to learn about cooking from scratch discovering new ingredients and eating new things \n  \nMenu  ITALIAN FRITTATA\, SWEET POTATOES AND ZUCHINI FRIES\, QUESADILLA\, KALE PARMESAN CHIPS\, CHEESE PUFFS
URL:https://www.celinescuisine.com/events/kscc-72019-2/
LOCATION:Murrieta Community Center\, Juniper street\, murrieta\, 92562\, United States
CATEGORIES:Kids Baking and Culinary Camps ( Inland Empire and Temecula Valley),Murrieta Culinary camps,Riverside cooking camps,SUMMER COOKING - BAKINB CAMPS,Temecula Culinary Camps
END:VEVENT
END:VCALENDAR