BEGIN:VCALENDAR
VERSION:2.0
PRODID:-// - ECPv6.15.20//NONSGML v1.0//EN
CALSCALE:GREGORIAN
METHOD:PUBLISH
X-ORIGINAL-URL:https://www.celinescuisine.com
X-WR-CALDESC:Events for 
REFRESH-INTERVAL;VALUE=DURATION:PT1H
X-Robots-Tag:noindex
X-PUBLISHED-TTL:PT1H
BEGIN:VTIMEZONE
TZID:America/Los_Angeles
BEGIN:DAYLIGHT
TZOFFSETFROM:-0800
TZOFFSETTO:-0700
TZNAME:PDT
DTSTART:20190310T100000
END:DAYLIGHT
BEGIN:STANDARD
TZOFFSETFROM:-0700
TZOFFSETTO:-0800
TZNAME:PST
DTSTART:20191103T090000
END:STANDARD
BEGIN:DAYLIGHT
TZOFFSETFROM:-0800
TZOFFSETTO:-0700
TZNAME:PDT
DTSTART:20200308T100000
END:DAYLIGHT
BEGIN:STANDARD
TZOFFSETFROM:-0700
TZOFFSETTO:-0800
TZNAME:PST
DTSTART:20201101T090000
END:STANDARD
BEGIN:DAYLIGHT
TZOFFSETFROM:-0800
TZOFFSETTO:-0700
TZNAME:PDT
DTSTART:20210314T100000
END:DAYLIGHT
BEGIN:STANDARD
TZOFFSETFROM:-0700
TZOFFSETTO:-0800
TZNAME:PST
DTSTART:20211107T090000
END:STANDARD
END:VTIMEZONE
BEGIN:VEVENT
DTSTART;TZID=America/Los_Angeles:20200601T093000
DTEND;TZID=America/Los_Angeles:20200601T110000
DTSTAMP:20260423T121459
CREATED:20200519T204809Z
LAST-MODIFIED:20200519T204809Z
UID:14761-1591003800-1591009200@www.celinescuisine.com
SUMMARY:RIVERSIDE. 9:30-11 AM online Italian cooking class for kids
DESCRIPTION:  \nClass Title                                                                        Italian cooking for kids \nAge                                                                                   6-15 \nSchedule Meeting Times                               9:30- 11 am \nDuration                                                                          1.5 hours \nNumber of Classes in Session                                     1 \nDates                                                                                Monday June 1st \n  \nPrice                                                                                 $ 15 \n  \nClass description                                                            During this fun and interactive cooking class participants will make some easy cooking that they will be proud to share with their family. Recipe includes some ingredients measurement\, mixing\,chopping soft fruits or veggies\, cleaning\, eggs to crack… Adult supervision is requested when using oven and if participant is not independent in the kitchen \nMenu Italian bruschetta’s and chocolate crescent \nMinimum / maximum   minimum 4/ maximum 15 \n  \ningredients to buy :  1 French or Italian bread\, olive oil\, 3 garlic cloves\, 4-5 tomatoes\, fresh basil\, 1 cup grated cheese\, salt. 1 package crescent dough/ rolls ( fridge section)\, any type chocolate chips white\, milk or semi sweet ( 1 cup) \, 1  egg \n– Materiel cutting board\, small knife\, pastry brush or paper towel\, baking sheets (2)\, parchment paper \, bowls \n  \n  \n 
URL:https://www.celinescuisine.com/events/riverside-930-11-am-online-italian-cooking-class-for-kids/
LOCATION:On Line Virtual class\, zoom.com\, CA
CATEGORIES:online virtual classes
END:VEVENT
BEGIN:VEVENT
DTSTART;TZID=America/Los_Angeles:20200601T120000
DTEND;TZID=America/Los_Angeles:20200601T133000
DTSTAMP:20260423T121459
CREATED:20200519T212100Z
LAST-MODIFIED:20200519T212100Z
UID:14765-1591012800-1591018200@www.celinescuisine.com
SUMMARY:RIVERSIDE - 12 AM-1:30 PM. All chocolate baking class for kids
DESCRIPTION:RIVERSIDE \n  \nClass Title                                                                        All chocolate  baking class for kids  \nAge                                                                                   6-15 \nSchedule Meeting Times                               12 :00 – 1:30 pm- \nDuration                                                                          1.5 hours \nNumber of Classes in Session                                     1 \nDates                                                                                Monday June 1st \n  \nPrice                                                                                 $ 15 \n  \nClass description                                                            During this fun and interactive baking class participants will make some easy baking that they will be proud to share with their family. Basic baking skills : how to crack egg\,  mix\, wisk\, measurement … Adult supervision is requested when using oven and if participant is not independent in the kitchen \nMENU  chocolate lava cake & strawberry covered with chocolate \nMinimum / maximum   minimum 4/ maximum 15 \nIngredients to buy/ get \n\n6 ounces semi-sweet baking chocolate\n3 eggs\n1/4 cup granulated sugar\n6 ounces butter\, room temperature & diced\n1/3 cup flour\nPowdered sugar\nButter for ramekins\n1 package strawberries\nChocolate chips semi sweet\n\n  \ningredients to buy :  – Materiel cutting board\, small knife\, pastry brush or paper towel\, bowls\, wisk \, spatula\, individual ceramic or glass ramekins\, 9” pie  pan \, glass bowl \n  \n  \n 
URL:https://www.celinescuisine.com/events/riverside-12-am-130-pm-all-chocolate-baking-class-for-kids/
LOCATION:CA
CATEGORIES:online virtual classes
END:VEVENT
BEGIN:VEVENT
DTSTART;TZID=America/Los_Angeles:20200601T173000
DTEND;TZID=America/Los_Angeles:20200601T190000
DTSTAMP:20260423T121459
CREATED:20200518T034059Z
LAST-MODIFIED:20200518T034304Z
UID:14732-1591032600-1591038000@www.celinescuisine.com
SUMMARY:MENIFEE - 5:30- 7pm Online victual cooking class for kids - stuffed bread & salad
DESCRIPTION:Class Title                                                                        Cooking class for kids \nAge                                                                                   7-15 \nSchedule Meeting Times                               5:30 – 7 pm \nDuration                                                                          1.5 hours \nNumber of Classes in Session                                     1 \nDates                                                                                Monday June 1st \n  \nPrice                                                                                 $ 12 \n  \nClass description                                                            During this 2 sessions cooking class for kids\, students will make some easy cooking. Adult supervision is recommended. Recipe includes basing measurement\, mixing\, cutting\, chopping soft fruits or veggies\, cleaning\, eggs to crack… \nMenu : Italian style  stuffed bread ( bread dough is made from scratch) and Salad with fresh strawberries and sweet dressing \n  \nMinimum / maximum   minimum 4/ maximum 15 \n  \nMateriel needed for May 27 – Ingredients to buy  all purpose flour\, plain yogurt\, olive oil\, tomatoes any type\, cheese any type Mozzarella works better (grated or whole)\, fresh basil\, garlic \, salt\, green mix or baby spinach\, strawberries\, honey\, lemon \nMaterial : cutting board\, knife\, bowls different size\, baking sheet\, parchment paper\, plastic wrap\, rolling pin\, drainer\, \n  \n  \n 
URL:https://www.celinescuisine.com/events/menifee-530-7pm-online-victual-cooking-class-for-kids-edible-craft-letsplay-with-fruits-and-veggies/
LOCATION:CA
CATEGORIES:online virtual classes
END:VEVENT
END:VCALENDAR