BEGIN:VCALENDAR
VERSION:2.0
PRODID:-// - ECPv6.15.20//NONSGML v1.0//EN
CALSCALE:GREGORIAN
METHOD:PUBLISH
X-ORIGINAL-URL:https://www.celinescuisine.com
X-WR-CALDESC:Events for 
REFRESH-INTERVAL;VALUE=DURATION:PT1H
X-Robots-Tag:noindex
X-PUBLISHED-TTL:PT1H
BEGIN:VTIMEZONE
TZID:America/Los_Angeles
BEGIN:DAYLIGHT
TZOFFSETFROM:-0800
TZOFFSETTO:-0700
TZNAME:PDT
DTSTART:20190310T100000
END:DAYLIGHT
BEGIN:STANDARD
TZOFFSETFROM:-0700
TZOFFSETTO:-0800
TZNAME:PST
DTSTART:20191103T090000
END:STANDARD
BEGIN:DAYLIGHT
TZOFFSETFROM:-0800
TZOFFSETTO:-0700
TZNAME:PDT
DTSTART:20200308T100000
END:DAYLIGHT
BEGIN:STANDARD
TZOFFSETFROM:-0700
TZOFFSETTO:-0800
TZNAME:PST
DTSTART:20201101T090000
END:STANDARD
BEGIN:DAYLIGHT
TZOFFSETFROM:-0800
TZOFFSETTO:-0700
TZNAME:PDT
DTSTART:20210314T100000
END:DAYLIGHT
BEGIN:STANDARD
TZOFFSETFROM:-0700
TZOFFSETTO:-0800
TZNAME:PST
DTSTART:20211107T090000
END:STANDARD
END:VTIMEZONE
BEGIN:VEVENT
DTSTART;TZID=America/Los_Angeles:20200603T173000
DTEND;TZID=America/Los_Angeles:20200603T190000
DTSTAMP:20260423T121535
CREATED:20200518T030238Z
LAST-MODIFIED:20200518T030351Z
UID:14729-1591205400-1591210800@www.celinescuisine.com
SUMMARY:MENIFEE - 5:30 - 7PM. Online virtual cooking class for kids : mini quiches &
DESCRIPTION:  \n \nClass Title                                                                        mini quiches and paninis cooking class for kids \nAge                                                                                   8 and up \nSchedule Meeting Times                               5:30 – 7 pm \nDuration                                                                          1.5 hours \nNumber of Classes in Session                                     1 \nDates                                                                                Wednesday  June 3rd \n  \nPrice                                                                                 $ 12 \n  \nClass description                                                            … \nDuring this fun and interactive cooking class participants will learn how to make French crepes from Celine French cooking instructor .  Perfect for parents and kids bonding and fun class \nMini quiches and paninis \nMinimum / maximum   minimum 4/ maximum 15 \n  \n  \nIngredients to buy/ get :eggs\, olive oil\, salt\, pepper\, sandwich bread\, butter at room temperature\, grated ham or turkey\, mozzarella  – \nQuiche toppings choice of: – tomatoes\, ham\, turkey\, bacon\, grated cheese\, spinach -\,   Note : topping must be pre cooked not raw \n  \nMaterial needed : bowls\, plastic wrap\, \, wisk\, wooden spoon\, \, cutting boards\, knifes\, large\, medium \, small size of bowls\, spatula\, parchment paper\, baking sheet\, muffin pans\,
URL:https://www.celinescuisine.com/events/menifee-530-7pm-online-virtual-cooking-class-for-kids-mini-quiches/
LOCATION:CA
CATEGORIES:online virtual classes
END:VEVENT
END:VCALENDAR