BEGIN:VCALENDAR
VERSION:2.0
PRODID:-// - ECPv6.15.20//NONSGML v1.0//EN
CALSCALE:GREGORIAN
METHOD:PUBLISH
X-ORIGINAL-URL:https://www.celinescuisine.com
X-WR-CALDESC:Events for 
REFRESH-INTERVAL;VALUE=DURATION:PT1H
X-Robots-Tag:noindex
X-PUBLISHED-TTL:PT1H
BEGIN:VTIMEZONE
TZID:America/Los_Angeles
BEGIN:DAYLIGHT
TZOFFSETFROM:-0800
TZOFFSETTO:-0700
TZNAME:PDT
DTSTART:20190310T100000
END:DAYLIGHT
BEGIN:STANDARD
TZOFFSETFROM:-0700
TZOFFSETTO:-0800
TZNAME:PST
DTSTART:20191103T090000
END:STANDARD
BEGIN:DAYLIGHT
TZOFFSETFROM:-0800
TZOFFSETTO:-0700
TZNAME:PDT
DTSTART:20200308T100000
END:DAYLIGHT
BEGIN:STANDARD
TZOFFSETFROM:-0700
TZOFFSETTO:-0800
TZNAME:PST
DTSTART:20201101T090000
END:STANDARD
BEGIN:DAYLIGHT
TZOFFSETFROM:-0800
TZOFFSETTO:-0700
TZNAME:PDT
DTSTART:20210314T100000
END:DAYLIGHT
BEGIN:STANDARD
TZOFFSETFROM:-0700
TZOFFSETTO:-0800
TZNAME:PST
DTSTART:20211107T090000
END:STANDARD
END:VTIMEZONE
BEGIN:VEVENT
DTSTART;TZID=America/Los_Angeles:20200611T093000
DTEND;TZID=America/Los_Angeles:20200611T110000
DTSTAMP:20260423T121305
CREATED:20200518T233227Z
LAST-MODIFIED:20200602T020421Z
UID:14747-1591867800-1591873200@www.celinescuisine.com
SUMMARY:RIVERSIDE - 9:30 AM - 11 AM - Online virtual classes for classes - 101 pastas
DESCRIPTION:  \n \nClass Title                                                                        Pasta 101 cooking class / advanced \nAge                                                                                   11 and up \nSchedule Meeting Times                               9:30- 11 am \nDuration                                                                          1.5 hours \nNumber of Classes in Session                                     1 \nDates                                                                                Thursday June 11th \n  \nPrice                                                                                 $ 15 \n  \nClass description                                                            … \nDuring this fun and interactive cooking class participants will discover a new country and some easy cooking that they will be proud to share with their family. Skills : measurement\, mixing\, chopping soft fruits or veggies\, cleaning\, eggs to crack… Adult supervision is requested when using oven and if participant is not independent in the kitchen \nHomemade pasta from scratch +  alfredo white sauce \nMinimum / maximum   minimum 4/ maximum 15 \n  \n  \nall-purpose flour \, 12 eggs\, olive oil\, salt\, milk\, grated cheese any kind\, butter \nMaterial needed : bowls\, plastic wrap\, large pot with lid\, strainer\, saucepan\, wisk\, wooden spoon
URL:https://www.celinescuisine.com/events/riverside-930-am-11-am-online-virtual-classes-for-classes-101-pastas/
LOCATION:CA
CATEGORIES:online virtual classes,Riverside online cooking class
END:VEVENT
BEGIN:VEVENT
DTSTART;TZID=America/Los_Angeles:20200611T120000
DTEND;TZID=America/Los_Angeles:20200611T133000
DTSTAMP:20260423T121305
CREATED:20200518T231303Z
LAST-MODIFIED:20200602T015853Z
UID:14743-1591876800-1591882200@www.celinescuisine.com
SUMMARY:RIVERSIDE - 12- 1:30 pm Online Virtual  British baking class for kids
DESCRIPTION:  \n \n  \n  \nClass Title                                                                      British baking class for kids \nAge                                                                                   7-15 \nSchedule Meeting Times                                           12:00 – 1;30 pm \nDuration                                                                         1.5 hours \nNumber of Classes in Session                                  1 \nDates                                                                               Thursday June 11th \n  \nPrice                                                                                $ 15 \n  \nClass description                                                         … \nDuring this fun and interactive baking class participants will discover a new country and some easy baked goods that they will be proud to share with their family. Skills : measurement\, mixing\, chopping soft fruits or veggies\, cleaning\, eggs to crack… Adult supervision is requested when using oven and if participant is not independent in the kitchen \nBerry and cream scones + Shortbread cookies \n  \nMinimum / maximum   minimum 4/ maximum 15 \n  \n  \nIngredients to buy / get : all-purpose flour \, sugar\, baking powder\, baking soda\, salt\, cold unsalted butter\,  2 cups strawberries or any fruit diced heavy cream \, 8 eggs \nMaterial needed : cutting board\, plastic or butter knife\, bowls\, Wisk\, parchment paper\, baking sheets (2)\, \, rolling pin\, pastry brush or paper towel
URL:https://www.celinescuisine.com/events/riverside-online-virtual-british-baking-class-for-kids/
LOCATION:On Line Virtual class\, zoom.com\, CA
CATEGORIES:online virtual classes
END:VEVENT
BEGIN:VEVENT
DTSTART;TZID=America/Los_Angeles:20200611T120000
DTEND;TZID=America/Los_Angeles:20200611T133000
DTSTAMP:20260423T121305
CREATED:20200519T210904Z
LAST-MODIFIED:20200602T020341Z
UID:14783-1591876800-1591882200@www.celinescuisine.com
SUMMARY:RIVERSIDE- Online French baking class for kids
DESCRIPTION:  \nClass Title                                                                        French baking class for kids \nAge                                                                                   6-15 \nSchedule Meeting Times                               12 :00 – 1:30 pm- \nDuration                                                                          1.5 hours \nNumber of Classes in Session                                     1 \nDates                                                                                Wednesday June 10th \n  \nPrice                                                                                 $ 15 \n  \nClass description                                                            During this fun and interactive baking class participants will make some easy baking that they will be proud to share with their family. Basic baking skills : how to crack egg\,  mix\, wisk\, measurement … Adult supervision is requested when using oven and if participant is not independent in the kitchen \nCream puff + langues de chat cookies / cat tongues \n  \nProfiteroles/ Cream puffs \nMakes 8-10 puffs \nFor the choux pastry \n\n1 cup (125 g) flour\n½ cup milk\n½ cup water\n2 tsp (10 g) sugar\n1/2 tsp salt\n5 1/2 tbsp butter\n4 eggs at room temperature\n\nVanilla mascarpone Cream \n\nMascarpone at room temperature\nCold cream\nPowder sugar\nVanilla extract\nBerries washed\nEgg white\nPowdered sugar\n\n  \ningredients to buy :  – Materiel cutting board\, small knife\, pastry brush or paper towel\, bowls\, wisk \, spatula\, parchment paper\, baking sheet 2\, cookie cutters ( any shape)\, glass bowl\, pastry bags or freezer bags \n 
URL:https://www.celinescuisine.com/events/riverside-online-french-cooking-class-for-kids/
LOCATION:On Line Virtual class\, zoom.com\, CA
CATEGORIES:online virtual classes
END:VEVENT
BEGIN:VEVENT
DTSTART;TZID=America/Los_Angeles:20200611T143000
DTEND;TZID=America/Los_Angeles:20200611T170000
DTSTAMP:20260423T121305
CREATED:20200518T211305Z
LAST-MODIFIED:20200602T020002Z
UID:14740-1591885800-1591894800@www.celinescuisine.com
SUMMARY:RIVERSIDE - 2-5 pm -2 sessions online virtual baking class : Introduction to French macarons
DESCRIPTION:  \nClass Title                                                                        BAKING CLASS ( advanced) FRENCH MACARONS \nAge                                                                                   10 and up \nSchedule Meeting Times                               2 :30– 5 pm- \nDuration                                                                          3 hours \nNumber of Classes in Session                                     2 \nDates                                                                                Thursday  June 4th  and Friday June 5th th \n  \nPrice                                                                                 $ 40 \n  \nClass description                                                            We are making French macarons! \n  \nChocolate macarons and berries macarons \n  \nIngredients  Almond flour\,icing sugar\, cream of tartar\, white egg\, \, cocoa powder\, chocolate chips (semi sweet)\, salt\, berries ( your favorite) sugar and lemon \n  \nMaterial piping- pastry bag\, parchment paper\, baking sheets\, spatula\, hand or stand mixer\, sifter\, large bowls\, medium and small bowls \n  \n  \n  \n  \n 
URL:https://www.celinescuisine.com/events/riverside-2-5-pm-2-sessions-online-virtual-baking-class-introduction-to-french-macarons/
LOCATION:On Line Virtual class\, zoom.com\, CA
CATEGORIES:online virtual classes
END:VEVENT
END:VCALENDAR