BEGIN:VCALENDAR
VERSION:2.0
PRODID:-// - ECPv6.15.20//NONSGML v1.0//EN
CALSCALE:GREGORIAN
METHOD:PUBLISH
X-ORIGINAL-URL:https://www.celinescuisine.com
X-WR-CALDESC:Events for 
REFRESH-INTERVAL;VALUE=DURATION:PT1H
X-Robots-Tag:noindex
X-PUBLISHED-TTL:PT1H
BEGIN:VTIMEZONE
TZID:America/Los_Angeles
BEGIN:DAYLIGHT
TZOFFSETFROM:-0800
TZOFFSETTO:-0700
TZNAME:PDT
DTSTART:20190310T100000
END:DAYLIGHT
BEGIN:STANDARD
TZOFFSETFROM:-0700
TZOFFSETTO:-0800
TZNAME:PST
DTSTART:20191103T090000
END:STANDARD
BEGIN:DAYLIGHT
TZOFFSETFROM:-0800
TZOFFSETTO:-0700
TZNAME:PDT
DTSTART:20200308T100000
END:DAYLIGHT
BEGIN:STANDARD
TZOFFSETFROM:-0700
TZOFFSETTO:-0800
TZNAME:PST
DTSTART:20201101T090000
END:STANDARD
BEGIN:DAYLIGHT
TZOFFSETFROM:-0800
TZOFFSETTO:-0700
TZNAME:PDT
DTSTART:20210314T100000
END:DAYLIGHT
BEGIN:STANDARD
TZOFFSETFROM:-0700
TZOFFSETTO:-0800
TZNAME:PST
DTSTART:20211107T090000
END:STANDARD
END:VTIMEZONE
BEGIN:VEVENT
DTSTART;TZID=America/Los_Angeles:20200612T093000
DTEND;TZID=America/Los_Angeles:20200612T110000
DTSTAMP:20260423T121534
CREATED:20200519T210623Z
LAST-MODIFIED:20200602T015357Z
UID:14781-1591954200-1591959600@www.celinescuisine.com
SUMMARY:RIVERSIDE . Online cooking class : I can cook!
DESCRIPTION:  \n \nClass Title                                                                        I can cook! class for kids \nAge                                                                                   7-14 \nSchedule Meeting Times                               9:30- 11 am \nDuration                                                                          1.5 hours \nNumber of Classes in Session                                     1 \nDates                                                                                Friday June 12th \n  \nPrice                                                                                 $ 15 \n  \nClass description                                                            … \nDuring this fun and interactive cooking class participants will discover how to make and create their own food. they will be proud to share with their family. Skills : measurement\, mixing\, chopping soft fruits or veggies\, cleaning\, eggs to crack… Adult supervision is requested when using oven and if participant is not independent in the kitchen \nMeatballs and  semi  homemade tomato sauce Garlic and herbs rolls  \n  \nMinimum / maximum   minimum 4/ maximum 15 \nIngredients 1 . 5 cup ground turkey\, 2 bread slices ( any bread)\, 3 clove garlic\,  1 bunch fresh herbs ( basil\, parsley…)\, 1 egg\, salt\, pepper\,  1\,  6 oz whole or diced  tomatoes canned\, ½ onion\, butter \n  \nMaterial needed : cutting board\, plastic or butter knife\, bowls\, Wisk\, parchment paper\, baking dish (2)\, bowls\, wooden spoon\, spatula
URL:https://www.celinescuisine.com/events/riverside-online-cooking-class-i-can-cook/
LOCATION:On Line Virtual class\, zoom.com\, CA
CATEGORIES:online virtual classes
END:VEVENT
BEGIN:VEVENT
DTSTART;TZID=America/Los_Angeles:20200612T123000
DTEND;TZID=America/Los_Angeles:20200612T133000
DTSTAMP:20260423T121534
CREATED:20200519T210256Z
LAST-MODIFIED:20200602T015314Z
UID:14779-1591965000-1591968600@www.celinescuisine.com
SUMMARY:RIVERSIDE 12:00- 1:30 PM. Online cooking class - Edible craft
DESCRIPTION:MENIFEE \n  \nClass Title                                                                        Edible craft  :let’splay with fruits and veggies! \nAge                                                                                   6-14 \nSchedule Meeting Times                               12-00 -1:30 pm \nDuration                                                                          1.5 hours \nNumber of Classes in Session                                     1 \nDates                                                                                Friday June 12th \n  \nPrice                                                                                 $ 15 \n  \nClass description                                                            During this fun and interactive baking class participants will make some fun fruits and veggies faces and shapes! So much fun no baking or cooking involved \n… Adult supervision is requested if participant is not independent in the kitchen \nWe will make fun fruits and veggies faces and shapes! So much fun no baking or cooking involved  \ningredients to buy  ;Banana\, semi sweet chocolate chips\, watermelon\, kiwi cucumber cherry tomato\, strawberries\, mini\, carrots\, white chocolate chips \ningredients to buy :  – Materiel cutting board\, small knife\, pastry brush or paper towel\, different size of bowls\, wisk \, spatula\, parchment paper\, glass bowl\, pastry bag or freezer bag\, mini cookie cutters \n  \n  \n  \n  \n 
URL:https://www.celinescuisine.com/events/riverside-200-330-pm-online-cooking-class-edible-craft/
LOCATION:On Line Virtual class\, zoom.com\, CA
END:VEVENT
BEGIN:VEVENT
DTSTART;TZID=America/Los_Angeles:20200612T140000
DTEND;TZID=America/Los_Angeles:20200612T170000
DTSTAMP:20260423T121534
CREATED:20200519T023120Z
LAST-MODIFIED:20200601T194530Z
UID:14756-1591970400-1591981200@www.celinescuisine.com
SUMMARY:RIVERSIDE – 2-5 pm -2 sessions online virtual baking class : Introduction to French macarons
DESCRIPTION:  \n  \n  \n  \nClass Title                                                                        BAKING CLASS ( advanced) FRENCH MACARONS \nAge                                                                                   10 and up \nSchedule Meeting Times                               2 – 5 pm- \nDuration                                                                          3 hours \nNumber of Classes in Session                                     2 \nDates                                                                                Thursday  June 4th  and friday June 5th th \n  \nPrice                                                                                 $ 40 \n  \nClass description                                                            We are making French macarons! \n  \nChocolate macarons and berries macarons \n  \nIngredients  Almond flour\,icing sugar\, cream of tartar\, white egg\, \, cocoa powder\, chocolate chips (semi sweet)\, salt\, berries ( your favorite) sugar and lemon \n  \nMaterial piping- pastry bag\, parchment paper\, baking sheets\, spatula\, hand or stand mixer\, sifter\, large bowls\, medium and small bowls \n  \n 
URL:https://www.celinescuisine.com/events/riverside-2-5-pm-2-sessions-online-virtual-baking-class-introduction-to-french-macarons-2/
LOCATION:CA
CATEGORIES:online virtual classes
END:VEVENT
END:VCALENDAR