BEGIN:VCALENDAR
VERSION:2.0
PRODID:-// - ECPv6.15.20//NONSGML v1.0//EN
CALSCALE:GREGORIAN
METHOD:PUBLISH
X-ORIGINAL-URL:https://www.celinescuisine.com
X-WR-CALDESC:Events for 
REFRESH-INTERVAL;VALUE=DURATION:PT1H
X-Robots-Tag:noindex
X-PUBLISHED-TTL:PT1H
BEGIN:VTIMEZONE
TZID:America/Los_Angeles
BEGIN:DAYLIGHT
TZOFFSETFROM:-0800
TZOFFSETTO:-0700
TZNAME:PDT
DTSTART:20190310T100000
END:DAYLIGHT
BEGIN:STANDARD
TZOFFSETFROM:-0700
TZOFFSETTO:-0800
TZNAME:PST
DTSTART:20191103T090000
END:STANDARD
BEGIN:DAYLIGHT
TZOFFSETFROM:-0800
TZOFFSETTO:-0700
TZNAME:PDT
DTSTART:20200308T100000
END:DAYLIGHT
BEGIN:STANDARD
TZOFFSETFROM:-0700
TZOFFSETTO:-0800
TZNAME:PST
DTSTART:20201101T090000
END:STANDARD
BEGIN:DAYLIGHT
TZOFFSETFROM:-0800
TZOFFSETTO:-0700
TZNAME:PDT
DTSTART:20210314T100000
END:DAYLIGHT
BEGIN:STANDARD
TZOFFSETFROM:-0700
TZOFFSETTO:-0800
TZNAME:PST
DTSTART:20211107T090000
END:STANDARD
END:VTIMEZONE
BEGIN:VEVENT
DTSTART;TZID=America/Los_Angeles:20200716T133000
DTEND;TZID=America/Los_Angeles:20200716T153000
DTSTAMP:20260423T134213
CREATED:20200709T184621Z
LAST-MODIFIED:20200712T231047Z
UID:14886-1594906200-1594913400@www.celinescuisine.com
SUMMARY:SUMMER DESSERT : Chocolate covered strawberry + fun chocolate banana popsickle
DESCRIPTION:  \nKids will love this class! \nPerfect for chocolate lovers! these sweet treats are so fun to make and eat of course. \nSuper pretty strawberries and chocolate banana popsicles \nIngredients \nChocolate covered banana popsicle \n\n4 medium ripe but firm bananas\n8 wooden craft sticks or small kebab sticks\n3 tablespoons finely chopped lightly salted peanuts or any nuts or seeds you like\nsprinkles\n6 ounces semi sweet or milk chocolate\n\nIMPORTANT NOTE – Peel\, then cut each banana in half crosswise and insert a craft stick into each half. Place on a tray\, cover with plastic wrap and place in the freezer until frozen\, about 3 hours.\n\n  \nChocolate covered strawberries \n\n6 ounces semi sweet or milk chocolate chips\n6 ounces white chocolate chips ( optional)\nFresh strawberries\n\n 
URL:https://www.celinescuisine.com/events/summer-dessert-chocolate-covered-strawberry-fun-chocolate-banana-popsickle/
LOCATION:On Line Virtual class\, zoom.com\, CA
END:VEVENT
END:VCALENDAR