BEGIN:VCALENDAR
VERSION:2.0
PRODID:-// - ECPv6.15.20//NONSGML v1.0//EN
CALSCALE:GREGORIAN
METHOD:PUBLISH
X-ORIGINAL-URL:https://www.celinescuisine.com
X-WR-CALDESC:Events for 
REFRESH-INTERVAL;VALUE=DURATION:PT1H
X-Robots-Tag:noindex
X-PUBLISHED-TTL:PT1H
BEGIN:VTIMEZONE
TZID:America/Los_Angeles
BEGIN:DAYLIGHT
TZOFFSETFROM:-0800
TZOFFSETTO:-0700
TZNAME:PDT
DTSTART:20190310T100000
END:DAYLIGHT
BEGIN:STANDARD
TZOFFSETFROM:-0700
TZOFFSETTO:-0800
TZNAME:PST
DTSTART:20191103T090000
END:STANDARD
BEGIN:DAYLIGHT
TZOFFSETFROM:-0800
TZOFFSETTO:-0700
TZNAME:PDT
DTSTART:20200308T100000
END:DAYLIGHT
BEGIN:STANDARD
TZOFFSETFROM:-0700
TZOFFSETTO:-0800
TZNAME:PST
DTSTART:20201101T090000
END:STANDARD
BEGIN:DAYLIGHT
TZOFFSETFROM:-0800
TZOFFSETTO:-0700
TZNAME:PDT
DTSTART:20210314T100000
END:DAYLIGHT
BEGIN:STANDARD
TZOFFSETFROM:-0700
TZOFFSETTO:-0800
TZNAME:PST
DTSTART:20211107T090000
END:STANDARD
END:VTIMEZONE
BEGIN:VEVENT
DTSTART;TZID=America/Los_Angeles:20200719T163000
DTEND;TZID=America/Los_Angeles:20200719T180000
DTSTAMP:20260423T134036
CREATED:20200720T023335Z
LAST-MODIFIED:20200720T030547Z
UID:14914-1595176200-1595181600@www.celinescuisine.com
SUMMARY:VIRTUAL ONLINE COOKING CLASS weeknight family cooking class : 101 pasta
DESCRIPTION:During this fun class learn how to make pasta from scratch. \n  \n  \n  \nAll purpose flour \neggs \nsalt \nolive oil \nwater \n  \nSauce of your choice \n  \nEquipment \nFork \nrolling pin or pasta maker \nlarge pot with lid \nstrainer \nsharp knife \n 
URL:https://www.celinescuisine.com/events/weeknight-family-cooking-class-101-pasta/
LOCATION:On Line Virtual class\, zoom.com\, CA
END:VEVENT
END:VCALENDAR