BEGIN:VCALENDAR
VERSION:2.0
PRODID:-// - ECPv6.15.20//NONSGML v1.0//EN
CALSCALE:GREGORIAN
METHOD:PUBLISH
X-ORIGINAL-URL:https://www.celinescuisine.com
X-WR-CALDESC:Events for 
REFRESH-INTERVAL;VALUE=DURATION:PT1H
X-Robots-Tag:noindex
X-PUBLISHED-TTL:PT1H
BEGIN:VTIMEZONE
TZID:America/Los_Angeles
BEGIN:DAYLIGHT
TZOFFSETFROM:-0800
TZOFFSETTO:-0700
TZNAME:PDT
DTSTART:20190310T100000
END:DAYLIGHT
BEGIN:STANDARD
TZOFFSETFROM:-0700
TZOFFSETTO:-0800
TZNAME:PST
DTSTART:20191103T090000
END:STANDARD
BEGIN:DAYLIGHT
TZOFFSETFROM:-0800
TZOFFSETTO:-0700
TZNAME:PDT
DTSTART:20200308T100000
END:DAYLIGHT
BEGIN:STANDARD
TZOFFSETFROM:-0700
TZOFFSETTO:-0800
TZNAME:PST
DTSTART:20201101T090000
END:STANDARD
BEGIN:DAYLIGHT
TZOFFSETFROM:-0800
TZOFFSETTO:-0700
TZNAME:PDT
DTSTART:20210314T100000
END:DAYLIGHT
BEGIN:STANDARD
TZOFFSETFROM:-0700
TZOFFSETTO:-0800
TZNAME:PST
DTSTART:20211107T090000
END:STANDARD
END:VTIMEZONE
BEGIN:VEVENT
DTSTART;TZID=America/Los_Angeles:20200724T130000
DTEND;TZID=America/Los_Angeles:20200724T140000
DTSTAMP:20260423T134035
CREATED:20200720T025050Z
LAST-MODIFIED:20200720T025050Z
UID:14916-1595595600-1595599200@www.celinescuisine.com
SUMMARY:LIVE VIDEO ON INSTAGRAM: Summer Tomato tart your way!
DESCRIPTION:https://www.instagram.com/celinescuisine/ \n  \nIn order to watch my live cooking video you need to go on Instagram. \n  \nhttps://www.instagram.com/celinescuisine/ \n  \nLive videos apears in stories\, top of your phone screen or Ipad. \nSummer tomato tart your way! \nPuff pastry ( store bought – thawed) – I use Dufour brand or Pepperidge Farm brand- In frozen section with pies and frozen desserts. \nTomatoes  – any you have handy- you can use cherry\, heirloom\, roma \nSalt \nPepper \nFresh basil \nswiss cheese \nshallots \nDijon Mustard
URL:https://www.celinescuisine.com/events/live-video-on-instagram-summer-tomato-tart-your-way/
LOCATION:LIVE VIDEO ON INSTAGRAM\, CA
END:VEVENT
END:VCALENDAR