BEGIN:VCALENDAR
VERSION:2.0
PRODID:-// - ECPv6.15.20//NONSGML v1.0//EN
CALSCALE:GREGORIAN
METHOD:PUBLISH
X-ORIGINAL-URL:https://www.celinescuisine.com
X-WR-CALDESC:Events for 
REFRESH-INTERVAL;VALUE=DURATION:PT1H
X-Robots-Tag:noindex
X-PUBLISHED-TTL:PT1H
BEGIN:VTIMEZONE
TZID:America/Los_Angeles
BEGIN:DAYLIGHT
TZOFFSETFROM:-0800
TZOFFSETTO:-0700
TZNAME:PDT
DTSTART:20190310T100000
END:DAYLIGHT
BEGIN:STANDARD
TZOFFSETFROM:-0700
TZOFFSETTO:-0800
TZNAME:PST
DTSTART:20191103T090000
END:STANDARD
BEGIN:DAYLIGHT
TZOFFSETFROM:-0800
TZOFFSETTO:-0700
TZNAME:PDT
DTSTART:20200308T100000
END:DAYLIGHT
BEGIN:STANDARD
TZOFFSETFROM:-0700
TZOFFSETTO:-0800
TZNAME:PST
DTSTART:20201101T090000
END:STANDARD
BEGIN:DAYLIGHT
TZOFFSETFROM:-0800
TZOFFSETTO:-0700
TZNAME:PDT
DTSTART:20210314T100000
END:DAYLIGHT
BEGIN:STANDARD
TZOFFSETFROM:-0700
TZOFFSETTO:-0800
TZNAME:PST
DTSTART:20211107T090000
END:STANDARD
END:VTIMEZONE
BEGIN:VEVENT
DTSTART;TZID=America/Los_Angeles:20200818T113000
DTEND;TZID=America/Los_Angeles:20200818T130000
DTSTAMP:20260423T150044
CREATED:20200801T022852Z
LAST-MODIFIED:20200801T022852Z
UID:14944-1597750200-1597755600@www.celinescuisine.com
SUMMARY:MENIFEE CA VIRTUAL COOKING CLASS FOR KIDS
DESCRIPTION:PLEASE REGISTER ON LINE VIA THE  CITY OF MENIFEE\, PLEASE CLICK ON \nhttps://apps.dashplatform.com/dash/index.php?Action=ProgramFinder/index&leagueID=510&cid=menifee&company=menifee&facilityID=1&seasonID=158 \nMenu:  Chicken nuggets and Zucchini fries  \nDescription :  If your child(ren) love to watch Food Tv shows and what to help in the kitchen\, they may want to join this very easy and delicious  virtual cooking class. No need cooking experience\, all levels are welcome.  The menu is so yummy ! Your children will be proud when sharing the food they made during the class for their family. \nNote : Parents need to assist and help their child( ren) during the entire class. \nClass schedule \nAugust 18th 2020 \n11:30 am  – 1 PM     for kids \nAGE : 7 – 14 years old \nCOOKING CLASS FOR KIDS \nMIM 5 MAX 10 \nClass fee $15 per participant \n  \nIngredients \nPanko crusted chicken nuggets \n4 servings \n\n2 medium/ large skineless boneless chicken breast\n2 tsp olive oil\n6 Tbsp breadcrumbs or Panko\n2 Tbsp flour\n2 eggs beaten\nOlive oil spray\nExtra oil\nGarlic powder\nOnion powder\nSeasoning mix\nSalt\nbaking sheet / oil spray or vegetable or olive oil/ Large bowl/ medium bowls (3)\, cutting boards\, knifes\,\n\n  \nZucchini Fries \n4 servings \n\n4 medium zucchini\n2 tsp olive oil\n6 Tbsp breadcrumbs or Panko\n2 Tbsp flour\n2 eggs beaten\nOlive oil spray\nExtra oil\nGarlic powder\nOnion powder\nSeasoning mix\nSalt\nbaking sheet / oil spray or vegetable or olive oil/ Large bowl/ medium bowls (3)\, cutting boards\, knifes\,\n\n\n 
URL:https://www.celinescuisine.com/events/menifee-ca-virtual-cooking-class-for-kids-2/
LOCATION:MENIFEE VIRTUAL COOKING CLASS\, CA
END:VEVENT
BEGIN:VEVENT
DTSTART;TZID=America/Los_Angeles:20200818T193000
DTEND;TZID=America/Los_Angeles:20200818T193000
DTSTAMP:20260423T150044
CREATED:20200801T022447Z
LAST-MODIFIED:20200801T022447Z
UID:14942-1597779000-1597779000@www.celinescuisine.com
SUMMARY:MENIFEE CA\, VIRTUAL COOKING CLASS FOR ADULTS
DESCRIPTION:  \nPLEASE REGISTER ON LINE VIA THE CITY OF MENIFEE\, CLICK HERE  \nMenu:  ITALIAN DINNER FOR ADULTS Chicken picatta with angel hair \nDescription : Craving for Italian food ? Here is the perfect opportunity to learn a new dish\,  delicious\, satisfaying\, and so easy to make. No need to travel to Italy or go to restaurant. Learn how to expand you cooking repertoire and palate with Celine and enjoy a virtual cooking class in the comfort of your own kitchen! \nClass schedule \nAugust 18th 2020 \n5:30 – 7 PM     for adults  \nCOOKING CLASS \nMIM 5 MAX 10 \nClass fee $15 per participant \n  \nIngredients \n  \nChicken picata with Garlic butter angel hair \n  \n\n2 skinless and boneless chicken breasts\, butterflied and then cut in half\nSea salt and freshly ground black pepper\nAll-purpose flour\, for dredging\n6 tablespoons unsalted butter\n5 tablespoons extra-virgin olive oil\n1/3 cup fresh lemon juice\n1/2 cup chicken stock\n1/4 cup brined capers\, rinsed\n1/3 cup fresh parsley\, chopped\n\n  \nAngel hair ingredients \n1 Package angel hair \n2-3 garlic cloves \nButter \nOlive oil \nSalt \npepper \n  \nKitchen equipment \n  \nLarge bowls  .Cutting boards\, Large skillet\, soup pot or pasta pot with lid\,strainer/ drainer \, garlic press -optional \n 
URL:https://www.celinescuisine.com/events/menifee-ca-virtual-cooking-class-for-adults/
LOCATION:MENIFEE VIRTUAL COOKING CLASS\, CA
END:VEVENT
END:VCALENDAR