BEGIN:VCALENDAR
VERSION:2.0
PRODID:-// - ECPv6.15.20//NONSGML v1.0//EN
CALSCALE:GREGORIAN
METHOD:PUBLISH
X-ORIGINAL-URL:https://www.celinescuisine.com
X-WR-CALDESC:Events for 
REFRESH-INTERVAL;VALUE=DURATION:PT1H
X-Robots-Tag:noindex
X-PUBLISHED-TTL:PT1H
BEGIN:VTIMEZONE
TZID:America/Los_Angeles
BEGIN:DAYLIGHT
TZOFFSETFROM:-0800
TZOFFSETTO:-0700
TZNAME:PDT
DTSTART:20190310T100000
END:DAYLIGHT
BEGIN:STANDARD
TZOFFSETFROM:-0700
TZOFFSETTO:-0800
TZNAME:PST
DTSTART:20191103T090000
END:STANDARD
BEGIN:DAYLIGHT
TZOFFSETFROM:-0800
TZOFFSETTO:-0700
TZNAME:PDT
DTSTART:20200308T100000
END:DAYLIGHT
BEGIN:STANDARD
TZOFFSETFROM:-0700
TZOFFSETTO:-0800
TZNAME:PST
DTSTART:20201101T090000
END:STANDARD
BEGIN:DAYLIGHT
TZOFFSETFROM:-0800
TZOFFSETTO:-0700
TZNAME:PDT
DTSTART:20210314T100000
END:DAYLIGHT
BEGIN:STANDARD
TZOFFSETFROM:-0700
TZOFFSETTO:-0800
TZNAME:PST
DTSTART:20211107T090000
END:STANDARD
END:VTIMEZONE
BEGIN:VEVENT
DTSTART;TZID=America/Los_Angeles:20200825T163000
DTEND;TZID=America/Los_Angeles:20200825T180000
DTSTAMP:20260423T150108
CREATED:20200801T021941Z
LAST-MODIFIED:20200801T021941Z
UID:14940-1598373000-1598378400@www.celinescuisine.com
SUMMARY:MENIFEE CA\, VIRTUAL CLASS FOR FAMILY -child/parents
DESCRIPTION:  \n PLEASE REGISTER ON LINE VIA THE CITY OF MENIFEE \, CLICK ON https://apps.dashplatform.com/dash/index.php?Action=ProgramFinder/index&leagueID=510&cid=menifee&company=menifee&facilityID=1&seasonID=158 \nMenu:  SUMMER PEACH COBLER \nDescription :  Learn how to make from scratch of of the best summer dessert : Peach cobbler. No baking experience needed. All level are welcome. This class is perfect for families  who want to have fun and bond together while making hands-on dessert. \nClass schedule \nAugust 25th 2020 \n4:30   – 6 Pm      \nAGE : 6 years old and up \nBAKING CLASS FOR KIDS AND ADULTS \nMIM 5 MAX 10 \nClass fee $15 per participant \nPeach cobbler  \n\n6-7 fresh peaches\n¾ cup sugar\n1lemon zested + juiced\n1 tbsp cornstarch\n1 tsp vanilla extract\n1 cup sugar\n1 cup flour\n2 tsp Baking powder\n1/4 tsp sea salt\n6 Tbsp unsalted butter\n1 cup half half or heavy cream mixed with milk or plain milk\nVanilla ice cream – optional\n\n  \n  \nLarge pot / bowls/ spoons/ measuring spoons – cups – baking dish- cutting board \n 
URL:https://www.celinescuisine.com/events/menifee-ca-virtual-class-for-family-child-parents/
LOCATION:MENIFEE VIRTUAL COOKING CLASS\, CA
END:VEVENT
END:VCALENDAR