BEGIN:VCALENDAR
VERSION:2.0
PRODID:-// - ECPv6.15.20//NONSGML v1.0//EN
CALSCALE:GREGORIAN
METHOD:PUBLISH
X-ORIGINAL-URL:https://www.celinescuisine.com
X-WR-CALDESC:Events for 
REFRESH-INTERVAL;VALUE=DURATION:PT1H
X-Robots-Tag:noindex
X-PUBLISHED-TTL:PT1H
BEGIN:VTIMEZONE
TZID:America/Los_Angeles
BEGIN:DAYLIGHT
TZOFFSETFROM:-0800
TZOFFSETTO:-0700
TZNAME:PDT
DTSTART:20190310T100000
END:DAYLIGHT
BEGIN:STANDARD
TZOFFSETFROM:-0700
TZOFFSETTO:-0800
TZNAME:PST
DTSTART:20191103T090000
END:STANDARD
BEGIN:DAYLIGHT
TZOFFSETFROM:-0800
TZOFFSETTO:-0700
TZNAME:PDT
DTSTART:20200308T100000
END:DAYLIGHT
BEGIN:STANDARD
TZOFFSETFROM:-0700
TZOFFSETTO:-0800
TZNAME:PST
DTSTART:20201101T090000
END:STANDARD
BEGIN:DAYLIGHT
TZOFFSETFROM:-0800
TZOFFSETTO:-0700
TZNAME:PDT
DTSTART:20210314T100000
END:DAYLIGHT
BEGIN:STANDARD
TZOFFSETFROM:-0700
TZOFFSETTO:-0800
TZNAME:PST
DTSTART:20211107T090000
END:STANDARD
END:VTIMEZONE
BEGIN:VEVENT
DTSTART;TZID=America/Los_Angeles:20200915T153000
DTEND;TZID=America/Los_Angeles:20200915T163000
DTSTAMP:20260423T161338
CREATED:20200909T172204Z
LAST-MODIFIED:20200909T172204Z
UID:15034-1600183800-1600187400@www.celinescuisine.com
SUMMARY:Virtual cooking class for kids - Menifee CSD
DESCRIPTION:In Celine’s Cuisine Cooking classes for kids\, children will learn how to measure\, chop\, peel\, weigh\, and mix all the ingredients required to make delicious food.  During cooking classes new savory dishes with new flavors and ingredients are introduced to kids while learning easy cooking they can replicate at home under an adult supervision. All students get to eat everything they make in class! This class is a fantastic way for aspiring young chefs. Any level of experience is welcome! No substitute diet or ingredients during these classes. \nVirtual Easy cooking class for Kids: Apple Turnovers\nDate: September 15th\, Tuesday\nTime: 3:30pm – 4:30 pm\nAges: 6-12\nPrices: $27 (Resident) / $32.40 (Non-Resident)\n**Ingredients needed will be in notes section below**
URL:https://www.celinescuisine.com/events/virtual-cooking-class-for-kids-menifee-csd/
LOCATION:On Line Virtual class\, zoom.com\, CA
CATEGORIES:online virtual classes
END:VEVENT
END:VCALENDAR