BEGIN:VCALENDAR
VERSION:2.0
PRODID:-// - ECPv6.15.20//NONSGML v1.0//EN
CALSCALE:GREGORIAN
METHOD:PUBLISH
X-ORIGINAL-URL:https://www.celinescuisine.com
X-WR-CALDESC:Events for 
REFRESH-INTERVAL;VALUE=DURATION:PT1H
X-Robots-Tag:noindex
X-PUBLISHED-TTL:PT1H
BEGIN:VTIMEZONE
TZID:America/Los_Angeles
BEGIN:DAYLIGHT
TZOFFSETFROM:-0800
TZOFFSETTO:-0700
TZNAME:PDT
DTSTART:20190310T100000
END:DAYLIGHT
BEGIN:STANDARD
TZOFFSETFROM:-0700
TZOFFSETTO:-0800
TZNAME:PST
DTSTART:20191103T090000
END:STANDARD
BEGIN:DAYLIGHT
TZOFFSETFROM:-0800
TZOFFSETTO:-0700
TZNAME:PDT
DTSTART:20200308T100000
END:DAYLIGHT
BEGIN:STANDARD
TZOFFSETFROM:-0700
TZOFFSETTO:-0800
TZNAME:PST
DTSTART:20201101T090000
END:STANDARD
BEGIN:DAYLIGHT
TZOFFSETFROM:-0800
TZOFFSETTO:-0700
TZNAME:PDT
DTSTART:20210314T100000
END:DAYLIGHT
BEGIN:STANDARD
TZOFFSETFROM:-0700
TZOFFSETTO:-0800
TZNAME:PST
DTSTART:20211107T090000
END:STANDARD
END:VTIMEZONE
BEGIN:VEVENT
DTSTART;TZID=America/Los_Angeles:20200921T153000
DTEND;TZID=America/Los_Angeles:20200921T170000
DTSTAMP:20260423T161539
CREATED:20200909T164119Z
LAST-MODIFIED:20200909T164119Z
UID:15030-1600702200-1600707600@www.celinescuisine.com
SUMMARY:Virtual cooking class for kids - Riverside CSD - 3 classes serie
DESCRIPTION:FROM SEP 14-28 2020 – 3 CLASSE \nDuring this new cooking series\, young chefs learn virtually how to make delicious food by themselves in the comfort of their own kitchen. For safety reasons\, help from an adult is required. All levels are welcome. Menu\, ingredients and equipment listed below. Virtual classroom log-in information located on receipt. \n  \n  \nMenu of 9/21/20 \nBacon\, and leek Mac and Cheese \nServing 6 \n\n8 slices Thick Cut Bacon\, cut in small pieces\n1 leek\, cleaned and diced zucchini\n6 Tbsp Butter\, divided\n½ – 1 cup mix shredded cheese or shredded Swiss cheese ( quantity depends how much you want cheese)\n1 pound Macaroni\n1/4 cup All-purpose Flour\n2 cups Whole Milk\n1/2 cup Half-and-half (optional)\n2 Tbsp olive oil\nKosher Salt And Black Pepper To Taste\n¼ tsp nutmeg\n1 cup Panko or bread crumb\n\nMaterial : medium pot au saucepan\, different sizes of bowls\, knife\, cutting board\, wooden spoon\, spatula\, baking sheet \n\nRefunds will not be granted unless class is cancelled. Credits will be issued for the amount of the course if the Parks\, Recreation and Community Services Department is notified before the second class meeting. Online registration transaction fees are non-refundable.
URL:https://www.celinescuisine.com/events/virtual-cooking-class-for-kids-riverside-csd-3-classes-serie-2/
LOCATION:On Line Virtual class\, zoom.com\, CA
END:VEVENT
END:VCALENDAR