BEGIN:VCALENDAR
VERSION:2.0
PRODID:-// - ECPv6.15.20//NONSGML v1.0//EN
CALSCALE:GREGORIAN
METHOD:PUBLISH
X-ORIGINAL-URL:https://www.celinescuisine.com
X-WR-CALDESC:Events for 
REFRESH-INTERVAL;VALUE=DURATION:PT1H
X-Robots-Tag:noindex
X-PUBLISHED-TTL:PT1H
BEGIN:VTIMEZONE
TZID:America/Los_Angeles
BEGIN:DAYLIGHT
TZOFFSETFROM:-0800
TZOFFSETTO:-0700
TZNAME:PDT
DTSTART:20190310T100000
END:DAYLIGHT
BEGIN:STANDARD
TZOFFSETFROM:-0700
TZOFFSETTO:-0800
TZNAME:PST
DTSTART:20191103T090000
END:STANDARD
BEGIN:DAYLIGHT
TZOFFSETFROM:-0800
TZOFFSETTO:-0700
TZNAME:PDT
DTSTART:20200308T100000
END:DAYLIGHT
BEGIN:STANDARD
TZOFFSETFROM:-0700
TZOFFSETTO:-0800
TZNAME:PST
DTSTART:20201101T090000
END:STANDARD
BEGIN:DAYLIGHT
TZOFFSETFROM:-0800
TZOFFSETTO:-0700
TZNAME:PDT
DTSTART:20210314T100000
END:DAYLIGHT
BEGIN:STANDARD
TZOFFSETFROM:-0700
TZOFFSETTO:-0800
TZNAME:PST
DTSTART:20211107T090000
END:STANDARD
END:VTIMEZONE
BEGIN:VEVENT
DTSTART;TZID=America/Los_Angeles:20201029T161500
DTEND;TZID=America/Los_Angeles:20201029T174500
DTSTAMP:20260423T174618
CREATED:20201007T165054Z
LAST-MODIFIED:20201007T165054Z
UID:15081-1603988100-1603993500@www.celinescuisine.com
SUMMARY:Parent and child!   Sushis__101
DESCRIPTION:How about bonding with your child(ren) in the kitchen and have fun together? Under Celine’s guidance and instructions you will learn how to make sushi! They are for sure fun to make and fun to eat. Our menu : California sushi rolls \nIngredients needed: \nSushi rice \n\n3 cups of sushi rice ( uncooked)\n5 cups of water\n5 cup of Rice vinegar\n2 Tablespoon White sugar\n1 /2 tsp Fine salt\n\n  \nFilling \n\n9 oz cooked crab meat or imitation crab meat\n6 Tbsp mayonnaise\n½ English cucumber\n2 avocados\n½ lemon (for avocado)\n8 sheets nori seaweed\n¼ cup toasted white sesame seeds\n\n  \nEquipment you will need : \nHeavy bottomed pot with a tight fitting lid \, or electric rice cooker\, or instant pot\, Large bowls. Rice paddle or wooden spatula. heavy-bottomed pot with a tight-fitting lid – a strainer\, sushi bamboo matt are optional you can use or fabric napkins or parchment paper \, plastic wrap\, sharp knife\, cutting board\, small sizes bowls \n  \n 
URL:https://www.celinescuisine.com/events/parent-and-child-sushis__101/
LOCATION:On Line Virtual class\, zoom.com\, CA
END:VEVENT
END:VCALENDAR