BEGIN:VCALENDAR
VERSION:2.0
PRODID:-// - ECPv6.15.20//NONSGML v1.0//EN
CALSCALE:GREGORIAN
METHOD:PUBLISH
X-ORIGINAL-URL:https://www.celinescuisine.com
X-WR-CALDESC:Events for 
REFRESH-INTERVAL;VALUE=DURATION:PT1H
X-Robots-Tag:noindex
X-PUBLISHED-TTL:PT1H
BEGIN:VTIMEZONE
TZID:America/Los_Angeles
BEGIN:DAYLIGHT
TZOFFSETFROM:-0800
TZOFFSETTO:-0700
TZNAME:PDT
DTSTART:20200308T100000
END:DAYLIGHT
BEGIN:STANDARD
TZOFFSETFROM:-0700
TZOFFSETTO:-0800
TZNAME:PST
DTSTART:20201101T090000
END:STANDARD
BEGIN:DAYLIGHT
TZOFFSETFROM:-0800
TZOFFSETTO:-0700
TZNAME:PDT
DTSTART:20210314T100000
END:DAYLIGHT
BEGIN:STANDARD
TZOFFSETFROM:-0700
TZOFFSETTO:-0800
TZNAME:PST
DTSTART:20211107T090000
END:STANDARD
BEGIN:DAYLIGHT
TZOFFSETFROM:-0800
TZOFFSETTO:-0700
TZNAME:PDT
DTSTART:20220313T100000
END:DAYLIGHT
BEGIN:STANDARD
TZOFFSETFROM:-0700
TZOFFSETTO:-0800
TZNAME:PST
DTSTART:20221106T090000
END:STANDARD
END:VTIMEZONE
BEGIN:VEVENT
DTSTART;TZID=America/Los_Angeles:20210608T083000
DTEND;TZID=America/Los_Angeles:20210608T100000
DTSTAMP:20260423T230220
CREATED:20210519T000721Z
LAST-MODIFIED:20210519T002850Z
UID:15126-1623141000-1623146400@www.celinescuisine.com
SUMMARY:LETS PLAY WITH FOOD : EDIBLE CRAFT 62021 - MURRIETA
DESCRIPTION:6-13 years old \n6/8-6/11 3-5 pm \nMenu : \nFRESH FRUIT LOLIPOP\nFACE BREAD TARTINES\nPIRATE VEGGIES BOAT\nFRUITS KEBABS\nTIK TACK TOES COOKIES\n 
URL:https://www.celinescuisine.com/events/fun-culinary-camp-62021-1-murrieta-3/
LOCATION:Murrieta Community Center\, Juniper street\, murrieta\, 92562\, United States
CATEGORIES:Summer 2021 - camps,SUMMER COOKING - BAKINB CAMPS,summer recreations classes for kids
END:VEVENT
BEGIN:VEVENT
DTSTART;TZID=America/Los_Angeles:20210608T103000
DTEND;TZID=America/Los_Angeles:20210608T123000
DTSTAMP:20260423T230220
CREATED:20210518T202328Z
LAST-MODIFIED:20210518T202504Z
UID:15101-1623148200-1623155400@www.celinescuisine.com
SUMMARY:FUN culinary camp  FCC 6201- Murrieta -
DESCRIPTION:6/8-6/11 \n10:30 AM – 12: 30AM \n6-13 YEARS OLD  \n  \nMenu :  breadstick grissini\, pita sandwich\, caprese salad\, brownies and French lemonade
URL:https://www.celinescuisine.com/events/fun-culinary-camp-fcc-6201-murrieta/
LOCATION:Murrieta Community Center\, Juniper street\, murrieta\, 92562\, United States
CATEGORIES:Kids Baking and Culinary Camps ( Inland Empire and Temecula Valley),Murrieta Culinary camps,SUMMER COOKING - BAKINB CAMPS
END:VEVENT
BEGIN:VEVENT
DTSTART;TZID=America/Los_Angeles:20210608T130000
DTEND;TZID=America/Los_Angeles:20210608T143000
DTSTAMP:20260423T230220
CREATED:20210518T204318Z
LAST-MODIFIED:20210518T204318Z
UID:15108-1623157200-1623162600@www.celinescuisine.com
SUMMARY:lets play with food : edible crafts  - 61021-1Murrieta - Camp
DESCRIPTION:menu\n\n6/8-6/11\n1:00 – 2:30 pm\n6-13 years old\n\nfresh fruit lolipop\nface bread tartines\npirate veggies boat\nfruit kebabs\ntic tak toe cookies
URL:https://www.celinescuisine.com/events/lets-play-with-food-edible-crafts-61021-1murrieta-camp/
LOCATION:Murrieta Community Center\, Juniper street\, murrieta\, 92562\, United States
CATEGORIES:Kids Baking and Culinary Camps ( Inland Empire and Temecula Valley),Murrieta Culinary camps
END:VEVENT
BEGIN:VEVENT
DTSTART;TZID=America/Los_Angeles:20210608T150000
DTEND;TZID=America/Los_Angeles:20210608T170000
DTSTAMP:20260423T230220
CREATED:20210519T005303Z
LAST-MODIFIED:20210519T040328Z
UID:15134-1623164400-1623171600@www.celinescuisine.com
SUMMARY:fun culinary camp  - FCC 62021  MURRIETA
DESCRIPTION:3-5 PM\n6-13YEARS OLD\n6/8-6/11\n\nMenu : breadstick grissini\, pita sandwich\, caprese salad\, brownies and French lemonade
URL:https://www.celinescuisine.com/events/lets-play-with-food-edible-craft-62021-murrieta-3/
LOCATION:Murrieta Community Center\, Juniper street\, murrieta\, 92562\, United States
END:VEVENT
END:VCALENDAR