BEGIN:VCALENDAR
VERSION:2.0
PRODID:-// - ECPv6.15.20//NONSGML v1.0//EN
CALSCALE:GREGORIAN
METHOD:PUBLISH
X-ORIGINAL-URL:https://www.celinescuisine.com
X-WR-CALDESC:Events for 
REFRESH-INTERVAL;VALUE=DURATION:PT1H
X-Robots-Tag:noindex
X-PUBLISHED-TTL:PT1H
BEGIN:VTIMEZONE
TZID:America/Los_Angeles
BEGIN:DAYLIGHT
TZOFFSETFROM:-0800
TZOFFSETTO:-0700
TZNAME:PDT
DTSTART:20200308T100000
END:DAYLIGHT
BEGIN:STANDARD
TZOFFSETFROM:-0700
TZOFFSETTO:-0800
TZNAME:PST
DTSTART:20201101T090000
END:STANDARD
BEGIN:DAYLIGHT
TZOFFSETFROM:-0800
TZOFFSETTO:-0700
TZNAME:PDT
DTSTART:20210314T100000
END:DAYLIGHT
BEGIN:STANDARD
TZOFFSETFROM:-0700
TZOFFSETTO:-0800
TZNAME:PST
DTSTART:20211107T090000
END:STANDARD
BEGIN:DAYLIGHT
TZOFFSETFROM:-0800
TZOFFSETTO:-0700
TZNAME:PDT
DTSTART:20220313T100000
END:DAYLIGHT
BEGIN:STANDARD
TZOFFSETFROM:-0700
TZOFFSETTO:-0800
TZNAME:PST
DTSTART:20221106T090000
END:STANDARD
END:VTIMEZONE
BEGIN:VEVENT
DTSTART;TZID=America/Los_Angeles:20210609T083000
DTEND;TZID=America/Los_Angeles:20210609T100000
DTSTAMP:20260423T230313
CREATED:20210519T003315Z
LAST-MODIFIED:20210519T003315Z
UID:15130-1623227400-1623232800@www.celinescuisine.com
SUMMARY:LETS PLAY WITH FOOD : EDIBLE CRAFT 62021 - MURRIETA
DESCRIPTION:8:30 – 10 AM\n6-13YEARS OLD\n6/8-6/11\n\nFRESH FRUIT LOLIPOP\nFACE BREAD TARTINES\nPIRATE VEGGIES BOAT\nFRUITS KEBABS\nTIK TACK TOES COOKIES
URL:https://www.celinescuisine.com/events/lets-play-with-food-edible-craft-62021-murrieta/
LOCATION:Murrieta Community Center\, Juniper street\, murrieta\, 92562\, United States
END:VEVENT
BEGIN:VEVENT
DTSTART;TZID=America/Los_Angeles:20210609T083000
DTEND;TZID=America/Los_Angeles:20210609T220000
DTSTAMP:20260423T230313
CREATED:20210527T211033Z
LAST-MODIFIED:20210527T211033Z
UID:15230-1623227400-1623276000@www.celinescuisine.com
SUMMARY:Lets play with food : edible crafts- 61021-1
DESCRIPTION:Tuesday\, June 8⋅1:00 – 2:30pm\n\n\n\n\n\nDescription:menu 6/8-6/11 1:00 – 2:30 pm 6-13 years old fresh fruit lolipop face bread tartines pirate veggies boat fruit kebabs tic tak toe cookies
URL:https://www.celinescuisine.com/events/lets-play-with-food-edible-crafts-61021-1/
LOCATION:Murrieta Community Center\, Juniper street\, murrieta\, 92562\, United States
CATEGORIES:Kids Baking and Culinary Camps ( Inland Empire and Temecula Valley),Summer 2021 - camps,summer recreations classes for kids,Temecula Culinary Camps,Temecula Summer camps 2021
END:VEVENT
BEGIN:VEVENT
DTSTART;TZID=America/Los_Angeles:20210609T103000
DTEND;TZID=America/Los_Angeles:20210609T123000
DTSTAMP:20260423T230313
CREATED:20210518T202930Z
LAST-MODIFIED:20210518T202930Z
UID:15104-1623234600-1623241800@www.celinescuisine.com
SUMMARY:fun culinary camp  - FCC 62021 - MURRIETA
DESCRIPTION:/FROM 6/8-6/11 \n10:30 – 12 :30 \nMenu :  breadstick grissini\, pita sandwich\, caprese salad\, brownies and French lemonade
URL:https://www.celinescuisine.com/events/fun-culinary-camp-fcc-62021-murrieta/
LOCATION:Murrieta Community Center\, Juniper street\, murrieta\, 92562\, United States
CATEGORIES:Kids Baking and Culinary Camps ( Inland Empire and Temecula Valley),Murrieta Culinary camps
END:VEVENT
BEGIN:VEVENT
DTSTART;TZID=America/Los_Angeles:20210609T130000
DTEND;TZID=America/Los_Angeles:20210609T143000
DTSTAMP:20260423T230313
CREATED:20210518T204631Z
LAST-MODIFIED:20210518T204631Z
UID:15110-1623243600-1623249000@www.celinescuisine.com
SUMMARY:lets play with food : edible crafts  - 61021-1Murrieta - Camp
DESCRIPTION:menu 6/8-6/11 1:00 – 2:30 pm 6-13 years old fresh fruit lolipop face bread tartines pirate veggies boat fruit kebabs tic tak toe cookies camp
URL:https://www.celinescuisine.com/events/lets-play-with-food-edible-crafts-61021-1murrieta-camp-2/
LOCATION:Murrieta Community Center\, Juniper street\, murrieta\, 92562\, United States
CATEGORIES:Kids Baking and Culinary Camps ( Inland Empire and Temecula Valley),Murrieta Culinary camps
END:VEVENT
BEGIN:VEVENT
DTSTART;TZID=America/Los_Angeles:20210609T150000
DTEND;TZID=America/Los_Angeles:20210609T170000
DTSTAMP:20260423T230313
CREATED:20210519T000051Z
LAST-MODIFIED:20210519T000051Z
UID:15124-1623250800-1623258000@www.celinescuisine.com
SUMMARY:FUN CULINARY CAMP - 62021-1 MURRIETA
DESCRIPTION:  \n6/8-6/11 \n6-13 years old \nMenu : breadstick grissini\, pita sandwich\, caprese salad\, brownies and French lemonade
URL:https://www.celinescuisine.com/events/fun-culinary-camp-62021-1-murrieta-2/
LOCATION:Murrieta Community Center\, Juniper street\, murrieta\, 92562\, United States
CATEGORIES:Kids Baking and Culinary Camps ( Inland Empire and Temecula Valley),Murrieta Culinary camps,Summer 2021 - camps
END:VEVENT
END:VCALENDAR