BEGIN:VCALENDAR
VERSION:2.0
PRODID:-// - ECPv6.15.20//NONSGML v1.0//EN
CALSCALE:GREGORIAN
METHOD:PUBLISH
X-ORIGINAL-URL:https://www.celinescuisine.com
X-WR-CALDESC:Events for 
REFRESH-INTERVAL;VALUE=DURATION:PT1H
X-Robots-Tag:noindex
X-PUBLISHED-TTL:PT1H
BEGIN:VTIMEZONE
TZID:America/Los_Angeles
BEGIN:DAYLIGHT
TZOFFSETFROM:-0800
TZOFFSETTO:-0700
TZNAME:PDT
DTSTART:20200308T100000
END:DAYLIGHT
BEGIN:STANDARD
TZOFFSETFROM:-0700
TZOFFSETTO:-0800
TZNAME:PST
DTSTART:20201101T090000
END:STANDARD
BEGIN:DAYLIGHT
TZOFFSETFROM:-0800
TZOFFSETTO:-0700
TZNAME:PDT
DTSTART:20210314T100000
END:DAYLIGHT
BEGIN:STANDARD
TZOFFSETFROM:-0700
TZOFFSETTO:-0800
TZNAME:PST
DTSTART:20211107T090000
END:STANDARD
BEGIN:DAYLIGHT
TZOFFSETFROM:-0800
TZOFFSETTO:-0700
TZNAME:PDT
DTSTART:20220313T100000
END:DAYLIGHT
BEGIN:STANDARD
TZOFFSETFROM:-0700
TZOFFSETTO:-0800
TZNAME:PST
DTSTART:20221106T090000
END:STANDARD
END:VTIMEZONE
BEGIN:VEVENT
DTSTART;TZID=America/Los_Angeles:20210611T083000
DTEND;TZID=America/Los_Angeles:20210611T103000
DTSTAMP:20260423T230245
CREATED:20210519T003740Z
LAST-MODIFIED:20210519T004255Z
UID:15132-1623400200-1623407400@www.celinescuisine.com
SUMMARY:LETS PLAY WITH FOOD : EDIBLE CRAFT 62021 - MURRIETA
DESCRIPTION:8:30 – 10 AM\n6-13YEARS OLD\n6/8-6/11\n\nFRESH FRUIT LOLIPOP\nFACE BREAD TARTINES\nPIRATE VEGGIES BOAT\nFRUITS KEBABS\nTIK TACK TOES COOKIES
URL:https://www.celinescuisine.com/events/lets-play-with-food-edible-craft-62021-murrieta-2/
LOCATION:Murrieta Community Center\, Juniper street\, murrieta\, 92562\, United States
END:VEVENT
BEGIN:VEVENT
DTSTART;TZID=America/Los_Angeles:20210611T103000
DTEND;TZID=America/Los_Angeles:20210611T123000
DTSTAMP:20260423T230245
CREATED:20210518T205401Z
LAST-MODIFIED:20210518T205658Z
UID:15114-1623407400-1623414600@www.celinescuisine.com
SUMMARY:fun culinary camp  - FCC 62021 - MURRIETA
DESCRIPTION:6/8-6/11 \n10:30 – 12 :30 \n6-13 YEARS OLD \n– \nMenu : breadstick grissini\, pita sandwich\, caprese salad\, brownies and French lemonade
URL:https://www.celinescuisine.com/events/lets-play-with-food-edible-crafts-61021-1-murrieta-2/
LOCATION:Murrieta Community Center\, Juniper street\, murrieta\, 92562\, United States
END:VEVENT
BEGIN:VEVENT
DTSTART;TZID=America/Los_Angeles:20210611T130000
DTEND;TZID=America/Los_Angeles:20210611T143000
DTSTAMP:20260423T230245
CREATED:20210518T205938Z
LAST-MODIFIED:20210519T040506Z
UID:15118-1623416400-1623421800@www.celinescuisine.com
SUMMARY:Lets play with food : edible crafts- 61021-1  MURRIETA
DESCRIPTION:Tuesday\, June 8⋅1:00 – 2:30pm\n\n\n\n\n\nDescription:menu 6/8-6/11 1:00 – 2:30 pm 6-13 years old fresh fruit lolipop face bread tartines pirate veggies boat fruit kebabs tic tak toe cookies\n\n\n\n\n\n\nOrganizer: MURRIETA \nMURRIETAcam
URL:https://www.celinescuisine.com/events/lets-play-with-food-edible-crafts-61021-1-murrieta-3/
LOCATION:Murrieta Community Center\, Juniper street\, murrieta\, 92562\, United States
CATEGORIES:Summer 2021 - camps,SUMMER COOKING - BAKINB CAMPS
END:VEVENT
BEGIN:VEVENT
DTSTART;TZID=America/Los_Angeles:20210611T150000
DTEND;TZID=America/Los_Angeles:20210611T170000
DTSTAMP:20260423T230245
CREATED:20210518T234456Z
LAST-MODIFIED:20210518T234456Z
UID:15120-1623423600-1623430800@www.celinescuisine.com
SUMMARY:FUN CULINARY CAMPS - 62021-1 MURRIETA
DESCRIPTION:06/8-6/11  3-5 pm \n6-13 years \n  \nMenu : breadstick grissini\, pita sandwich\, caprese salad\, brownies and French lemonade
URL:https://www.celinescuisine.com/events/fun-culinary-camps-62021-1-murrieta/
LOCATION:Murrieta Community Center\, Juniper street\, murrieta\, 92562\, United States
CATEGORIES:Kids Baking and Culinary Camps ( Inland Empire and Temecula Valley),Summer 2021 - camps,SUMMER COOKING - BAKINB CAMPS
END:VEVENT
END:VCALENDAR