BEGIN:VCALENDAR
VERSION:2.0
PRODID:-// - ECPv6.15.20//NONSGML v1.0//EN
CALSCALE:GREGORIAN
METHOD:PUBLISH
X-ORIGINAL-URL:https://www.celinescuisine.com
X-WR-CALDESC:Events for 
REFRESH-INTERVAL;VALUE=DURATION:PT1H
X-Robots-Tag:noindex
X-PUBLISHED-TTL:PT1H
BEGIN:VTIMEZONE
TZID:America/Los_Angeles
BEGIN:DAYLIGHT
TZOFFSETFROM:-0800
TZOFFSETTO:-0700
TZNAME:PDT
DTSTART:20200308T100000
END:DAYLIGHT
BEGIN:STANDARD
TZOFFSETFROM:-0700
TZOFFSETTO:-0800
TZNAME:PST
DTSTART:20201101T090000
END:STANDARD
BEGIN:DAYLIGHT
TZOFFSETFROM:-0800
TZOFFSETTO:-0700
TZNAME:PDT
DTSTART:20210314T100000
END:DAYLIGHT
BEGIN:STANDARD
TZOFFSETFROM:-0700
TZOFFSETTO:-0800
TZNAME:PST
DTSTART:20211107T090000
END:STANDARD
BEGIN:DAYLIGHT
TZOFFSETFROM:-0800
TZOFFSETTO:-0700
TZNAME:PDT
DTSTART:20220313T100000
END:DAYLIGHT
BEGIN:STANDARD
TZOFFSETFROM:-0700
TZOFFSETTO:-0800
TZNAME:PST
DTSTART:20221106T090000
END:STANDARD
END:VTIMEZONE
BEGIN:VEVENT
DTSTART;TZID=America/Los_Angeles:20210616T090000
DTEND;TZID=America/Los_Angeles:20210616T103000
DTSTAMP:20260423T230144
CREATED:20210527T210421Z
LAST-MODIFIED:20210527T210421Z
UID:15226-1623834000-1623839400@www.celinescuisine.com
SUMMARY:BRUNCH AND BREAKFAST CAMP- TEMECULA
DESCRIPTION:Monday\, June 14⋅9:00 – 10:30am\nWeekly on Monday\, Tuesday\, Wednesday\, until Jun 16\, 2021\n\n\n\n\n\nDescription:Menu baked French toasts with berries and banana. mini quiche\, zuchini and chicken cheese quesadilla\, Italian brushetta\, orange lemonade \, crispy cinnamon roll
URL:https://www.celinescuisine.com/events/brunch-and-breakfast-camp-temecula/
LOCATION:TCC 28816 Pujol Street Temecula\, 28816 Pujol Street Temecula\, TEMECULA\, CA\, 92590\, United States
CATEGORIES:Kids Baking and Culinary Camps ( Inland Empire and Temecula Valley),Summer 2021 - camps,SUMMER COOKING - BAKINB CAMPS,summer recreations classes for kids,Temecula Culinary Camps,Temecula Summer camps 2021
END:VEVENT
BEGIN:VEVENT
DTSTART;TZID=America/Los_Angeles:20210616T120000
DTEND;TZID=America/Los_Angeles:20210616T140000
DTSTAMP:20260423T230144
CREATED:20210528T022041Z
LAST-MODIFIED:20210528T022041Z
UID:15267-1623844800-1623852000@www.celinescuisine.com
SUMMARY:cookies and cake 1650-204
DESCRIPTION:7-13 years old \n6/14 -6/17 2021 \nnoon- 2 pm \n\nBerries and white chocolate scones\nMini cheesecakes\nSugar cookies\nCrispy cinnamon bread cookies
URL:https://www.celinescuisine.com/events/cookies-and-cake-1650-204-3/
LOCATION:TCC 28816 Pujol Street Temecula\, 28816 Pujol Street Temecula\, TEMECULA\, CA\, 92590\, United States
CATEGORIES:Kids Baking and Culinary Camps ( Inland Empire and Temecula Valley),Summer 2021 - camps,summer recreations classes for kids,Temecula Culinary Camps,Temecula Summer camps 2021
END:VEVENT
BEGIN:VEVENT
DTSTART;TZID=America/Los_Angeles:20210616T150000
DTEND;TZID=America/Los_Angeles:20210616T170000
DTSTAMP:20260423T230144
CREATED:20210528T030006Z
LAST-MODIFIED:20210528T030006Z
UID:15275-1623855600-1623862800@www.celinescuisine.com
SUMMARY:MASTERCLASS 1650. 206
DESCRIPTION:3- 5 pm \n7-13 years \nJune 14-17 \n  \n  \n\nStrawberry and whip cream Parisian tart\nLattice braided cherry or apple pie
URL:https://www.celinescuisine.com/events/masterclass-1650-206-3/
LOCATION:TCC 28816 Pujol Street Temecula\, 28816 Pujol Street Temecula\, TEMECULA\, CA\, 92590\, United States
CATEGORIES:Kids Baking and Culinary Camps ( Inland Empire and Temecula Valley),Summer 2021 - camps,summer recreations classes for kids,Temecula Culinary Camps,Temecula Summer camps 2021
END:VEVENT
BEGIN:VEVENT
DTSTART;TZID=America/Los_Angeles:20210616T173000
DTEND;TZID=America/Los_Angeles:20210616T193000
DTSTAMP:20260423T230144
CREATED:20210528T021148Z
LAST-MODIFIED:20210528T021148Z
UID:15259-1623864600-1623871800@www.celinescuisine.com
SUMMARY:FRENCH PASTRIES - 1650-201
DESCRIPTION:6/14-6/17  5:30 – 7:30 PM\n7-13 YEARS\n\n\nKouign aman\nPalmiers cookies\nRaspberry clafouti custard pie\nChocolate orange lava cake\nButter cookies
URL:https://www.celinescuisine.com/events/french-pastries-1650-201/
LOCATION:TCC 28816 Pujol Street Temecula\, 28816 Pujol Street Temecula\, TEMECULA\, CA\, 92590\, United States
CATEGORIES:Kids Baking and Culinary Camps ( Inland Empire and Temecula Valley),Summer 2021 - camps,summer recreations classes for kids,Temecula Culinary Camps,Temecula Summer camps 2021
END:VEVENT
END:VCALENDAR