BEGIN:VCALENDAR
VERSION:2.0
PRODID:-// - ECPv6.15.20//NONSGML v1.0//EN
CALSCALE:GREGORIAN
METHOD:PUBLISH
X-ORIGINAL-URL:https://www.celinescuisine.com
X-WR-CALDESC:Events for 
REFRESH-INTERVAL;VALUE=DURATION:PT1H
X-Robots-Tag:noindex
X-PUBLISHED-TTL:PT1H
BEGIN:VTIMEZONE
TZID:America/Los_Angeles
BEGIN:DAYLIGHT
TZOFFSETFROM:-0800
TZOFFSETTO:-0700
TZNAME:PDT
DTSTART:20200308T100000
END:DAYLIGHT
BEGIN:STANDARD
TZOFFSETFROM:-0700
TZOFFSETTO:-0800
TZNAME:PST
DTSTART:20201101T090000
END:STANDARD
BEGIN:DAYLIGHT
TZOFFSETFROM:-0800
TZOFFSETTO:-0700
TZNAME:PDT
DTSTART:20210314T100000
END:DAYLIGHT
BEGIN:STANDARD
TZOFFSETFROM:-0700
TZOFFSETTO:-0800
TZNAME:PST
DTSTART:20211107T090000
END:STANDARD
BEGIN:DAYLIGHT
TZOFFSETFROM:-0800
TZOFFSETTO:-0700
TZNAME:PDT
DTSTART:20220313T100000
END:DAYLIGHT
BEGIN:STANDARD
TZOFFSETFROM:-0700
TZOFFSETTO:-0800
TZNAME:PST
DTSTART:20221106T090000
END:STANDARD
END:VTIMEZONE
BEGIN:VEVENT
DTSTART;TZID=America/Los_Angeles:20210706T083000
DTEND;TZID=America/Los_Angeles:20210706T100000
DTSTAMP:20260424T003303
CREATED:20210529T010543Z
LAST-MODIFIED:20210529T010543Z
UID:15325-1625560200-1625565600@www.celinescuisine.com
SUMMARY:MY LIL' CAFE CAMP - MURRIETA
DESCRIPTION:6-13 YEARS OLD \n7/6-7/9 1:00 – 2:30 PM \n  \n\nHam and cheese quiche – salad and dressing\nPanini and fruit salad\nBrownies and vanilla whip cream\nFruit crumble with lemon glaze\nlemonade
URL:https://www.celinescuisine.com/events/my-lil-cafe-camp-murrieta-4/
LOCATION:Murrieta Community Center\, Juniper street\, murrieta\, 92562\, United States
CATEGORIES:Kids Baking and Culinary Camps ( Inland Empire and Temecula Valley),Summer 2021 - camps,SUMMER COOKING - BAKINB CAMPS,summer recreations classes for kids
END:VEVENT
BEGIN:VEVENT
DTSTART;TZID=America/Los_Angeles:20210706T103000
DTEND;TZID=America/Los_Angeles:20210706T120000
DTSTAMP:20260424T003303
CREATED:20210528T235159Z
LAST-MODIFIED:20210528T235159Z
UID:15307-1625567400-1625572800@www.celinescuisine.com
SUMMARY:MY LIL' BAKERY - MURRIETA
DESCRIPTION:6-13 yrs old \n7/6- 7/9 – 10:30 AM – 12:30 \nMenu \n  \n\nApple or blueberry turnovers\nBerries scones with lemon glaze\nMini Parisian fruit tart\nLevain chocolate chip cookies\nPalmiers cookies
URL:https://www.celinescuisine.com/events/my-lil-bakery-murrieta/
LOCATION:Murrieta Community Center\, Juniper street\, murrieta\, 92562\, United States
CATEGORIES:Kids Baking and Culinary Camps ( Inland Empire and Temecula Valley),Murrieta Culinary camps,Summer 2021 - camps,summer recreations classes for kids
END:VEVENT
BEGIN:VEVENT
DTSTART;TZID=America/Los_Angeles:20210706T130000
DTEND;TZID=America/Los_Angeles:20210706T143000
DTSTAMP:20260424T003303
CREATED:20210529T005535Z
LAST-MODIFIED:20210529T005535Z
UID:15317-1625576400-1625581800@www.celinescuisine.com
SUMMARY:MY LIL CAFE CAMP - MURRIETA
DESCRIPTION:6-13 YEARS OLD \n7/6-7/9 1:00 – 2:30 PM \n  \n\nHam and cheese quiche – salad and dressing\nPanini and fruit salad\nBrownies and vanilla whip cream\nFruit crumble with lemon glaze\nlemonade
URL:https://www.celinescuisine.com/events/my-lil-cafe-camp-murrieta/
LOCATION:Murrieta Community Center\, Juniper street\, murrieta\, 92562\, United States
CATEGORIES:Kids Baking and Culinary Camps ( Inland Empire and Temecula Valley),Murrieta Culinary camps,summer recreations classes for kids
END:VEVENT
END:VCALENDAR