BEGIN:VCALENDAR
VERSION:2.0
PRODID:-// - ECPv6.15.20//NONSGML v1.0//EN
CALSCALE:GREGORIAN
METHOD:PUBLISH
X-ORIGINAL-URL:https://www.celinescuisine.com
X-WR-CALDESC:Events for 
REFRESH-INTERVAL;VALUE=DURATION:PT1H
X-Robots-Tag:noindex
X-PUBLISHED-TTL:PT1H
BEGIN:VTIMEZONE
TZID:America/Los_Angeles
BEGIN:DAYLIGHT
TZOFFSETFROM:-0800
TZOFFSETTO:-0700
TZNAME:PDT
DTSTART:20200308T100000
END:DAYLIGHT
BEGIN:STANDARD
TZOFFSETFROM:-0700
TZOFFSETTO:-0800
TZNAME:PST
DTSTART:20201101T090000
END:STANDARD
BEGIN:DAYLIGHT
TZOFFSETFROM:-0800
TZOFFSETTO:-0700
TZNAME:PDT
DTSTART:20210314T100000
END:DAYLIGHT
BEGIN:STANDARD
TZOFFSETFROM:-0700
TZOFFSETTO:-0800
TZNAME:PST
DTSTART:20211107T090000
END:STANDARD
BEGIN:DAYLIGHT
TZOFFSETFROM:-0800
TZOFFSETTO:-0700
TZNAME:PDT
DTSTART:20220313T100000
END:DAYLIGHT
BEGIN:STANDARD
TZOFFSETFROM:-0700
TZOFFSETTO:-0800
TZNAME:PST
DTSTART:20221106T090000
END:STANDARD
END:VTIMEZONE
BEGIN:VEVENT
DTSTART;TZID=America/Los_Angeles:20210715T090000
DTEND;TZID=America/Los_Angeles:20210715T110000
DTSTAMP:20260424T003331
CREATED:20210527T223342Z
LAST-MODIFIED:20210527T223342Z
UID:15236-1626339600-1626346800@www.celinescuisine.com
SUMMARY:BREAKFAST & BRUNCH  1685-202
DESCRIPTION:7/12-7/15 9 – 11 am \n  \n\nBaked French toasts with berries and banana\nMini quiche\nZucchini and chicken cheesy quesadilla\nItalian bruschetta\nOrange lemonade\nCrispy cinnamon rolls\n\n 
URL:https://www.celinescuisine.com/events/breakfast-brunch-1685-202/
LOCATION:TCC 28816 Pujol Street Temecula\, 28816 Pujol Street Temecula\, TEMECULA\, CA\, 92590\, United States
CATEGORIES:Kids Baking and Culinary Camps ( Inland Empire and Temecula Valley),Summer 2021 - camps,summer recreations classes for kids,Temecula Culinary Camps,Temecula Summer camps 2021
END:VEVENT
BEGIN:VEVENT
DTSTART;TZID=America/Los_Angeles:20210715T120000
DTEND;TZID=America/Los_Angeles:20210715T140000
DTSTAMP:20260424T003331
CREATED:20210527T230345Z
LAST-MODIFIED:20210527T230345Z
UID:15244-1626350400-1626357600@www.celinescuisine.com
SUMMARY:cakes and cookies  1650-205
DESCRIPTION:7/12-7/15   12 :00 – 2 pm\n7-13 years old \n·       Berries and white chocolate scones \n·       Mini cheesecakes \n·       Sugar cookies \n·       Crispy cinnamon bread cookies
URL:https://www.celinescuisine.com/events/cakes-and-cookies-1650-205-4/
LOCATION:TCC 28816 Pujol Street Temecula\, 28816 Pujol Street Temecula\, TEMECULA\, CA\, 92590\, United States
CATEGORIES:Kids Baking and Culinary Camps ( Inland Empire and Temecula Valley),Summer 2021 - camps,summer recreations classes for kids,Temecula Culinary Camps,Temecula Summer camps 2021
END:VEVENT
BEGIN:VEVENT
DTSTART;TZID=America/Los_Angeles:20210715T150000
DTEND;TZID=America/Los_Angeles:20210715T170000
DTSTAMP:20260424T003331
CREATED:20210527T234327Z
LAST-MODIFIED:20210527T234327Z
UID:15252-1626361200-1626368400@www.celinescuisine.com
SUMMARY:masterclass  1650-207
DESCRIPTION:7/12-7/15   3 – 5 pm \n·       Lattice braided cherry or apple pie \n· \nStrawberry and whip cream Parisian tart
URL:https://www.celinescuisine.com/events/masterclass-1650-207-2/
LOCATION:TCC 28816 Pujol Street Temecula\, 28816 Pujol Street Temecula\, TEMECULA\, CA\, 92590\, United States
CATEGORIES:Kids Baking and Culinary Camps ( Inland Empire and Temecula Valley),Riverside online cooking class,Summer 2021 - camps,summer recreations classes for kids,Temecula Culinary Camps,Temecula Summer camps 2021
END:VEVENT
END:VCALENDAR