BEGIN:VCALENDAR
VERSION:2.0
PRODID:-// - ECPv6.15.20//NONSGML v1.0//EN
CALSCALE:GREGORIAN
METHOD:PUBLISH
X-ORIGINAL-URL:https://www.celinescuisine.com
X-WR-CALDESC:Events for 
REFRESH-INTERVAL;VALUE=DURATION:PT1H
X-Robots-Tag:noindex
X-PUBLISHED-TTL:PT1H
BEGIN:VTIMEZONE
TZID:America/Los_Angeles
BEGIN:DAYLIGHT
TZOFFSETFROM:-0800
TZOFFSETTO:-0700
TZNAME:PDT
DTSTART:20200308T100000
END:DAYLIGHT
BEGIN:STANDARD
TZOFFSETFROM:-0700
TZOFFSETTO:-0800
TZNAME:PST
DTSTART:20201101T090000
END:STANDARD
BEGIN:DAYLIGHT
TZOFFSETFROM:-0800
TZOFFSETTO:-0700
TZNAME:PDT
DTSTART:20210314T100000
END:DAYLIGHT
BEGIN:STANDARD
TZOFFSETFROM:-0700
TZOFFSETTO:-0800
TZNAME:PST
DTSTART:20211107T090000
END:STANDARD
BEGIN:DAYLIGHT
TZOFFSETFROM:-0800
TZOFFSETTO:-0700
TZNAME:PDT
DTSTART:20220313T100000
END:DAYLIGHT
BEGIN:STANDARD
TZOFFSETFROM:-0700
TZOFFSETTO:-0800
TZNAME:PST
DTSTART:20221106T090000
END:STANDARD
END:VTIMEZONE
BEGIN:VEVENT
DTSTART;TZID=America/Los_Angeles:20210722T090000
DTEND;TZID=America/Los_Angeles:20210722T110000
DTSTAMP:20260424T020037
CREATED:20210529T162758Z
LAST-MODIFIED:20210529T162758Z
UID:15333-1626944400-1626951600@www.celinescuisine.com
SUMMARY:JUNIOR MASTER CHEFS - TEMECULA
DESCRIPTION:9-14 yrs \n7/19-7/22 –  9-11 AM \n  \n\nSalad and dressing\nSandwich\nItalian calzone pizza
URL:https://www.celinescuisine.com/events/junior-master-chefs-temecula-2/
LOCATION:TCC 28816 Pujol Street Temecula\, 28816 Pujol Street Temecula\, TEMECULA\, CA\, 92590\, United States
CATEGORIES:Kids Baking and Culinary Camps ( Inland Empire and Temecula Valley),SUMMER 2019 BAKING & COOKING CAMPS,Summer 2021 - camps,summer recreations classes for kids,Temecula Culinary Camps,Temecula Summer camps 2021
END:VEVENT
BEGIN:VEVENT
DTSTART;TZID=America/Los_Angeles:20210722T090000
DTEND;TZID=America/Los_Angeles:20210722T110000
DTSTAMP:20260424T020037
CREATED:20210529T164232Z
LAST-MODIFIED:20210529T164232Z
UID:15341-1626944400-1626951600@www.celinescuisine.com
SUMMARY:FRENCH PASTRIES CAMP - TEMECULA
DESCRIPTION:7-13 YEARS \n7/19-7/22 –  NOON – 2 PM \n  \n\nKouign aman\nPalmiers cookies\nRaspberry clafouti custard pie\nChocolate orange lava cake\nButter cookies
URL:https://www.celinescuisine.com/events/french-pastries-camp-temecula-4/
LOCATION:TCC 28816 Pujol Street Temecula\, 28816 Pujol Street Temecula\, TEMECULA\, CA\, 92590\, United States
CATEGORIES:Kids Baking and Culinary Camps ( Inland Empire and Temecula Valley),SUMMER 2019 BAKING & COOKING CAMPS,Summer 2021 - camps,summer recreations classes for kids,Temecula Culinary Camps,Temecula Summer camps 2021
END:VEVENT
BEGIN:VEVENT
DTSTART;TZID=America/Los_Angeles:20210722T150000
DTEND;TZID=America/Los_Angeles:20210722T170000
DTSTAMP:20260424T020037
CREATED:20210529T165115Z
LAST-MODIFIED:20210529T165115Z
UID:15349-1626966000-1626973200@www.celinescuisine.com
SUMMARY:kids cook dinner camp- Temecula
DESCRIPTION:kids cook dinner camp- Temecula \n7-13 yrs \n7/19-7/22 -3- 5 PM \n  \n\nPizza sausage bun\nGreek salad\nChocolate chip cookies\nFruit salad in chocolate cup
URL:https://www.celinescuisine.com/events/kids-cook-dinner-camp-temecula-3/
LOCATION:TCC 28816 Pujol Street Temecula\, 28816 Pujol Street Temecula\, TEMECULA\, CA\, 92590\, United States
CATEGORIES:SUMMER 2019 BAKING & COOKING CAMPS,Summer 2021 - camps,summer recreations classes for kids,Temecula Culinary Camps,Temecula Summer camps 2021
END:VEVENT
BEGIN:VEVENT
DTSTART;TZID=America/Los_Angeles:20210722T173000
DTEND;TZID=America/Los_Angeles:20210722T193000
DTSTAMP:20260424T020037
CREATED:20210529T170549Z
LAST-MODIFIED:20210529T171238Z
UID:15355-1626975000-1626982200@www.celinescuisine.com
SUMMARY:KIDS COOK DINNER CAMP- TEMECULA
DESCRIPTION:7-13 yrs \n7/19-7/22 -5:30- 7:30 pm \n  \n\nPizza sausage bun\nGreek salad\nChocolate chip cookies\nFruit salad in chocolate cup
URL:https://www.celinescuisine.com/events/15355/
LOCATION:TCC 28816 Pujol Street Temecula\, 28816 Pujol Street Temecula\, TEMECULA\, CA\, 92590\, United States
CATEGORIES:SUMMER 2019 BAKING & COOKING CAMPS,Summer 2021 - camps,summer recreations classes for kids,Temecula Culinary Camps,Temecula Summer camps 2021
END:VEVENT
END:VCALENDAR