BEGIN:VCALENDAR
VERSION:2.0
PRODID:-// - ECPv6.15.20//NONSGML v1.0//EN
CALSCALE:GREGORIAN
METHOD:PUBLISH
X-ORIGINAL-URL:https://www.celinescuisine.com
X-WR-CALDESC:Events for 
REFRESH-INTERVAL;VALUE=DURATION:PT1H
X-Robots-Tag:noindex
X-PUBLISHED-TTL:PT1H
BEGIN:VTIMEZONE
TZID:America/Los_Angeles
BEGIN:DAYLIGHT
TZOFFSETFROM:-0800
TZOFFSETTO:-0700
TZNAME:PDT
DTSTART:20200308T100000
END:DAYLIGHT
BEGIN:STANDARD
TZOFFSETFROM:-0700
TZOFFSETTO:-0800
TZNAME:PST
DTSTART:20201101T090000
END:STANDARD
BEGIN:DAYLIGHT
TZOFFSETFROM:-0800
TZOFFSETTO:-0700
TZNAME:PDT
DTSTART:20210314T100000
END:DAYLIGHT
BEGIN:STANDARD
TZOFFSETFROM:-0700
TZOFFSETTO:-0800
TZNAME:PST
DTSTART:20211107T090000
END:STANDARD
BEGIN:DAYLIGHT
TZOFFSETFROM:-0800
TZOFFSETTO:-0700
TZNAME:PDT
DTSTART:20220313T100000
END:DAYLIGHT
BEGIN:STANDARD
TZOFFSETFROM:-0700
TZOFFSETTO:-0800
TZNAME:PST
DTSTART:20221106T090000
END:STANDARD
END:VTIMEZONE
BEGIN:VEVENT
DTSTART;TZID=America/Los_Angeles:20210729T083000
DTEND;TZID=America/Los_Angeles:20210729T100000
DTSTAMP:20260424T003300
CREATED:20210529T172939Z
LAST-MODIFIED:20210529T172939Z
UID:15369-1627547400-1627552800@www.celinescuisine.com
SUMMARY:MY LIL CAFE CAMP - MURRIETA
DESCRIPTION:MY LIL CAFE CAMP – MURRIETA\n\nHam and cheese quiche – salad and dressing\nPanini and fruit salad\nBrownies and vanilla whip cream\nFruit crumble with lemon glaze\nlemonade\n\n6-13 YRS \n07/26- 07/29  8:30 – 10 AM
URL:https://www.celinescuisine.com/events/my-lil-cafe-camp-murrieta-8/
LOCATION:Murrieta Community Center\, Juniper street\, murrieta\, 92562\, United States
CATEGORIES:Kids Baking and Culinary Camps ( Inland Empire and Temecula Valley),Murrieta Culinary camps,SUMMER 2019 BAKING & COOKING CAMPS,Summer 2021 - camps
END:VEVENT
BEGIN:VEVENT
DTSTART;TZID=America/Los_Angeles:20210729T103000
DTEND;TZID=America/Los_Angeles:20210729T123000
DTSTAMP:20260424T003300
CREATED:20210529T182019Z
LAST-MODIFIED:20210529T182056Z
UID:15387-1627554600-1627561800@www.celinescuisine.com
SUMMARY:My lil’ bakery camp - murrieta
DESCRIPTION:My lil’ bakery camp – murrieta \n6-13 yrs old \n07/26- 07/29  10:30 – 12:30 \n\nApple or blueberry turnovers\nBerries scones with lemon glaze\nMini Parisian fruit tart\nLevain chocolate chip cookies\nPalmiers cookies
URL:https://www.celinescuisine.com/events/my-lil-bakery-camp-murrieta-3/
LOCATION:Murrieta Community Center\, Juniper street\, murrieta\, 92562\, United States
CATEGORIES:Kids Baking and Culinary Camps ( Inland Empire and Temecula Valley),Murrieta Culinary camps,SUMMER 2019 BAKING & COOKING CAMPS,Summer 2021 - camps,summer recreations classes for kids
END:VEVENT
BEGIN:VEVENT
DTSTART;TZID=America/Los_Angeles:20210729T130000
DTEND;TZID=America/Los_Angeles:20210729T143000
DTSTAMP:20260424T003300
CREATED:20210529T180427Z
LAST-MODIFIED:20210529T180427Z
UID:15379-1627563600-1627569000@www.celinescuisine.com
SUMMARY:MY LIL CAFE CAMP - MURRIETA
DESCRIPTION:MY LIL CAFE CAMP – MURRIETA\n\n07/26- 07/29  -1 – 2:30 PM \n\nHam and cheese quiche – salad and dressing\nPanini and fruit salad\nBrownies and vanilla whip cream\nFruit crumble with lemon glaze\nlemonade
URL:https://www.celinescuisine.com/events/my-lil-cafe-camp-murrieta-12/
LOCATION:Murrieta Community Center\, Juniper street\, murrieta\, 92562\, United States
CATEGORIES:Kids Baking and Culinary Camps ( Inland Empire and Temecula Valley),Murrieta Culinary camps,SUMMER 2019 BAKING & COOKING CAMPS,Summer 2021 - camps,summer recreations classes for kids
END:VEVENT
BEGIN:VEVENT
DTSTART;TZID=America/Los_Angeles:20210729T150000
DTEND;TZID=America/Los_Angeles:20210729T170000
DTSTAMP:20260424T003300
CREATED:20210529T183541Z
LAST-MODIFIED:20210529T183541Z
UID:15395-1627570800-1627578000@www.celinescuisine.com
SUMMARY:My lil’ bakery camp - murrieta
DESCRIPTION:My lil’ bakery camp – murrieta \n6-13 yrs old \n07/26- 07/29  3:00 – 5 :00 pm \n\nApple or blueberry turnovers\nBerries scones with lemon glaze\nMini Parisian fruit tart\nLevain chocolate chip cookies\nPalmiers cookies
URL:https://www.celinescuisine.com/events/my-lil-bakery-camp-murrieta-7/
LOCATION:Murrieta Community Center\, Juniper street\, murrieta\, 92562\, United States
CATEGORIES:Kids Baking and Culinary Camps ( Inland Empire and Temecula Valley),Murrieta Culinary camps,SUMMER 2019 BAKING & COOKING CAMPS,Summer 2021 - camps,summer recreations classes for kids
END:VEVENT
END:VCALENDAR