BEGIN:VCALENDAR
VERSION:2.0
PRODID:-// - ECPv6.15.20//NONSGML v1.0//EN
CALSCALE:GREGORIAN
METHOD:PUBLISH
X-ORIGINAL-URL:https://www.celinescuisine.com
X-WR-CALDESC:Events for 
REFRESH-INTERVAL;VALUE=DURATION:PT1H
X-Robots-Tag:noindex
X-PUBLISHED-TTL:PT1H
BEGIN:VTIMEZONE
TZID:America/Los_Angeles
BEGIN:DAYLIGHT
TZOFFSETFROM:-0800
TZOFFSETTO:-0700
TZNAME:PDT
DTSTART:20200308T100000
END:DAYLIGHT
BEGIN:STANDARD
TZOFFSETFROM:-0700
TZOFFSETTO:-0800
TZNAME:PST
DTSTART:20201101T090000
END:STANDARD
BEGIN:DAYLIGHT
TZOFFSETFROM:-0800
TZOFFSETTO:-0700
TZNAME:PDT
DTSTART:20210314T100000
END:DAYLIGHT
BEGIN:STANDARD
TZOFFSETFROM:-0700
TZOFFSETTO:-0800
TZNAME:PST
DTSTART:20211107T090000
END:STANDARD
BEGIN:DAYLIGHT
TZOFFSETFROM:-0800
TZOFFSETTO:-0700
TZNAME:PDT
DTSTART:20220313T100000
END:DAYLIGHT
BEGIN:STANDARD
TZOFFSETFROM:-0700
TZOFFSETTO:-0800
TZNAME:PST
DTSTART:20221106T090000
END:STANDARD
END:VTIMEZONE
BEGIN:VEVENT
DTSTART;TZID=America/Los_Angeles:20210728T150000
DTEND;TZID=America/Los_Angeles:20210728T170000
DTSTAMP:20260423T064737
CREATED:20210529T183327Z
LAST-MODIFIED:20210529T183327Z
UID:15393-1627484400-1627491600@www.celinescuisine.com
SUMMARY:My lil’ bakery camp - murrieta
DESCRIPTION:My lil’ bakery camp – murrieta \n6-13 yrs old \n07/26- 07/29  3:00 – 5 :00 pm \n\nApple or blueberry turnovers\nBerries scones with lemon glaze\nMini Parisian fruit tart\nLevain chocolate chip cookies\nPalmiers cookies
URL:https://www.celinescuisine.com/events/my-lil-bakery-camp-murrieta-6/
LOCATION:Murrieta Community Center\, Juniper street\, murrieta\, 92562\, United States
CATEGORIES:Kids Baking and Culinary Camps ( Inland Empire and Temecula Valley),Murrieta Culinary camps,SUMMER 2019 BAKING & COOKING CAMPS,Summer 2021 - camps,summer recreations classes for kids
END:VEVENT
BEGIN:VEVENT
DTSTART;TZID=America/Los_Angeles:20210728T130000
DTEND;TZID=America/Los_Angeles:20210728T143000
DTSTAMP:20260423T064737
CREATED:20210529T180130Z
LAST-MODIFIED:20210529T180130Z
UID:15377-1627477200-1627482600@www.celinescuisine.com
SUMMARY:MY LIL CAFE CAMP - MURRIETA
DESCRIPTION:MY LIL CAFE CAMP – MURRIETA\n\nHam and cheese quiche – salad and dressing\nPanini and fruit salad\nBrownies and vanilla whip cream\nFruit crumble with lemon glaze\nlemonade\n\n6-13 YRS \n07/26- 07/29   1 :00 – 2:30 PM
URL:https://www.celinescuisine.com/events/my-lil-cafe-camp-murrieta-11/
LOCATION:Murrieta Community Center\, Juniper street\, murrieta\, 92562\, United States
CATEGORIES:Kids Baking and Culinary Camps ( Inland Empire and Temecula Valley),Murrieta Culinary camps,SUMMER 2019 BAKING & COOKING CAMPS,Summer 2021 - camps,summer recreations classes for kids
END:VEVENT
BEGIN:VEVENT
DTSTART;TZID=America/Los_Angeles:20210728T103000
DTEND;TZID=America/Los_Angeles:20210728T123000
DTSTAMP:20260423T064737
CREATED:20210529T181821Z
LAST-MODIFIED:20210529T181821Z
UID:15385-1627468200-1627475400@www.celinescuisine.com
SUMMARY:My lil’ bakery camp - murrieta
DESCRIPTION:My lil’ bakery camp – murrieta \n6-13 yrs old \n07/26- 07/29  10:30 – 12:30 \n\nApple or blueberry turnovers\nBerries scones with lemon glaze\nMini Parisian fruit tart\nLevain chocolate chip cookies\nPalmiers cookies
URL:https://www.celinescuisine.com/events/my-lil-bakery-camp-murrieta-2/
LOCATION:Murrieta Community Center\, Juniper street\, murrieta\, 92562\, United States
CATEGORIES:Kids Baking and Culinary Camps ( Inland Empire and Temecula Valley),Murrieta Culinary camps,SUMMER 2019 BAKING & COOKING CAMPS
END:VEVENT
BEGIN:VEVENT
DTSTART;TZID=America/Los_Angeles:20210728T083000
DTEND;TZID=America/Los_Angeles:20210728T100000
DTSTAMP:20260423T064737
CREATED:20210529T172751Z
LAST-MODIFIED:20210529T172751Z
UID:15367-1627461000-1627466400@www.celinescuisine.com
SUMMARY:MY LIL CAFE CAMP - MURRIETA
DESCRIPTION:MY LIL CAFE CAMP – MURRIETA\n\nHam and cheese quiche – salad and dressing\nPanini and fruit salad\nBrownies and vanilla whip cream\nFruit crumble with lemon glaze\nlemonade\n\n6-13 YRS \n07/26- 07/29  8:30 – 10 AM
URL:https://www.celinescuisine.com/events/my-lil-cafe-camp-murrieta-7/
LOCATION:Murrieta Community Center\, Juniper street\, murrieta\, 92562\, United States
CATEGORIES:Kids Baking and Culinary Camps ( Inland Empire and Temecula Valley),Murrieta Culinary camps,SUMMER 2019 BAKING & COOKING CAMPS,Summer 2021 - camps,summer recreations classes for kids
END:VEVENT
BEGIN:VEVENT
DTSTART;TZID=America/Los_Angeles:20210727T150000
DTEND;TZID=America/Los_Angeles:20210727T170000
DTSTAMP:20260423T064737
CREATED:20210529T183145Z
LAST-MODIFIED:20210529T183145Z
UID:15391-1627398000-1627405200@www.celinescuisine.com
SUMMARY:My lil’ bakery camp - murrieta
DESCRIPTION:My lil’ bakery camp – murrieta \n6-13 yrs old \n07/26- 07/29  3:00 – 5 :00 pm \n\nApple or blueberry turnovers\nBerries scones with lemon glaze\nMini Parisian fruit tart\nLevain chocolate chip cookies\nPalmiers cookies
URL:https://www.celinescuisine.com/events/my-lil-bakery-camp-murrieta-5/
LOCATION:Murrieta Community Center\, Juniper street\, murrieta\, 92562\, United States
CATEGORIES:Kids Baking and Culinary Camps ( Inland Empire and Temecula Valley),Murrieta Culinary camps,SUMMER 2019 BAKING & COOKING CAMPS,Summer 2021 - camps,summer recreations classes for kids
END:VEVENT
BEGIN:VEVENT
DTSTART;TZID=America/Los_Angeles:20210727T130000
DTEND;TZID=America/Los_Angeles:20210727T143000
DTSTAMP:20260423T064737
CREATED:20210529T175926Z
LAST-MODIFIED:20210529T175926Z
UID:15375-1627390800-1627396200@www.celinescuisine.com
SUMMARY:MY LIL CAFE CAMP - MURRIETA
DESCRIPTION:MY LIL CAFE CAMP – MURRIETA\n\nHam and cheese quiche – salad and dressing\nPanini and fruit salad\nBrownies and vanilla whip cream\nFruit crumble with lemon glaze\nlemonade\n\n6-13 YRS \n07/26- 07/29   1 :00 – 2:30 PM
URL:https://www.celinescuisine.com/events/my-lil-cafe-camp-murrieta-10/
LOCATION:Murrieta Community Center\, Juniper street\, murrieta\, 92562\, United States
CATEGORIES:Kids Baking and Culinary Camps ( Inland Empire and Temecula Valley),Murrieta Culinary camps,SUMMER 2019 BAKING & COOKING CAMPS,Summer 2021 - camps,summer recreations classes for kids
END:VEVENT
BEGIN:VEVENT
DTSTART;TZID=America/Los_Angeles:20210727T103000
DTEND;TZID=America/Los_Angeles:20210727T123000
DTSTAMP:20260423T064737
CREATED:20210529T181029Z
LAST-MODIFIED:20210529T181029Z
UID:15383-1627381800-1627389000@www.celinescuisine.com
SUMMARY:My lil’ bakery camp - murrieta
DESCRIPTION:My lil’ bakery camp \n07/26- 07/29  10:30 – 12:30 \n6-13 YRS \n\nApple or blueberry turnovers\nBerries scones with lemon glaze\nMini Parisian fruit tart\nLevain chocolate chip cookies\nPalmiers cookies\n\n 
URL:https://www.celinescuisine.com/events/my-lil-bakery-camp-murrieta/
LOCATION:Murrieta Community Center\, Juniper street\, murrieta\, 92562\, United States
CATEGORIES:Kids Baking and Culinary Camps ( Inland Empire and Temecula Valley),Murrieta Culinary camps,SUMMER 2019 BAKING & COOKING CAMPS,Summer 2021 - camps,summer recreations classes for kids
END:VEVENT
BEGIN:VEVENT
DTSTART;TZID=America/Los_Angeles:20210727T083000
DTEND;TZID=America/Los_Angeles:20210727T100000
DTSTAMP:20260423T064737
CREATED:20210529T172450Z
LAST-MODIFIED:20210529T172450Z
UID:15363-1627374600-1627380000@www.celinescuisine.com
SUMMARY:MY LIL CAFE CAMP - MURRIETA
DESCRIPTION:MY LIL CAFE CAMP – MURRIETA\n\nHam and cheese quiche – salad and dressing\nPanini and fruit salad\nBrownies and vanilla whip cream\nFruit crumble with lemon glaze\nlemonade\n\n6-13 YRS \n07/26- 07/29  8:30 – 10 AM
URL:https://www.celinescuisine.com/events/my-lil-cafe-camp-murrieta-5/
LOCATION:TCC 28816 Pujol Street Temecula\, 28816 Pujol Street Temecula\, TEMECULA\, CA\, 92590\, United States
CATEGORIES:Kids Baking and Culinary Camps ( Inland Empire and Temecula Valley),Murrieta Culinary camps,SUMMER 2019 BAKING & COOKING CAMPS,Summer 2021 - camps,summer recreations classes for kids
END:VEVENT
BEGIN:VEVENT
DTSTART;TZID=America/Los_Angeles:20210726T150000
DTEND;TZID=America/Los_Angeles:20210726T170000
DTSTAMP:20260423T064737
CREATED:20210529T182248Z
LAST-MODIFIED:20210529T183024Z
UID:15389-1627311600-1627318800@www.celinescuisine.com
SUMMARY:My lil’ bakery camp - murrieta
DESCRIPTION:My lil’ bakery camp – murrieta \n6-13 yrs old \n07/26- 07/29  3:00 – 5 :00 pm \n\nApple or blueberry turnovers\nBerries scones with lemon glaze\nMini Parisian fruit tart\nLevain chocolate chip cookies\nPalmiers cookies
URL:https://www.celinescuisine.com/events/my-lil-bakery-camp-murrieta-4/
LOCATION:Murrieta Community Center\, Juniper street\, murrieta\, 92562\, United States
CATEGORIES:Kids Baking and Culinary Camps ( Inland Empire and Temecula Valley),Murrieta Culinary camps,SUMMER 2019 BAKING & COOKING CAMPS,Summer 2021 - camps,summer recreations classes for kids
END:VEVENT
BEGIN:VEVENT
DTSTART;TZID=America/Los_Angeles:20210726T130000
DTEND;TZID=America/Los_Angeles:20210726T143000
DTSTAMP:20260423T064737
CREATED:20210529T173316Z
LAST-MODIFIED:20210529T173316Z
UID:15373-1627304400-1627309800@www.celinescuisine.com
SUMMARY:MY LIL CAFE CAMP - MURRIETA
DESCRIPTION:MY LIL CAFE CAMP – MURRIETA\n\nHam and cheese quiche – salad and dressing\nPanini and fruit salad\nBrownies and vanilla whip cream\nFruit crumble with lemon glaze\nlemonade\n\n6-13 YRS \n07/26- 07/29   1 :00 – 2:30 PM
URL:https://www.celinescuisine.com/events/my-lil-cafe-camp-murrieta-9/
LOCATION:Murrieta Community Center\, Juniper street\, murrieta\, 92562\, United States
CATEGORIES:Kids Baking and Culinary Camps ( Inland Empire and Temecula Valley),Murrieta Culinary camps,SUMMER 2019 BAKING & COOKING CAMPS,Summer 2021 - camps,summer recreations classes for kids
END:VEVENT
BEGIN:VEVENT
DTSTART;TZID=America/Los_Angeles:20210726T103000
DTEND;TZID=America/Los_Angeles:20210726T123000
DTSTAMP:20260423T064737
CREATED:20210529T180808Z
LAST-MODIFIED:20210529T180808Z
UID:15381-1627295400-1627302600@www.celinescuisine.com
SUMMARY:My lil’ bakery camp
DESCRIPTION:My lil’ bakery camp \n07/26- 07/29  10:30 – 12:30 \n6-13 YRS \n\nApple or blueberry turnovers\nBerries scones with lemon glaze\nMini Parisian fruit tart\nLevain chocolate chip cookies\nPalmiers cookies\n\n 
URL:https://www.celinescuisine.com/events/my-lil-bakery-camp/
LOCATION:Murrieta Community Center\, Juniper street\, murrieta\, 92562\, United States
CATEGORIES:Kids Baking and Culinary Camps ( Inland Empire and Temecula Valley),Murrieta Culinary camps,SUMMER 2019 BAKING & COOKING CAMPS,Summer 2021 - camps,summer recreations classes for kids
END:VEVENT
BEGIN:VEVENT
DTSTART;TZID=America/Los_Angeles:20210726T083000
DTEND;TZID=America/Los_Angeles:20210726T220000
DTSTAMP:20260423T064737
CREATED:20210529T172253Z
LAST-MODIFIED:20210529T172253Z
UID:15361-1627288200-1627336800@www.celinescuisine.com
SUMMARY:My lil’ café camp Camp - Murrieta
DESCRIPTION:Ham and cheese quiche – salad and dressing\nPanini and fruit salad\nBrownies and vanilla whip cream\nFruit crumble with lemon glaze\nlemonade\n\n6-13 YRS \n07/26- 07/29  8:30 – 10 AM
URL:https://www.celinescuisine.com/events/my-lil-cafe-camp-camp-murrieta/
LOCATION:Murrieta Community Center\, Juniper street\, murrieta\, 92562\, United States
CATEGORIES:Kids Baking and Culinary Camps ( Inland Empire and Temecula Valley),Murrieta Culinary camps,SUMMER 2019 BAKING & COOKING CAMPS,Summer 2021 - camps,summer recreations classes for kids
END:VEVENT
BEGIN:VEVENT
DTSTART;TZID=America/Los_Angeles:20210722T173000
DTEND;TZID=America/Los_Angeles:20210722T193000
DTSTAMP:20260423T064737
CREATED:20210529T170549Z
LAST-MODIFIED:20210529T171238Z
UID:15355-1626975000-1626982200@www.celinescuisine.com
SUMMARY:KIDS COOK DINNER CAMP- TEMECULA
DESCRIPTION:7-13 yrs \n7/19-7/22 -5:30- 7:30 pm \n  \n\nPizza sausage bun\nGreek salad\nChocolate chip cookies\nFruit salad in chocolate cup
URL:https://www.celinescuisine.com/events/15355/
LOCATION:TCC 28816 Pujol Street Temecula\, 28816 Pujol Street Temecula\, TEMECULA\, CA\, 92590\, United States
CATEGORIES:SUMMER 2019 BAKING & COOKING CAMPS,Summer 2021 - camps,summer recreations classes for kids,Temecula Culinary Camps,Temecula Summer camps 2021
END:VEVENT
BEGIN:VEVENT
DTSTART;TZID=America/Los_Angeles:20210722T150000
DTEND;TZID=America/Los_Angeles:20210722T170000
DTSTAMP:20260423T064737
CREATED:20210529T165115Z
LAST-MODIFIED:20210529T165115Z
UID:15349-1626966000-1626973200@www.celinescuisine.com
SUMMARY:kids cook dinner camp- Temecula
DESCRIPTION:kids cook dinner camp- Temecula \n7-13 yrs \n7/19-7/22 -3- 5 PM \n  \n\nPizza sausage bun\nGreek salad\nChocolate chip cookies\nFruit salad in chocolate cup
URL:https://www.celinescuisine.com/events/kids-cook-dinner-camp-temecula-3/
LOCATION:TCC 28816 Pujol Street Temecula\, 28816 Pujol Street Temecula\, TEMECULA\, CA\, 92590\, United States
CATEGORIES:SUMMER 2019 BAKING & COOKING CAMPS,Summer 2021 - camps,summer recreations classes for kids,Temecula Culinary Camps,Temecula Summer camps 2021
END:VEVENT
BEGIN:VEVENT
DTSTART;TZID=America/Los_Angeles:20210722T090000
DTEND;TZID=America/Los_Angeles:20210722T110000
DTSTAMP:20260423T064737
CREATED:20210529T164232Z
LAST-MODIFIED:20210529T164232Z
UID:15341-1626944400-1626951600@www.celinescuisine.com
SUMMARY:FRENCH PASTRIES CAMP - TEMECULA
DESCRIPTION:7-13 YEARS \n7/19-7/22 –  NOON – 2 PM \n  \n\nKouign aman\nPalmiers cookies\nRaspberry clafouti custard pie\nChocolate orange lava cake\nButter cookies
URL:https://www.celinescuisine.com/events/french-pastries-camp-temecula-4/
LOCATION:TCC 28816 Pujol Street Temecula\, 28816 Pujol Street Temecula\, TEMECULA\, CA\, 92590\, United States
CATEGORIES:Kids Baking and Culinary Camps ( Inland Empire and Temecula Valley),SUMMER 2019 BAKING & COOKING CAMPS,Summer 2021 - camps,summer recreations classes for kids,Temecula Culinary Camps,Temecula Summer camps 2021
END:VEVENT
BEGIN:VEVENT
DTSTART;TZID=America/Los_Angeles:20210722T090000
DTEND;TZID=America/Los_Angeles:20210722T110000
DTSTAMP:20260423T064737
CREATED:20210529T162758Z
LAST-MODIFIED:20210529T162758Z
UID:15333-1626944400-1626951600@www.celinescuisine.com
SUMMARY:JUNIOR MASTER CHEFS - TEMECULA
DESCRIPTION:9-14 yrs \n7/19-7/22 –  9-11 AM \n  \n\nSalad and dressing\nSandwich\nItalian calzone pizza
URL:https://www.celinescuisine.com/events/junior-master-chefs-temecula-2/
LOCATION:TCC 28816 Pujol Street Temecula\, 28816 Pujol Street Temecula\, TEMECULA\, CA\, 92590\, United States
CATEGORIES:Kids Baking and Culinary Camps ( Inland Empire and Temecula Valley),SUMMER 2019 BAKING & COOKING CAMPS,Summer 2021 - camps,summer recreations classes for kids,Temecula Culinary Camps,Temecula Summer camps 2021
END:VEVENT
BEGIN:VEVENT
DTSTART;TZID=America/Los_Angeles:20210721T173000
DTEND;TZID=America/Los_Angeles:20210721T193000
DTSTAMP:20260423T064737
CREATED:20210529T170909Z
LAST-MODIFIED:20210529T170909Z
UID:15357-1626888600-1626895800@www.celinescuisine.com
SUMMARY:KIDS COOK DINNER CAMP - TEMECULA
DESCRIPTION:KIDS COOK DINNER CAMP – TEMECULA \n7-13 yrs \n7/19-7/22 -5:30- 7:30 pm \n  \n\nPizza sausage bun\nGreek salad\nChocolate chip cookies\nFruit salad in chocolate cup
URL:https://www.celinescuisine.com/events/kids-cook-dinner-camp-temecula-6/
LOCATION:TCC 28816 Pujol Street Temecula\, 28816 Pujol Street Temecula\, TEMECULA\, CA\, 92590\, United States
CATEGORIES:Kids Baking and Culinary Camps ( Inland Empire and Temecula Valley),SUMMER 2019 BAKING & COOKING CAMPS,Summer 2021 - camps,summer recreations classes for kids,Temecula Culinary Camps,Temecula Summer camps 2021
END:VEVENT
BEGIN:VEVENT
DTSTART;TZID=America/Los_Angeles:20210721T150000
DTEND;TZID=America/Los_Angeles:20210721T170000
DTSTAMP:20260423T064737
CREATED:20210529T164950Z
LAST-MODIFIED:20210529T171339Z
UID:15347-1626879600-1626886800@www.celinescuisine.com
SUMMARY:kids cook dinner camp- Temecula
DESCRIPTION:kids cook dinner camp- Temecula \n7-13 yrs \n7/19-7/22 -3- 5 PM \n  \n\nPizza sausage bun\nGreek salad\nChocolate chip cookies\nFruit salad in chocolate cup
URL:https://www.celinescuisine.com/events/15347/
LOCATION:TCC 28816 Pujol Street Temecula\, 28816 Pujol Street Temecula\, TEMECULA\, CA\, 92590\, United States
CATEGORIES:Kids Baking and Culinary Camps ( Inland Empire and Temecula Valley),SUMMER 2019 BAKING & COOKING CAMPS,Summer 2021 - camps,summer recreations classes for kids,Temecula Culinary Camps,Temecula Summer camps 2021
END:VEVENT
BEGIN:VEVENT
DTSTART;TZID=America/Los_Angeles:20210721T090000
DTEND;TZID=America/Los_Angeles:20210721T110000
DTSTAMP:20260423T064737
CREATED:20210529T164049Z
LAST-MODIFIED:20210529T164049Z
UID:15339-1626858000-1626865200@www.celinescuisine.com
SUMMARY:FRENCH PASTRIES  CAMP - TEMECULA
DESCRIPTION:7-13 YEARS \n7/19-7/22 –  NOON – 2 PM \n  \n\nKouign aman\nPalmiers cookies\nRaspberry clafouti custard pie\nChocolate orange lava cake\nButter cookies
URL:https://www.celinescuisine.com/events/french-pastries-camp-temecula-3/
LOCATION:TCC 28816 Pujol Street Temecula\, 28816 Pujol Street Temecula\, TEMECULA\, CA\, 92590\, United States
CATEGORIES:Kids Baking and Culinary Camps ( Inland Empire and Temecula Valley),SUMMER 2019 BAKING & COOKING CAMPS,Summer 2021 - camps,summer recreations classes for kids,Temecula Culinary Camps,Temecula Summer camps 2021
END:VEVENT
BEGIN:VEVENT
DTSTART;TZID=America/Los_Angeles:20210721T090000
DTEND;TZID=America/Los_Angeles:20210721T110000
DTSTAMP:20260423T064737
CREATED:20210529T162631Z
LAST-MODIFIED:20210529T162631Z
UID:15331-1626858000-1626865200@www.celinescuisine.com
SUMMARY:JUNIOR MASTER CHEFS - TEMECULA
DESCRIPTION:9-14 yrs \n7/19-7/22 –  9-11 AM \n  \n\nSalad and dressing\nSandwich\nItalian calzone pizza
URL:https://www.celinescuisine.com/events/junior-master-chefs-temecula/
LOCATION:TCC 28816 Pujol Street Temecula\, 28816 Pujol Street Temecula\, TEMECULA\, CA\, 92590\, United States
CATEGORIES:Kids Baking and Culinary Camps ( Inland Empire and Temecula Valley),SUMMER 2019 BAKING & COOKING CAMPS,Summer 2021 - camps,summer recreations classes for kids,Temecula Culinary Camps,Temecula Summer camps 2021
END:VEVENT
BEGIN:VEVENT
DTSTART;TZID=America/Los_Angeles:20210720T173000
DTEND;TZID=America/Los_Angeles:20210720T193000
DTSTAMP:20260423T064737
CREATED:20210529T165451Z
LAST-MODIFIED:20210529T165451Z
UID:15353-1626802200-1626809400@www.celinescuisine.com
SUMMARY:kids cook dinner camp- Temecula
DESCRIPTION:kids cook dinner camp- Temecula \n7-13 yrs \n7/19-7/22 -5:30- 7:30 pm \n  \n\nPizza sausage bun\nGreek salad\nChocolate chip cookies\nFruit salad in chocolate cup
URL:https://www.celinescuisine.com/events/kids-cook-dinner-camp-temecula-5/
LOCATION:TCC 28816 Pujol Street Temecula\, 28816 Pujol Street Temecula\, TEMECULA\, CA\, 92590\, United States
CATEGORIES:Kids Baking and Culinary Camps ( Inland Empire and Temecula Valley),SUMMER 2019 BAKING & COOKING CAMPS,Summer 2021 - camps,summer recreations classes for kids,Temecula Culinary Camps,Temecula Summer camps 2021
END:VEVENT
BEGIN:VEVENT
DTSTART;TZID=America/Los_Angeles:20210720T150000
DTEND;TZID=America/Los_Angeles:20210720T170000
DTSTAMP:20260423T064737
CREATED:20210529T164640Z
LAST-MODIFIED:20210529T164640Z
UID:15345-1626793200-1626800400@www.celinescuisine.com
SUMMARY:kids cook dinner camp- Temecula
DESCRIPTION:kids cook dinner camp- Temecula \n7/19-7/22 -3- 5 PM \n7-13 YEARS OLD \n\nPizza sausage bun\nGreek salad\nChocolate chip cookies\nFruit salad in chocolate cup
URL:https://www.celinescuisine.com/events/kids-cook-dinner-camp-temecula-2/
LOCATION:TCC 28816 Pujol Street Temecula\, 28816 Pujol Street Temecula\, TEMECULA\, CA\, 92590\, United States
CATEGORIES:Kids Baking and Culinary Camps ( Inland Empire and Temecula Valley),SUMMER 2019 BAKING & COOKING CAMPS,Summer 2021 - camps,summer recreations classes for kids,Temecula Culinary Camps,Temecula Summer camps 2021
END:VEVENT
BEGIN:VEVENT
DTSTART;TZID=America/Los_Angeles:20210720T090000
DTEND;TZID=America/Los_Angeles:20210720T110000
DTSTAMP:20260423T064737
CREATED:20210529T163835Z
LAST-MODIFIED:20210529T163835Z
UID:15337-1626771600-1626778800@www.celinescuisine.com
SUMMARY:FRENCH PASTRIES CAMP - TEMECULA
DESCRIPTION:7-13 YEARS \n7/19-7/22 –  NOON – 2 PM \n  \n\nKouign aman\nPalmiers cookies\nRaspberry clafouti custard pie\nChocolate orange lava cake\nButter cookies
URL:https://www.celinescuisine.com/events/french-pastries-camp-temecula-2/
LOCATION:TCC 28816 Pujol Street Temecula\, 28816 Pujol Street Temecula\, TEMECULA\, CA\, 92590\, United States
CATEGORIES:Kids Baking and Culinary Camps ( Inland Empire and Temecula Valley),SUMMER 2019 BAKING & COOKING CAMPS,Summer 2021 - camps,summer recreations classes for kids,Temecula Culinary Camps,Temecula Summer camps 2021
END:VEVENT
BEGIN:VEVENT
DTSTART;TZID=America/Los_Angeles:20210720T090000
DTEND;TZID=America/Los_Angeles:20210720T110000
DTSTAMP:20260423T064737
CREATED:20210529T162505Z
LAST-MODIFIED:20210529T162505Z
UID:15329-1626771600-1626778800@www.celinescuisine.com
SUMMARY:JUNIOR MASTER CHEF CAMP - TEMECULA
DESCRIPTION:9-14 yrs \n7/19-7/22 –  9-11 AM \n  \n\nSalad and dressing\nSandwich\nItalian calzone pizza
URL:https://www.celinescuisine.com/events/junior-master-chef-camp-temecula/
LOCATION:TCC 28816 Pujol Street Temecula\, 28816 Pujol Street Temecula\, TEMECULA\, CA\, 92590\, United States
CATEGORIES:Kids Baking and Culinary Camps ( Inland Empire and Temecula Valley),SUMMER 2019 BAKING & COOKING CAMPS,Summer 2021 - camps,summer recreations classes for kids,Temecula Culinary Camps,Temecula Summer camps 2021
END:VEVENT
BEGIN:VEVENT
DTSTART;TZID=America/Los_Angeles:20210719T173000
DTEND;TZID=America/Los_Angeles:20210719T193000
DTSTAMP:20260423T064737
CREATED:20210529T165259Z
LAST-MODIFIED:20210529T165259Z
UID:15351-1626715800-1626723000@www.celinescuisine.com
SUMMARY:kids cook dinner camp- Temecula
DESCRIPTION:  \nkids cook dinner camp- Temecula \n7-13 yrs \n7/19-7/22 -5:30- 7:30 pm \n  \n\nPizza sausage bun\nGreek salad\nChocolate chip cookies\nFruit salad in chocolate cup
URL:https://www.celinescuisine.com/events/kids-cook-dinner-camp-temecula-4/
LOCATION:TCC 28816 Pujol Street Temecula\, 28816 Pujol Street Temecula\, TEMECULA\, CA\, 92590\, United States
CATEGORIES:Kids Baking and Culinary Camps ( Inland Empire and Temecula Valley),SUMMER 2019 BAKING & COOKING CAMPS,Summer 2021 - camps,summer recreations classes for kids,Temecula Culinary Camps,Temecula Summer camps 2021
END:VEVENT
BEGIN:VEVENT
DTSTART;TZID=America/Los_Angeles:20210719T150000
DTEND;TZID=America/Los_Angeles:20210719T170000
DTSTAMP:20260423T064737
CREATED:20210529T164452Z
LAST-MODIFIED:20210529T164452Z
UID:15343-1626706800-1626714000@www.celinescuisine.com
SUMMARY:Kids cook dinner camp - TEMECULA
DESCRIPTION:7/19-7/22 -3- 5 PM \n7-13 YEARS OLD \n\nPizza sausage bun\nGreek salad\nChocolate chip cookies\nFruit salad in chocolate cup
URL:https://www.celinescuisine.com/events/kids-cook-dinner-camp-temecula/
LOCATION:TCC 28816 Pujol Street Temecula\, 28816 Pujol Street Temecula\, TEMECULA\, CA\, 92590\, United States
CATEGORIES:Kids Baking and Culinary Camps ( Inland Empire and Temecula Valley),SUMMER 2019 BAKING & COOKING CAMPS,Summer 2021 - camps,summer recreations classes for kids,Temecula Culinary Camps,Temecula Summer camps 2021
END:VEVENT
BEGIN:VEVENT
DTSTART;TZID=America/Los_Angeles:20210719T120000
DTEND;TZID=America/Los_Angeles:20210719T140000
DTSTAMP:20260423T064737
CREATED:20210529T163117Z
LAST-MODIFIED:20210529T163117Z
UID:15335-1626696000-1626703200@www.celinescuisine.com
SUMMARY:French pastries camp  - TEMECULA
DESCRIPTION:7-13 YEARS \n7/19-7/22 –  NOON – 2 PM \n  \n\nKouign aman\nPalmiers cookies\nRaspberry clafouti custard pie\nChocolate orange lava cake\nButter cookies
URL:https://www.celinescuisine.com/events/french-pastries-camp-temecula/
LOCATION:TCC 28816 Pujol Street Temecula\, 28816 Pujol Street Temecula\, TEMECULA\, CA\, 92590\, United States
CATEGORIES:Kids Baking and Culinary Camps ( Inland Empire and Temecula Valley),SUMMER 2019 BAKING & COOKING CAMPS,Summer 2021 - camps,summer recreations classes for kids,Temecula Culinary Camps,Temecula Summer camps 2021
END:VEVENT
BEGIN:VEVENT
DTSTART;TZID=America/Los_Angeles:20210719T090000
DTEND;TZID=America/Los_Angeles:20210719T110000
DTSTAMP:20260423T064737
CREATED:20210529T162328Z
LAST-MODIFIED:20210529T162328Z
UID:15327-1626685200-1626692400@www.celinescuisine.com
SUMMARY:Master chef - Temecula
DESCRIPTION:9-14 yrs \n7/19-7/22 –  9-11 AM \n  \n\nSalad and dressing\nSandwich\nItalian calzone pizza
URL:https://www.celinescuisine.com/events/master-chef-temecula/
LOCATION:TCC 28816 Pujol Street Temecula\, 28816 Pujol Street Temecula\, TEMECULA\, CA\, 92590\, United States
CATEGORIES:Kids Baking and Culinary Camps ( Inland Empire and Temecula Valley),SUMMER 2019 BAKING & COOKING CAMPS,Summer 2021 - camps,Temecula Culinary Camps,Temecula Summer camps 2021
END:VEVENT
BEGIN:VEVENT
DTSTART;TZID=America/Los_Angeles:20210713T090000
DTEND;TZID=America/Los_Angeles:20210713T110000
DTSTAMP:20260423T064737
CREATED:20210520T210023Z
LAST-MODIFIED:20210520T210023Z
UID:15151-1626166800-1626174000@www.celinescuisine.com
SUMMARY:BREAKFAST & BRUNCH  1686-202
DESCRIPTION:7-13 YEARS OLD\n\n7/12-7/15\n\n9-11 amVITIES\n\n\n\n\n\n\nBaked French toasts with berries and bananas 2.      Mini quiche 3.            Zucchini and  chicken cheesy quesadilla 4.  Italian Bruschetta 5.   Orange-lemon-ade – 6. Crispy cinamon rolls \nIngredients :  Sandwich bread\, berries\, eggs\, milk or cream\, butter\,  store -bough croissant dough\, cinamon\, icing sugar\, lemon juice\, sugar\, banana\, eggs\, cheese\, ham or turkey slices\, zucchini\, mozzarella\, garlic\, tortilla\, bread\, fresh tomatoes\, olive oil\, garlic\, basil \, lemon\, orange \, sugarwear comfortable clothes\, an apron*\, a  mask\, a medium large food container. Long hair should be tight up and hands need to be washed before starting the class.  * aprons will be available on site – \n 
URL:https://www.celinescuisine.com/events/breakfast-brunch-1686-202-2/
LOCATION:TCC 28816 Pujol Street Temecula\, 28816 Pujol Street Temecula\, TEMECULA\, CA\, 92590\, United States
CATEGORIES:Kids Baking and Culinary Camps ( Inland Empire and Temecula Valley),SUMMER 2019 BAKING & COOKING CAMPS,summer recreations classes for kids,Temecula Culinary Camps
END:VEVENT
BEGIN:VEVENT
DTSTART;TZID=America/Los_Angeles:20210709T130000
DTEND;TZID=America/Los_Angeles:20210709T143000
DTSTAMP:20260423T064737
CREATED:20210529T184236Z
LAST-MODIFIED:20210529T184330Z
UID:15401-1625835600-1625841000@www.celinescuisine.com
SUMMARY:MY LIL CAFE CAMP – MURRIETA
DESCRIPTION:MY LIL CAFE CAMP – MURRIETA\n\nJuly 6 -july 9  @ 1:00 pm – 2:30 pm\n\n6-13 YEARS OLD 7/6-7/9 1:00 – 2:30 PM   Ham and cheese quiche – salad and dressing Panini and fruit salad Brownies and vanilla whip cream Fruit crumble with lemon glaze lemonade
URL:https://www.celinescuisine.com/events/my-lil-cafe-camp-murrieta-15/
LOCATION:Murrieta Community Center\, Juniper street\, murrieta\, 92562\, United States
CATEGORIES:Kids Baking and Culinary Camps ( Inland Empire and Temecula Valley),Murrieta Culinary camps,SUMMER 2019 BAKING & COOKING CAMPS,Summer 2021 - camps,summer recreations classes for kids
END:VEVENT
END:VCALENDAR