BEGIN:VCALENDAR
VERSION:2.0
PRODID:-// - ECPv6.15.20//NONSGML v1.0//EN
CALSCALE:GREGORIAN
METHOD:PUBLISH
X-ORIGINAL-URL:https://www.celinescuisine.com
X-WR-CALDESC:Events for 
REFRESH-INTERVAL;VALUE=DURATION:PT1H
X-Robots-Tag:noindex
X-PUBLISHED-TTL:PT1H
BEGIN:VTIMEZONE
TZID:America/Los_Angeles
BEGIN:DAYLIGHT
TZOFFSETFROM:-0800
TZOFFSETTO:-0700
TZNAME:PDT
DTSTART:20180311T100000
END:DAYLIGHT
BEGIN:STANDARD
TZOFFSETFROM:-0700
TZOFFSETTO:-0800
TZNAME:PST
DTSTART:20181104T090000
END:STANDARD
BEGIN:DAYLIGHT
TZOFFSETFROM:-0800
TZOFFSETTO:-0700
TZNAME:PDT
DTSTART:20190310T100000
END:DAYLIGHT
BEGIN:STANDARD
TZOFFSETFROM:-0700
TZOFFSETTO:-0800
TZNAME:PST
DTSTART:20191103T090000
END:STANDARD
BEGIN:DAYLIGHT
TZOFFSETFROM:-0800
TZOFFSETTO:-0700
TZNAME:PDT
DTSTART:20200308T100000
END:DAYLIGHT
BEGIN:STANDARD
TZOFFSETFROM:-0700
TZOFFSETTO:-0800
TZNAME:PST
DTSTART:20201101T090000
END:STANDARD
END:VTIMEZONE
BEGIN:VEVENT
DTSTART;TZID=America/Los_Angeles:20190708T173000
DTEND;TZID=America/Los_Angeles:20190711T193000
DTSTAMP:20260423T041625
CREATED:20190508T201759Z
LAST-MODIFIED:20190509T154634Z
UID:14156-1562607000-1562873400@www.celinescuisine.com
SUMMARY:Kids can bake - Menifee baking camp for kids
DESCRIPTION:In Celine’s Cuisine Cooking and Baking Camps for kids\, children will learn to make basic pastries\, treats\, and sweets from scratch. All items made in class are cooked or baked completely from scratch\, with no boxed-mixes or food colorings. Students will take turns measuring\, weighing\, and mixing the ingredients required to make delicious treats and pastries. All students get to eat everything they make in class! This class is a fantastic way for aspiring young chefs to learn about very easy cooking techniques\, new flavors\, and new food. Any level of experience is welcome\, and vegetarian recipe modification can be provided upon request. \n  \nMenu :  Summer fruit crostada\, croissant profiterole\, smoothie fruit bowl\, fruit turnovers.
URL:https://www.celinescuisine.com/events/kids-can-bake-menifee-baking-camp-for-kids/
LOCATION:menifee Lazy Creek Recreation Center\, 26480 Lazy Creek Rd\, Sun City\, CA 92586\, Sun City\, CA\, 92586\, United States
CATEGORIES:Menifee Summer cooking camps,SUMMER COOKING - BAKINB CAMPS
END:VEVENT
BEGIN:VEVENT
DTSTART;TZID=America/Los_Angeles:20190617T173000
DTEND;TZID=America/Los_Angeles:20190620T190000
DTSTAMP:20260423T041625
CREATED:20190506T190215Z
LAST-MODIFIED:20190506T190215Z
UID:14132-1560792600-1561057200@www.celinescuisine.com
SUMMARY:Menifee  KIDS CAN COOK CAMP   June 17-20
DESCRIPTION:In Celine’s Cuisine Cooking and Baking Classes for kids\, children will learn to make basic pastries\, treats\, and sweets from scratch. All items made in class are cooked or baked completely from scratch\, with no boxed-mixes or food colorings. Students will take turns measuring\, weighing\, and mixing the ingredients required to make delicious treats and pastries. All students get to eat everything they make in class! This class is a fantastic way for aspiring young chefs to learn about very easy cooking techniques\, new flavors\, and new food. Any level of experience is welcome\, and vegetarian recipe modification can be provided upon request. \nUPCOMING MENUS (Please review the menu prior to enrolling in the program to ensure that you are enrolling the student in the proper program): \n  \nMENU : Italian bruschetta\, mini quiches\, paninis\, salad\, guacamole and tortilla chips and more
URL:https://www.celinescuisine.com/events/menifee-kids-can-cook-camp-june-17-20/
LOCATION:menifee Lazy Creek Recreation Center\, 26480 Lazy Creek Rd\, Sun City\, CA 92586\, Sun City\, CA\, 92586\, United States
CATEGORIES:Menifee Summer cooking camps
END:VEVENT
END:VCALENDAR