BEGIN:VCALENDAR
VERSION:2.0
PRODID:-// - ECPv6.15.20//NONSGML v1.0//EN
CALSCALE:GREGORIAN
METHOD:PUBLISH
X-ORIGINAL-URL:https://www.celinescuisine.com
X-WR-CALDESC:Events for 
REFRESH-INTERVAL;VALUE=DURATION:PT1H
X-Robots-Tag:noindex
X-PUBLISHED-TTL:PT1H
BEGIN:VTIMEZONE
TZID:America/Los_Angeles
BEGIN:DAYLIGHT
TZOFFSETFROM:-0800
TZOFFSETTO:-0700
TZNAME:PDT
DTSTART:20170312T100000
END:DAYLIGHT
BEGIN:STANDARD
TZOFFSETFROM:-0700
TZOFFSETTO:-0800
TZNAME:PST
DTSTART:20171105T090000
END:STANDARD
BEGIN:DAYLIGHT
TZOFFSETFROM:-0800
TZOFFSETTO:-0700
TZNAME:PDT
DTSTART:20180311T100000
END:DAYLIGHT
BEGIN:STANDARD
TZOFFSETFROM:-0700
TZOFFSETTO:-0800
TZNAME:PST
DTSTART:20181104T090000
END:STANDARD
BEGIN:DAYLIGHT
TZOFFSETFROM:-0800
TZOFFSETTO:-0700
TZNAME:PDT
DTSTART:20190310T100000
END:DAYLIGHT
BEGIN:STANDARD
TZOFFSETFROM:-0700
TZOFFSETTO:-0800
TZNAME:PST
DTSTART:20191103T090000
END:STANDARD
BEGIN:DAYLIGHT
TZOFFSETFROM:-0800
TZOFFSETTO:-0700
TZNAME:PDT
DTSTART:20200308T100000
END:DAYLIGHT
BEGIN:STANDARD
TZOFFSETFROM:-0700
TZOFFSETTO:-0800
TZNAME:PST
DTSTART:20201101T090000
END:STANDARD
END:VTIMEZONE
BEGIN:VEVENT
DTSTART;TZID=America/Los_Angeles:20190617T140000
DTEND;TZID=America/Los_Angeles:20190620T160000
DTSTAMP:20260423T133039
CREATED:20190506T183617Z
LAST-MODIFIED:20190506T183617Z
UID:14130-1560780000-1561046400@www.celinescuisine.com
SUMMARY:CATTTTCTFF 62019 calling all tweens/teens to cook their favorite food
DESCRIPTION:In this exciting new camp teens chefs will work together to make their own favorite food \n  \nMenu : sushi\, pizza dough / pizza Margarita /fried rice / chicken nuggets and dipping sauce/ tacos
URL:https://www.celinescuisine.com/events/cattttctff-62019-calling-all-tweens-teens-to-cook-their-favorite-food/
LOCATION:Virtual Murrieta Community Center\, 41810 Juniper st\, Murrieta\, 92562\, United States
CATEGORIES:Kids Baking and Culinary Camps ( Inland Empire and Temecula Valley),Murrieta Culinary camps,SUMMER COOKING - BAKINB CAMPS
END:VEVENT
BEGIN:VEVENT
DTSTART;TZID=America/Los_Angeles:20190617T113000
DTEND;TZID=America/Los_Angeles:20190620T130000
DTSTAMP:20260423T133039
CREATED:20190506T182944Z
LAST-MODIFIED:20190507T211042Z
UID:14128-1560771000-1561035600@www.celinescuisine.com
SUMMARY:62019 FACRT A fun american Culinary road trip
DESCRIPTION:This summer send your kids on a culinary road trip across the USA. Mini chefs will work together with other students as a team and take turn for each step pf the cooking/ baking process and can enjoy the dish they made together at the end of the session or bring it home \n  \nFun menu : \nCheeseburger\, baked wedge potatoes\,  baked chicken nuggets\, homemade guacamole and tortilla chips\, BLT\, peach cobbler and shake
URL:https://www.celinescuisine.com/events/62019-facrt-a-fun-american-culinary-road-trip/
LOCATION:Murrieta Community Center\, Juniper street\, murrieta\, 92562\, United States
CATEGORIES:Kids Baking and Culinary Camps ( Inland Empire and Temecula Valley),Murrieta Culinary camps,SUMMER COOKING - BAKINB CAMPS
END:VEVENT
BEGIN:VEVENT
DTSTART;TZID=America/Los_Angeles:20190617T090000
DTEND;TZID=America/Los_Angeles:20190620T110000
DTSTAMP:20260423T133039
CREATED:20190506T181846Z
LAST-MODIFIED:20190506T181846Z
UID:14126-1560762000-1561028400@www.celinescuisine.com
SUMMARY:62019 - KBCCC Baking & Cooking Combo Camp
DESCRIPTION:  \nMURRIETA COMMUNITY CENTER | 06/17-06/20 | 9am-11am\n\nMenu:  Italian calzone\, parisian croissant\, mini meatloaf and tomato sauce\, summer fruit crips\, chocolate covered strawberries\, roasted ratatoulle and garlic bread
URL:https://www.celinescuisine.com/events/62019-kbccc-baking-cooking-combo-camp/
LOCATION:Murrieta Community Center\, Juniper street\, murrieta\, 92562\, United States
CATEGORIES:Kids Baking and Culinary Camps ( Inland Empire and Temecula Valley),Murrieta Culinary camps
END:VEVENT
BEGIN:VEVENT
DTSTART;TZID=America/Los_Angeles:20180806T151500
DTEND;TZID=America/Los_Angeles:20180809T171500
DTSTAMP:20260423T133039
CREATED:20180524T002104Z
LAST-MODIFIED:20180524T002104Z
UID:13916-1533568500-1533834900@www.celinescuisine.com
SUMMARY:TEENS MASTER CHEFS  TMCC 82018
DESCRIPTION:THIS CAMP STARTS ON JULY 30 TO AUGUST 2 FROM 10:45 AM TO 12: 45 AM  \nAre you a master chef or do you want to learn how to become one? Show off your skills and learn new techniques in what is sure is the highlight of your summer break. We will have mystery basket\,  team challenges\, and tastes test as we create culinary treats that are both savory or sweet. We will use real ingredients that are not processed or from a box. This is an hands on cooking class. kids need to be independant in the kitchen. At the end of the class kids eat their creations
URL:https://www.celinescuisine.com/events/teens-master-chefs-tmcc-82018/
CATEGORIES:Murrieta Culinary camps
ATTACH;FMTTYPE=image/jpeg:https://www.celinescuisine.com/wp-content/uploads/2017/04/spring-b-17-murrieta-5.jpg
END:VEVENT
BEGIN:VEVENT
DTSTART;TZID=America/Los_Angeles:20180806T130000
DTEND;TZID=America/Los_Angeles:20180809T150000
DTSTAMP:20260423T133039
CREATED:20180524T002918Z
LAST-MODIFIED:20180524T002918Z
UID:13918-1533560400-1533826800@www.celinescuisine.com
SUMMARY:TEEN CUPCAKE WARS CAMP TCWC 82018
DESCRIPTION:THIS CAMP RUNS FROM AUG 6-9 FROM  1:00 TO 3 :00\n PM \nDuring this camp kids/ teens will learn the basics of baking\, creating and presenting their edible creations. \nOn the last day they will be able to put their new skill to test \nEvery cupcake is made from scratch ( never from a box) and the students eat their creation daily
URL:https://www.celinescuisine.com/events/teen-cupcake-wars-camp-tcwc-82018/
LOCATION:Virtual Murrieta Community Center\, 41810 Juniper st\, Murrieta\, 92562\, United States
CATEGORIES:Murrieta Culinary camps
ATTACH;FMTTYPE=image/jpeg:https://www.celinescuisine.com/wp-content/uploads/2013/05/kailynmacaroms-scaled.jpg
END:VEVENT
BEGIN:VEVENT
DTSTART;TZID=America/Los_Angeles:20180806T104500
DTEND;TZID=America/Los_Angeles:20180809T124500
DTSTAMP:20260423T133039
CREATED:20180524T020209Z
LAST-MODIFIED:20180524T020209Z
UID:13935-1533552300-1533818700@www.celinescuisine.com
SUMMARY:KIDS CULINARY SUMMER CAMP KSCS 82018
DESCRIPTION:THIS SUMMER CAMP RUNS FROM AUG 6-9 FROM 10:45 – 12:45 \nThis unique culinary camp for kids offers a new menu and creative way  to give your kids opportunity to learn cooking from scratch\, discovering new flavors\,  new ingredients and trying new food! \nNew menu : Italian mini fritata\,  sweet potatoe and zuchini parmesan baked fries\, garlic parmesan kale chips\, ham cheese puff\,
URL:https://www.celinescuisine.com/events/kids-culinary-summer-camp-kscs-82018/
LOCATION:Virtual Murrieta Community Center\, 41810 Juniper st\, Murrieta\, 92562\, United States
CATEGORIES:Kids Baking and Culinary Camps ( Inland Empire and Temecula Valley),Murrieta Culinary camps
ATTACH;FMTTYPE=image/jpeg:https://www.celinescuisine.com/wp-content/uploads/2018/03/CUPCAKES1650.2022-e1526608584534.jpg
END:VEVENT
BEGIN:VEVENT
DTSTART;TZID=America/Los_Angeles:20180806T083000
DTEND;TZID=America/Los_Angeles:20180809T103000
DTSTAMP:20260423T133039
CREATED:20180524T013110Z
LAST-MODIFIED:20180524T013110Z
UID:13933-1533544200-1533810600@www.celinescuisine.com
SUMMARY:KIDS COOKING AND BAKING CAMP KCBC  82018
DESCRIPTION:THIS CAMPS RUN FROM AUG 6-9 FROM 8:30 – 10:30 \nThis new camp is a fun and creative way to give your kids the opportunity to learn about different baking and cooking techniques. Every day kids will learn to make a new dessert or savory dish using different techniques \nNew menu : Italian calzone\,Parisian Croissant\, Mini meatloaf and tomato sauce\, Summer fruit crisp\, roasted ratatouille with garlic bread\,  chocolate dipped strawberries
URL:https://www.celinescuisine.com/events/kids-cooking-and-baking-camp-kcbc-82018/
LOCATION:Virtual Murrieta Community Center\, 41810 Juniper st\, Murrieta\, 92562\, United States
CATEGORIES:Kids Baking and Culinary Camps ( Inland Empire and Temecula Valley),Murrieta Culinary camps
ATTACH;FMTTYPE=image/jpeg:https://www.celinescuisine.com/wp-content/uploads/2017/04/spring-b-17-murrieta-5.jpg
END:VEVENT
BEGIN:VEVENT
DTSTART;TZID=America/Los_Angeles:20180709T130000
DTEND;TZID=America/Los_Angeles:20180712T150000
DTSTAMP:20260423T133039
CREATED:20180524T012052Z
LAST-MODIFIED:20180524T012052Z
UID:13929-1531141200-1531407600@www.celinescuisine.com
SUMMARY:KIDS SWEETS DESSERTS CAMPS KCCSDC  72018
DESCRIPTION:THIS CAMP RUNS FROM JULY 9-12 FROM 1-3 PM \nThis sweet baking camp ( new menu) is a fun and creative to give your kids opportunity to learn about baking from scratch\, new flavors and taste. \nNew Menu : Profiteroles ( cream puff\, ice cream and chocolate sauce)\,  Summer fruit crostata\, French apple cake\,  strawberry -cream popsicle\, baked churros with chocolate sauce
URL:https://www.celinescuisine.com/events/kids-sweets-desserts-camps-kccsdc-72018/
LOCATION:Virtual Murrieta Community Center\, 41810 Juniper st\, Murrieta\, 92562\, United States
CATEGORIES:Kids Baking and Culinary Camps ( Inland Empire and Temecula Valley),Murrieta Culinary camps
END:VEVENT
BEGIN:VEVENT
DTSTART;TZID=America/Los_Angeles:20180709T104500
DTEND;TZID=America/Los_Angeles:20180712T124500
DTSTAMP:20260423T133039
CREATED:20180524T012602Z
LAST-MODIFIED:20180524T012602Z
UID:13931-1531133100-1531399500@www.celinescuisine.com
SUMMARY:KIDS CULINARY CAMP KSCS 72018
DESCRIPTION:THIS SUMMER CAMP RUNS FROM JULY  9-12 FROM 10:45 – 12:45 \nThis unique culinary camp for kids offers a new menu and creative way  to give your kids opportunity to learn cooking from scratch\, discovering new flavors\,  new ingredients and trying new food! \nNew menu : Italian mini fritata\,  sweet potatoe and zuchini parmesan baked fries\, garlic parmesan kale chips\, ham cheese puff\,
URL:https://www.celinescuisine.com/events/kids-culinary-camp-kscs-72018/
LOCATION:Virtual Murrieta Community Center\, 41810 Juniper st\, Murrieta\, 92562\, United States
CATEGORIES:Kids Baking and Culinary Camps ( Inland Empire and Temecula Valley),Murrieta Culinary camps
ATTACH;FMTTYPE=image/jpeg:https://www.celinescuisine.com/wp-content/uploads/2016/05/Petite-Chefs-1665.102-friedrice1.jpg
END:VEVENT
BEGIN:VEVENT
DTSTART;TZID=America/Los_Angeles:20180709T083000
DTEND;TZID=America/Los_Angeles:20180712T223000
DTSTAMP:20260423T133039
CREATED:20180524T011235Z
LAST-MODIFIED:20180524T011235Z
UID:13927-1531125000-1531434600@www.celinescuisine.com
SUMMARY:KIDS COOKING AND BAKING COMBO CAMP KCBC 72018
DESCRIPTION:THIS CAMPS RUN FROM JULY 9-12 FROM 8:30 – 10:30 \nThis new camp is a fun and creative way to give your kids the opportunity to learn about different baking and cooking techniques. Every day kids will learn to make a new dessert or savory dish using different techniques \nNew menu : Italian calzone\,Parisian Croissant\, Mini meatloaf and tomato sauce\, Summer fruit crisp\, roasted ratatouille with garlic bread\,  chocolate dipped strawberries
URL:https://www.celinescuisine.com/events/kids-cooking-and-baking-combo-camp-kcbc-72018/
LOCATION:Virtual Murrieta Community Center\, 41810 Juniper st\, Murrieta\, 92562\, United States
CATEGORIES:Kids Baking and Culinary Camps ( Inland Empire and Temecula Valley),Murrieta Culinary camps
ATTACH;FMTTYPE=image/jpeg:https://www.celinescuisine.com/wp-content/uploads/2016/09/TOMATOCOURGETTEPIE-e1473789583792.jpg
END:VEVENT
BEGIN:VEVENT
DTSTART;TZID=America/Los_Angeles:20180618T130000
DTEND;TZID=America/Los_Angeles:20180621T150000
DTSTAMP:20260423T133039
CREATED:20180524T010308Z
LAST-MODIFIED:20180524T010308Z
UID:13924-1529326800-1529593200@www.celinescuisine.com
SUMMARY:KIDS SWEET DESSERTS CAMP  KSCCDC 62018
DESCRIPTION:THIS CAMP RUNS FROM JUNE 18-21 FROM 1-3 PM \nThis sweet baking camp ( new menu) is a fun and creative to give your kids opportunity to learn about baking from scratch\, new flavors and taste. \nNew Menu : Profiteroles ( cream puff\, ice cream and chocolate sauce)\,  Summer fruit crostata\, French apple cake\,  strawberry -cream popsicle\, baked churros with chocolate sauce
URL:https://www.celinescuisine.com/events/kids-sweet-desserts-camp-ksccdc-62018/
LOCATION:Virtual Murrieta Community Center\, 41810 Juniper st\, Murrieta\, 92562\, United States
CATEGORIES:Murrieta Culinary camps
ATTACH;FMTTYPE=image/jpeg:https://www.celinescuisine.com/wp-content/uploads/2015/08/IMG_3230-scaled.jpg
END:VEVENT
BEGIN:VEVENT
DTSTART;TZID=America/Los_Angeles:20180618T104500
DTEND;TZID=America/Los_Angeles:20180621T124500
DTSTAMP:20260423T133039
CREATED:20180524T004546Z
LAST-MODIFIED:20180524T004546Z
UID:13922-1529318700-1529585100@www.celinescuisine.com
SUMMARY:KIDS CULINARY CAMP  KCSC 62018
DESCRIPTION:THIS SUMMER CAMP RUNS FROM JUNE 18-21 FROM 10:45 – 12:45 \nThis unique culinary camp for kids offers a new menu and creative way  to give your kids opportunity to learn cooking from scratch\, discovering new flavors\,  new ingredients and trying new food! \nNew menu : Italian mini fritata\,  sweet potatoe and zuchini parmesan baked fries\, garlic parmesan kale chips\, ham cheese puff\,
URL:https://www.celinescuisine.com/events/kids-culinary-camp-kcsc-62018/
LOCATION:Murrieta Community Center\, Juniper street\, murrieta\, 92562\, United States
CATEGORIES:Murrieta Culinary camps
ATTACH;FMTTYPE=image/jpeg:https://www.celinescuisine.com/wp-content/uploads/2017/11/IMG_1015-e1516412181713.jpg
END:VEVENT
BEGIN:VEVENT
DTSTART;TZID=America/Los_Angeles:20180618T083000
DTEND;TZID=America/Los_Angeles:20180621T103000
DTSTAMP:20260423T133039
CREATED:20180524T003843Z
LAST-MODIFIED:20180524T003843Z
UID:13920-1529310600-1529577000@www.celinescuisine.com
SUMMARY:KIDS BAKING AND COOKING CLASS  KCBC 62018
DESCRIPTION:THIS CAMPS RUN FROM JUNE 18-21 FROM 8:30 – 10:30 \nThis new camp is a fun and creative way to give your kids the opportunity to learn about different baking and cooking techniques. Every day kids will learn to make a new dessert or savory dish using different techniques \nNew menu : Italian calzone\,Parisian Croissant\, Mini meatloaf and tomat sauce\, Summer fruit crisp\, roasted ratatouille with garlic bread\,  chocolate dipped strawberries
URL:https://www.celinescuisine.com/events/kids-baking-and-cooking-class-kcbc-62018/
LOCATION:Murrieta Community Center\, Juniper street\, murrieta\, 92562\, United States
CATEGORIES:Murrieta Culinary camps
ATTACH;FMTTYPE=image/jpeg:https://www.celinescuisine.com/wp-content/uploads/2017/03/ham-and-cheese-croissantR.jpg
END:VEVENT
END:VCALENDAR