BEGIN:VCALENDAR
VERSION:2.0
PRODID:-// - ECPv6.15.20//NONSGML v1.0//EN
CALSCALE:GREGORIAN
METHOD:PUBLISH
X-ORIGINAL-URL:https://www.celinescuisine.com
X-WR-CALDESC:Events for 
REFRESH-INTERVAL;VALUE=DURATION:PT1H
X-Robots-Tag:noindex
X-PUBLISHED-TTL:PT1H
BEGIN:VTIMEZONE
TZID:America/Los_Angeles
BEGIN:DAYLIGHT
TZOFFSETFROM:-0800
TZOFFSETTO:-0700
TZNAME:PDT
DTSTART:20200308T100000
END:DAYLIGHT
BEGIN:STANDARD
TZOFFSETFROM:-0700
TZOFFSETTO:-0800
TZNAME:PST
DTSTART:20201101T090000
END:STANDARD
BEGIN:DAYLIGHT
TZOFFSETFROM:-0800
TZOFFSETTO:-0700
TZNAME:PDT
DTSTART:20210314T100000
END:DAYLIGHT
BEGIN:STANDARD
TZOFFSETFROM:-0700
TZOFFSETTO:-0800
TZNAME:PST
DTSTART:20211107T090000
END:STANDARD
BEGIN:DAYLIGHT
TZOFFSETFROM:-0800
TZOFFSETTO:-0700
TZNAME:PDT
DTSTART:20220313T100000
END:DAYLIGHT
BEGIN:STANDARD
TZOFFSETFROM:-0700
TZOFFSETTO:-0800
TZNAME:PST
DTSTART:20221106T090000
END:STANDARD
END:VTIMEZONE
BEGIN:VEVENT
DTSTART;TZID=America/Los_Angeles:20210615T090000
DTEND;TZID=America/Los_Angeles:20210615T103000
DTSTAMP:20260423T161756
CREATED:20210527T210213Z
LAST-MODIFIED:20210527T210213Z
UID:15224-1623747600-1623753000@www.celinescuisine.com
SUMMARY:BREAKFAST AND BRUNCH CAMP
DESCRIPTION:Monday\, June 14⋅9:00 – 10:30am\nWeekly on Monday\, Tuesday\, Wednesday\, until Jun 16\, 2021\n\n\n\n\n\nDescription:Menu baked French toasts with berries and banana. mini quiche\, zuchini and chicken cheese quesadilla\, Italian brushetta\, orange lemonade \, crispy cinnamon roll
URL:https://www.celinescuisine.com/events/breakfast-and-brunch-camp/
LOCATION:TCC 28816 Pujol Street Temecula\, 28816 Pujol Street Temecula\, TEMECULA\, CA\, 92590\, United States
CATEGORIES:Kids Baking and Culinary Camps ( Inland Empire and Temecula Valley),Summer 2021 - camps,SUMMER COOKING - BAKINB CAMPS,summer recreations classes for kids,Temecula Culinary Camps,Temecula Summer camps 2021
END:VEVENT
BEGIN:VEVENT
DTSTART;TZID=America/Los_Angeles:20210614T173000
DTEND;TZID=America/Los_Angeles:20210614T193000
DTSTAMP:20260423T161756
CREATED:20210528T015919Z
LAST-MODIFIED:20210528T020413Z
UID:15254-1623691800-1623699000@www.celinescuisine.com
SUMMARY:French pastries camp - 1650 -201
DESCRIPTION:6/14-6/17 \n7-13 years old \n\nKouign aman\nPalmiers cookies\nRaspberry clafouti custard pie\nChocolate orange lava cake\nButter cookies
URL:https://www.celinescuisine.com/events/french-pastries-camp-1650-201/
LOCATION:TCC 28816 Pujol Street Temecula\, 28816 Pujol Street Temecula\, TEMECULA\, CA\, 92590\, United States
CATEGORIES:Kids Baking and Culinary Camps ( Inland Empire and Temecula Valley),Summer 2021 - camps,summer recreations classes for kids,Temecula Culinary Camps,Temecula Summer camps 2021
END:VEVENT
BEGIN:VEVENT
DTSTART;TZID=America/Los_Angeles:20210614T150000
DTEND;TZID=America/Los_Angeles:20210614T170000
DTSTAMP:20260423T161756
CREATED:20210528T025302Z
LAST-MODIFIED:20210528T025302Z
UID:15271-1623682800-1623690000@www.celinescuisine.com
SUMMARY:Masterclass  1650-206
DESCRIPTION:3- 5 pm \n7-13 years \nJune 14-17 \n  \n  \n\nStrawberry and whip cream Parisian tart\nLattice braided cherry or apple pie
URL:https://www.celinescuisine.com/events/masterclass-1650-206/
LOCATION:TCC 28816 Pujol Street Temecula\, 28816 Pujol Street Temecula\, TEMECULA\, CA\, 92590\, United States
CATEGORIES:Kids Baking and Culinary Camps ( Inland Empire and Temecula Valley),Summer 2021 - camps,summer recreations classes for kids,Temecula Culinary Camps,Temecula Summer camps 2021
END:VEVENT
BEGIN:VEVENT
DTSTART;TZID=America/Los_Angeles:20210614T120000
DTEND;TZID=America/Los_Angeles:20210614T140000
DTSTAMP:20260423T161756
CREATED:20210528T021700Z
LAST-MODIFIED:20210528T021700Z
UID:15263-1623672000-1623679200@www.celinescuisine.com
SUMMARY:Cookies and cake- 1650-204
DESCRIPTION:7-13 years old \n6/14 -6/17 2021 \nnoon- 2 pm \n\nBerries and white chocolate scones\nMini cheesecakes\nSugar cookies\nCrispy cinnamon bread cookies
URL:https://www.celinescuisine.com/events/cookies-and-cake-1650-204/
LOCATION:TCC 28816 Pujol Street Temecula\, 28816 Pujol Street Temecula\, TEMECULA\, CA\, 92590\, United States
CATEGORIES:Kids Baking and Culinary Camps ( Inland Empire and Temecula Valley),Summer 2021 - camps,summer recreations classes for kids,Temecula Summer camps 2021
END:VEVENT
BEGIN:VEVENT
DTSTART;TZID=America/Los_Angeles:20210614T090000
DTEND;TZID=America/Los_Angeles:20210614T103000
DTSTAMP:20260423T161756
CREATED:20210527T205707Z
LAST-MODIFIED:20210527T210008Z
UID:15220-1623661200-1623666600@www.celinescuisine.com
SUMMARY:BREAKFAST AND BRUNCH CAMP
DESCRIPTION:Monday\, June 14⋅9:00 – 10:30am\nWeekly on Monday\, Tuesday\, Wednesday\, until Jun 16\, 2021\n\n\n\n\n\nDescription:Menu baked French toasts with berries and banana. mini quiche\, zuchini and chicken cheese quesadilla\, Italian brushetta\, orange lemonade \, crispy cinnamon roll
URL:https://www.celinescuisine.com/events/lets-play-with-food-edible-craft-62021-murrieta-4/
LOCATION:TCC 28816 Pujol Street Temecula\, 28816 Pujol Street Temecula\, TEMECULA\, CA\, 92590\, United States
CATEGORIES:Kids Baking and Culinary Camps ( Inland Empire and Temecula Valley),Summer 2021 - camps,SUMMER COOKING - BAKINB CAMPS,summer recreations classes for kids,Temecula Summer camps 2021
END:VEVENT
BEGIN:VEVENT
DTSTART;TZID=America/Los_Angeles:20210610T083000
DTEND;TZID=America/Los_Angeles:20210610T100000
DTSTAMP:20260423T161756
CREATED:20210527T211651Z
LAST-MODIFIED:20210527T211651Z
UID:15232-1623313800-1623319200@www.celinescuisine.com
SUMMARY:LETS PLAY WITH FOOD : EDIBLE CRAFT 62021 – MURRIETA
DESCRIPTION:LETS PLAY WITH FOOD : EDIBLE CRAFT 62021 – MURRIETA\n\nJune 8 @ 8:30 am – 10:00 am\n$89\n\n\n6-13 years old \n6/8-6/11 3 \nMenu : \nFRESH FRUIT LOLIPOP\nFACE BREAD TARTINES\nPIRATE VEGGIES BOAT\nFRUITS KEBABS\nTIK TACK TOES COOKIES\n 
URL:https://www.celinescuisine.com/events/lets-play-with-food-edible-craft-62021-murrieta-5/
LOCATION:Murrieta Community Center\, Juniper street\, murrieta\, 92562\, United States
CATEGORIES:Kids Baking and Culinary Camps ( Inland Empire and Temecula Valley),Murrieta Culinary camps,Summer 2021 - camps,summer recreations classes for kids
END:VEVENT
BEGIN:VEVENT
DTSTART;TZID=America/Los_Angeles:20210609T083000
DTEND;TZID=America/Los_Angeles:20210609T220000
DTSTAMP:20260423T161756
CREATED:20210527T211033Z
LAST-MODIFIED:20210527T211033Z
UID:15230-1623227400-1623276000@www.celinescuisine.com
SUMMARY:Lets play with food : edible crafts- 61021-1
DESCRIPTION:Tuesday\, June 8⋅1:00 – 2:30pm\n\n\n\n\n\nDescription:menu 6/8-6/11 1:00 – 2:30 pm 6-13 years old fresh fruit lolipop face bread tartines pirate veggies boat fruit kebabs tic tak toe cookies
URL:https://www.celinescuisine.com/events/lets-play-with-food-edible-crafts-61021-1/
LOCATION:Murrieta Community Center\, Juniper street\, murrieta\, 92562\, United States
CATEGORIES:Kids Baking and Culinary Camps ( Inland Empire and Temecula Valley),Summer 2021 - camps,summer recreations classes for kids,Temecula Culinary Camps,Temecula Summer camps 2021
END:VEVENT
BEGIN:VEVENT
DTSTART;TZID=America/Los_Angeles:20210608T083000
DTEND;TZID=America/Los_Angeles:20210608T100000
DTSTAMP:20260423T161756
CREATED:20210519T000721Z
LAST-MODIFIED:20210519T002850Z
UID:15126-1623141000-1623146400@www.celinescuisine.com
SUMMARY:LETS PLAY WITH FOOD : EDIBLE CRAFT 62021 - MURRIETA
DESCRIPTION:6-13 years old \n6/8-6/11 3-5 pm \nMenu : \nFRESH FRUIT LOLIPOP\nFACE BREAD TARTINES\nPIRATE VEGGIES BOAT\nFRUITS KEBABS\nTIK TACK TOES COOKIES\n 
URL:https://www.celinescuisine.com/events/fun-culinary-camp-62021-1-murrieta-3/
LOCATION:Murrieta Community Center\, Juniper street\, murrieta\, 92562\, United States
CATEGORIES:Summer 2021 - camps,SUMMER COOKING - BAKINB CAMPS,summer recreations classes for kids
END:VEVENT
BEGIN:VEVENT
DTSTART;TZID=America/Los_Angeles:20210604T150000
DTEND;TZID=America/Los_Angeles:20210604T170000
DTSTAMP:20260423T161756
CREATED:20210527T203444Z
LAST-MODIFIED:20210527T203444Z
UID:15208-1622818800-1622826000@www.celinescuisine.com
SUMMARY:AROUND THE WORLD PASTRIES 0250.2B
DESCRIPTION:Jun 1\, 2021 – Jun 4\, 2021 \n6-13 YEARS OLD \nTues\, Wed\, Thurs\, Fri  3- 5 PM \nIf your child loves to bake this is the perfect summer camp! We will explore a variety of baking recipes and techniques as we master new skills. Participants will follow directions and guidance from their experienced instructor as they make: berry scones with lemon glaze\, NYC style giant chocolate chip cookies\, apple turnovers\, and a Paris pastry shop mini fruit tart. At the beginning of each day\, participants will receive cooking tools and ingredients they will need during the class. Ingredients and equipment won’t be shared. Participants will take home their creations to avoid food being consumed on site. All experience levels are welcome. Recipes will be emailed after camp. \nNote: A material fee of $20 is due and payable to the instructor on the first day of camp (cash only).
URL:https://www.celinescuisine.com/events/around-the-world-pastries-0250-2b-2/
LOCATION:RIVERSIDE\, VIRTUAL\, CA
CATEGORIES:Kids Baking and Culinary Camps ( Inland Empire and Temecula Valley),RiversideCA,SUMMER 2019 BAKING & COOKING CAMPS,Summer 2021 - camps,summer recreations classes for kids
END:VEVENT
BEGIN:VEVENT
DTSTART;TZID=America/Los_Angeles:20210604T103000
DTEND;TZID=America/Los_Angeles:20210604T123000
DTSTAMP:20260423T161756
CREATED:20210527T205244Z
LAST-MODIFIED:20210527T205244Z
UID:15218-1622802600-1622809800@www.celinescuisine.com
SUMMARY:Around the World Pastries -#0250.2A
DESCRIPTION:Jun 1\, 2021 – Jun 4\, 2021 \nTues\, Wed\, Thurs\, Fri10:30 AM – 12:30 PM \nIf your child loves to bake this is the perfect summer camp! We will explore a variety of baking recipes and techniques as we master new skills. Participants will follow directions and guidance from their experienced instructor as they make: berry scones with lemon glaze\, NYC style giant chocolate chip cookies\, apple turnovers\, and a Paris pastry shop mini fruit tart. At the beginning of each day\, participants will receive cooking tools and ingredients they will need during the class. Ingredients and equipment won’t be shared. Participants will take home their creations to avoid food being consumed on site. All experience levels are welcome. Recipes will be emailed after camp. \nNote: A material fee of $20 is due and payable to the instructor on the first day of camp (cash only). \n\n+ GOOGLE CALENDAR+ ICAL EXPORT
URL:https://www.celinescuisine.com/events/around-the-world-pastries-0250-2a-4/
LOCATION:RIVERSIDE\, VIRTUAL\, CA
CATEGORIES:Kids Baking and Culinary Camps ( Inland Empire and Temecula Valley),RiversideCA,Summer 2021 - camps,summer recreations classes for kids
END:VEVENT
BEGIN:VEVENT
DTSTART;TZID=America/Los_Angeles:20210603T150000
DTEND;TZID=America/Los_Angeles:20210603T170000
DTSTAMP:20260423T161756
CREATED:20210527T202544Z
LAST-MODIFIED:20210527T202802Z
UID:15202-1622732400-1622739600@www.celinescuisine.com
SUMMARY:Around the World Pastries -0250.2B
DESCRIPTION:  \nJune 1- June 4 2021 \n3- 5 PM \n6-13 YEARS OLD \nIf your child loves to bake this is the perfect summer camp! We will explore a variety of baking recipes and techniques as we master new skills. Participants will follow directions and guidance from their experienced instructor as they make: berry scones with lemon glaze\, NYC style giant chocolate chip cookies\, apple turnovers\, and a Paris pastry shop mini fruit tart. At the beginning of each day\, participants will receive cooking tools and ingredients they will need during the class. Ingredients and equipment won’t be shared. Participants will take home their creations to avoid food being consumed on site. All experience levels are welcome. Recipes will be emailed after camp. \nNote: A material fee of $20 is due and payable to the instructor on the first day of camp (cash only).
URL:https://www.celinescuisine.com/events/around-the-world-pastries-0250-2a-3/
LOCATION:RIVERSIDE\, VIRTUAL\, CA
CATEGORIES:Riverside cooking camps,RiversideCA,SUMMER 2019 BAKING & COOKING CAMPS,Summer 2021 - camps,summer recreations classes for kids
END:VEVENT
BEGIN:VEVENT
DTSTART;TZID=America/Los_Angeles:20210603T130000
DTEND;TZID=America/Los_Angeles:20210603T143000
DTSTAMP:20260423T161756
CREATED:20210527T204510Z
LAST-MODIFIED:20210527T204510Z
UID:15214-1622725200-1622730600@www.celinescuisine.com
SUMMARY:0251.2B EDIBLE CRAFTS
DESCRIPTION:Edible Crafts \n6-13 years \n1:00 PM – 2:30 PM \nfruit and veggie sculptures\, animal or garden tartines\, fruit lollipops\, and sweet bread teddy bear shapes
URL:https://www.celinescuisine.com/events/0251-2b-edible-crafts-3/
LOCATION:RIVERSIDE\, VIRTUAL\, CA
CATEGORIES:Kids Baking and Culinary Camps ( Inland Empire and Temecula Valley),RiversideCA,Summer 2021 - camps,summer recreations classes for kids
END:VEVENT
BEGIN:VEVENT
DTSTART;TZID=America/Los_Angeles:20210602T150000
DTEND;TZID=America/Los_Angeles:20210602T170000
DTSTAMP:20260423T161756
CREATED:20210527T203154Z
LAST-MODIFIED:20210527T203154Z
UID:15206-1622646000-1622653200@www.celinescuisine.com
SUMMARY:AROUND THE WORLD PASTRIES -0250.2B
DESCRIPTION:Jun 1\, 2021 – Jun 4\, 2021 \n6-13 YEARS OLD \nTues\, Wed\, Thurs\, Fri  3- 5 PM \nIf your child loves to bake this is the perfect summer camp! We will explore a variety of baking recipes and techniques as we master new skills. Participants will follow directions and guidance from their experienced instructor as they make: berry scones with lemon glaze\, NYC style giant chocolate chip cookies\, apple turnovers\, and a Paris pastry shop mini fruit tart. At the beginning of each day\, participants will receive cooking tools and ingredients they will need during the class. Ingredients and equipment won’t be shared. Participants will take home their creations to avoid food being consumed on site. All experience levels are welcome. Recipes will be emailed after camp. \nNote: A material fee of $20 is due and payable to the instructor on the first day of camp (cash only).
URL:https://www.celinescuisine.com/events/around-the-world-pastries-0250-2b/
LOCATION:RIVERSIDE\, VIRTUAL\, CA
CATEGORIES:Kids Baking and Culinary Camps ( Inland Empire and Temecula Valley),Riverside cooking camps,RiversideCA,Summer 2021 - camps,SUMMER COOKING - BAKINB CAMPS,summer recreations classes for kids
END:VEVENT
BEGIN:VEVENT
DTSTART;TZID=America/Los_Angeles:20210602T130000
DTEND;TZID=America/Los_Angeles:20210602T143000
DTSTAMP:20260423T161756
CREATED:20210527T204254Z
LAST-MODIFIED:20210527T204254Z
UID:15212-1622638800-1622644200@www.celinescuisine.com
SUMMARY:0251.2B EDIBLE CRAFTS
DESCRIPTION:Edible Crafts \n6-13 years \n1:00 PM – 2:30 PM \nfruit and veggie sculptures\, animal or garden tartines\, fruit lollipops\, and sweet bread teddy bear shapes
URL:https://www.celinescuisine.com/events/0251-2b-edible-crafts-2/
LOCATION:RIVERSIDE\, VIRTUAL\, CA
CATEGORIES:Kids Baking and Culinary Camps ( Inland Empire and Temecula Valley),Summer 2021 - camps,summer recreations classes for kids
END:VEVENT
BEGIN:VEVENT
DTSTART;TZID=America/Los_Angeles:20210602T103000
DTEND;TZID=America/Los_Angeles:20210602T123000
DTSTAMP:20260423T161756
CREATED:20210527T201901Z
LAST-MODIFIED:20210527T202034Z
UID:15198-1622629800-1622637000@www.celinescuisine.com
SUMMARY:Around the World Pastries -#0250.2A
DESCRIPTION:  \njune 1-4  10:30 -12:30 \n  \nyour child loves to bake this is the perfect summer camp! We will explore a variety of baking recipes and techniques as we master new skills. Participants will follow directions and guidance from their experienced instructor as they make: berry scones with lemon glaze\, NYC style giant chocolate chip cookies\, apple turnovers\, and a Paris pastry shop mini fruit tart. At the beginning of each day\, participants will receive cooking tools and ingredients they will need during the class. Ingredients and equipment won’t be shared. Participants will take home their creations to avoid food being consumed on site. All experience levels are welcome. Recipes will be emailed after camp. \nNote: A material fee of $20 is due and payable to the instructor on the first day of camp (cash only).
URL:https://www.celinescuisine.com/events/around-the-world-pastries-0250-2a/
LOCATION:RIVERSIDE\, VIRTUAL\, CA
CATEGORIES:Kids Baking and Culinary Camps ( Inland Empire and Temecula Valley),Riverside cooking camps,Summer 2021 - camps,SUMMER COOKING - BAKINB CAMPS,summer recreations classes for kids
END:VEVENT
BEGIN:VEVENT
DTSTART;TZID=America/Los_Angeles:20210601T010000
DTEND;TZID=America/Los_Angeles:20210601T143000
DTSTAMP:20260423T161756
CREATED:20210527T204043Z
LAST-MODIFIED:20210527T204043Z
UID:15210-1622509200-1622557800@www.celinescuisine.com
SUMMARY:0251.2B EDIBLE CRAFTS
DESCRIPTION:June 1-4  1-2:30 pm \nEdible Crafts \n6-13 years \n1:00 PM – 2:30 PM \nfruit and veggie sculptures\, animal or garden tartines\, fruit lollipops\, and sweet bread teddy bear shapes
URL:https://www.celinescuisine.com/events/0251-2b-edible-crafts/
LOCATION:RIVERSIDE\, VIRTUAL\, CA
CATEGORIES:Kids Baking and Culinary Camps ( Inland Empire and Temecula Valley),RiversideCA,Summer 2021 - camps,summer recreations classes for kids
END:VEVENT
BEGIN:VEVENT
DTSTART;TZID=America/Los_Angeles:20210529T080000
DTEND;TZID=America/Los_Angeles:20210529T170000
DTSTAMP:20260423T161756
CREATED:20210529T172604Z
LAST-MODIFIED:20210529T172604Z
UID:15365-1622275200-1622307600@www.celinescuisine.com
SUMMARY:MY LIL CAFE CAMP - MURRIETA
DESCRIPTION:MY LIL CAFE CAMP – MURRIETA\n\nHam and cheese quiche – salad and dressing\nPanini and fruit salad\nBrownies and vanilla whip cream\nFruit crumble with lemon glaze\nlemonade\n\n6-13 YRS \n07/26- 07/29  8:30 – 10 AM
URL:https://www.celinescuisine.com/events/my-lil-cafe-camp-murrieta-6/
LOCATION:Murrieta Community Center\, Juniper street\, murrieta\, 92562\, United States
CATEGORIES:Kids Baking and Culinary Camps ( Inland Empire and Temecula Valley),Murrieta Culinary camps,SUMMER 2019 BAKING & COOKING CAMPS,Summer 2021 - camps,summer recreations classes for kids
END:VEVENT
END:VCALENDAR