BEGIN:VCALENDAR
VERSION:2.0
PRODID:-// - ECPv6.15.20//NONSGML v1.0//EN
CALSCALE:GREGORIAN
METHOD:PUBLISH
X-ORIGINAL-URL:https://www.celinescuisine.com
X-WR-CALDESC:Events for 
REFRESH-INTERVAL;VALUE=DURATION:PT1H
X-Robots-Tag:noindex
X-PUBLISHED-TTL:PT1H
BEGIN:VTIMEZONE
TZID:America/Los_Angeles
BEGIN:DAYLIGHT
TZOFFSETFROM:-0800
TZOFFSETTO:-0700
TZNAME:PDT
DTSTART:20200308T100000
END:DAYLIGHT
BEGIN:STANDARD
TZOFFSETFROM:-0700
TZOFFSETTO:-0800
TZNAME:PST
DTSTART:20201101T090000
END:STANDARD
BEGIN:DAYLIGHT
TZOFFSETFROM:-0800
TZOFFSETTO:-0700
TZNAME:PDT
DTSTART:20210314T100000
END:DAYLIGHT
BEGIN:STANDARD
TZOFFSETFROM:-0700
TZOFFSETTO:-0800
TZNAME:PST
DTSTART:20211107T090000
END:STANDARD
BEGIN:DAYLIGHT
TZOFFSETFROM:-0800
TZOFFSETTO:-0700
TZNAME:PDT
DTSTART:20220313T100000
END:DAYLIGHT
BEGIN:STANDARD
TZOFFSETFROM:-0700
TZOFFSETTO:-0800
TZNAME:PST
DTSTART:20221106T090000
END:STANDARD
END:VTIMEZONE
BEGIN:VEVENT
DTSTART;TZID=America/Los_Angeles:20210603T150000
DTEND;TZID=America/Los_Angeles:20210603T170000
DTSTAMP:20260423T175103
CREATED:20210527T202544Z
LAST-MODIFIED:20210527T202802Z
UID:15202-1622732400-1622739600@www.celinescuisine.com
SUMMARY:Around the World Pastries -0250.2B
DESCRIPTION:  \nJune 1- June 4 2021 \n3- 5 PM \n6-13 YEARS OLD \nIf your child loves to bake this is the perfect summer camp! We will explore a variety of baking recipes and techniques as we master new skills. Participants will follow directions and guidance from their experienced instructor as they make: berry scones with lemon glaze\, NYC style giant chocolate chip cookies\, apple turnovers\, and a Paris pastry shop mini fruit tart. At the beginning of each day\, participants will receive cooking tools and ingredients they will need during the class. Ingredients and equipment won’t be shared. Participants will take home their creations to avoid food being consumed on site. All experience levels are welcome. Recipes will be emailed after camp. \nNote: A material fee of $20 is due and payable to the instructor on the first day of camp (cash only).
URL:https://www.celinescuisine.com/events/around-the-world-pastries-0250-2a-3/
LOCATION:RIVERSIDE\, VIRTUAL\, CA
CATEGORIES:Riverside cooking camps,RiversideCA,SUMMER 2019 BAKING & COOKING CAMPS,Summer 2021 - camps,summer recreations classes for kids
END:VEVENT
BEGIN:VEVENT
DTSTART;TZID=America/Los_Angeles:20210603T130000
DTEND;TZID=America/Los_Angeles:20210603T143000
DTSTAMP:20260423T175103
CREATED:20210527T204510Z
LAST-MODIFIED:20210527T204510Z
UID:15214-1622725200-1622730600@www.celinescuisine.com
SUMMARY:0251.2B EDIBLE CRAFTS
DESCRIPTION:Edible Crafts \n6-13 years \n1:00 PM – 2:30 PM \nfruit and veggie sculptures\, animal or garden tartines\, fruit lollipops\, and sweet bread teddy bear shapes
URL:https://www.celinescuisine.com/events/0251-2b-edible-crafts-3/
LOCATION:RIVERSIDE\, VIRTUAL\, CA
CATEGORIES:Kids Baking and Culinary Camps ( Inland Empire and Temecula Valley),RiversideCA,Summer 2021 - camps,summer recreations classes for kids
END:VEVENT
BEGIN:VEVENT
DTSTART;TZID=America/Los_Angeles:20210602T150000
DTEND;TZID=America/Los_Angeles:20210602T170000
DTSTAMP:20260423T175103
CREATED:20210527T203154Z
LAST-MODIFIED:20210527T203154Z
UID:15206-1622646000-1622653200@www.celinescuisine.com
SUMMARY:AROUND THE WORLD PASTRIES -0250.2B
DESCRIPTION:Jun 1\, 2021 – Jun 4\, 2021 \n6-13 YEARS OLD \nTues\, Wed\, Thurs\, Fri  3- 5 PM \nIf your child loves to bake this is the perfect summer camp! We will explore a variety of baking recipes and techniques as we master new skills. Participants will follow directions and guidance from their experienced instructor as they make: berry scones with lemon glaze\, NYC style giant chocolate chip cookies\, apple turnovers\, and a Paris pastry shop mini fruit tart. At the beginning of each day\, participants will receive cooking tools and ingredients they will need during the class. Ingredients and equipment won’t be shared. Participants will take home their creations to avoid food being consumed on site. All experience levels are welcome. Recipes will be emailed after camp. \nNote: A material fee of $20 is due and payable to the instructor on the first day of camp (cash only).
URL:https://www.celinescuisine.com/events/around-the-world-pastries-0250-2b/
LOCATION:RIVERSIDE\, VIRTUAL\, CA
CATEGORIES:Kids Baking and Culinary Camps ( Inland Empire and Temecula Valley),Riverside cooking camps,RiversideCA,Summer 2021 - camps,SUMMER COOKING - BAKINB CAMPS,summer recreations classes for kids
END:VEVENT
BEGIN:VEVENT
DTSTART;TZID=America/Los_Angeles:20210602T130000
DTEND;TZID=America/Los_Angeles:20210602T143000
DTSTAMP:20260423T175103
CREATED:20210527T204254Z
LAST-MODIFIED:20210527T204254Z
UID:15212-1622638800-1622644200@www.celinescuisine.com
SUMMARY:0251.2B EDIBLE CRAFTS
DESCRIPTION:Edible Crafts \n6-13 years \n1:00 PM – 2:30 PM \nfruit and veggie sculptures\, animal or garden tartines\, fruit lollipops\, and sweet bread teddy bear shapes
URL:https://www.celinescuisine.com/events/0251-2b-edible-crafts-2/
LOCATION:RIVERSIDE\, VIRTUAL\, CA
CATEGORIES:Kids Baking and Culinary Camps ( Inland Empire and Temecula Valley),Summer 2021 - camps,summer recreations classes for kids
END:VEVENT
BEGIN:VEVENT
DTSTART;TZID=America/Los_Angeles:20210602T103000
DTEND;TZID=America/Los_Angeles:20210602T123000
DTSTAMP:20260423T175103
CREATED:20210527T201901Z
LAST-MODIFIED:20210527T202034Z
UID:15198-1622629800-1622637000@www.celinescuisine.com
SUMMARY:Around the World Pastries -#0250.2A
DESCRIPTION:  \njune 1-4  10:30 -12:30 \n  \nyour child loves to bake this is the perfect summer camp! We will explore a variety of baking recipes and techniques as we master new skills. Participants will follow directions and guidance from their experienced instructor as they make: berry scones with lemon glaze\, NYC style giant chocolate chip cookies\, apple turnovers\, and a Paris pastry shop mini fruit tart. At the beginning of each day\, participants will receive cooking tools and ingredients they will need during the class. Ingredients and equipment won’t be shared. Participants will take home their creations to avoid food being consumed on site. All experience levels are welcome. Recipes will be emailed after camp. \nNote: A material fee of $20 is due and payable to the instructor on the first day of camp (cash only).
URL:https://www.celinescuisine.com/events/around-the-world-pastries-0250-2a/
LOCATION:RIVERSIDE\, VIRTUAL\, CA
CATEGORIES:Kids Baking and Culinary Camps ( Inland Empire and Temecula Valley),Riverside cooking camps,Summer 2021 - camps,SUMMER COOKING - BAKINB CAMPS,summer recreations classes for kids
END:VEVENT
BEGIN:VEVENT
DTSTART;TZID=America/Los_Angeles:20210601T010000
DTEND;TZID=America/Los_Angeles:20210601T143000
DTSTAMP:20260423T175103
CREATED:20210527T204043Z
LAST-MODIFIED:20210527T204043Z
UID:15210-1622509200-1622557800@www.celinescuisine.com
SUMMARY:0251.2B EDIBLE CRAFTS
DESCRIPTION:June 1-4  1-2:30 pm \nEdible Crafts \n6-13 years \n1:00 PM – 2:30 PM \nfruit and veggie sculptures\, animal or garden tartines\, fruit lollipops\, and sweet bread teddy bear shapes
URL:https://www.celinescuisine.com/events/0251-2b-edible-crafts/
LOCATION:RIVERSIDE\, VIRTUAL\, CA
CATEGORIES:Kids Baking and Culinary Camps ( Inland Empire and Temecula Valley),RiversideCA,Summer 2021 - camps,summer recreations classes for kids
END:VEVENT
BEGIN:VEVENT
DTSTART;TZID=America/Los_Angeles:20210529T080000
DTEND;TZID=America/Los_Angeles:20210529T170000
DTSTAMP:20260423T175103
CREATED:20210529T172604Z
LAST-MODIFIED:20210529T172604Z
UID:15365-1622275200-1622307600@www.celinescuisine.com
SUMMARY:MY LIL CAFE CAMP - MURRIETA
DESCRIPTION:MY LIL CAFE CAMP – MURRIETA\n\nHam and cheese quiche – salad and dressing\nPanini and fruit salad\nBrownies and vanilla whip cream\nFruit crumble with lemon glaze\nlemonade\n\n6-13 YRS \n07/26- 07/29  8:30 – 10 AM
URL:https://www.celinescuisine.com/events/my-lil-cafe-camp-murrieta-6/
LOCATION:Murrieta Community Center\, Juniper street\, murrieta\, 92562\, United States
CATEGORIES:Kids Baking and Culinary Camps ( Inland Empire and Temecula Valley),Murrieta Culinary camps,SUMMER 2019 BAKING & COOKING CAMPS,Summer 2021 - camps,summer recreations classes for kids
END:VEVENT
END:VCALENDAR