BEGIN:VCALENDAR
VERSION:2.0
PRODID:-// - ECPv6.15.20//NONSGML v1.0//EN
CALSCALE:GREGORIAN
METHOD:PUBLISH
X-ORIGINAL-URL:https://www.celinescuisine.com
X-WR-CALDESC:Events for 
REFRESH-INTERVAL;VALUE=DURATION:PT1H
X-Robots-Tag:noindex
X-PUBLISHED-TTL:PT1H
BEGIN:VTIMEZONE
TZID:America/Los_Angeles
BEGIN:DAYLIGHT
TZOFFSETFROM:-0800
TZOFFSETTO:-0700
TZNAME:PDT
DTSTART:20170312T100000
END:DAYLIGHT
BEGIN:STANDARD
TZOFFSETFROM:-0700
TZOFFSETTO:-0800
TZNAME:PST
DTSTART:20171105T090000
END:STANDARD
BEGIN:DAYLIGHT
TZOFFSETFROM:-0800
TZOFFSETTO:-0700
TZNAME:PDT
DTSTART:20180311T100000
END:DAYLIGHT
BEGIN:STANDARD
TZOFFSETFROM:-0700
TZOFFSETTO:-0800
TZNAME:PST
DTSTART:20181104T090000
END:STANDARD
BEGIN:DAYLIGHT
TZOFFSETFROM:-0800
TZOFFSETTO:-0700
TZNAME:PDT
DTSTART:20190310T100000
END:DAYLIGHT
BEGIN:STANDARD
TZOFFSETFROM:-0700
TZOFFSETTO:-0800
TZNAME:PST
DTSTART:20191103T090000
END:STANDARD
BEGIN:DAYLIGHT
TZOFFSETFROM:-0800
TZOFFSETTO:-0700
TZNAME:PDT
DTSTART:20200308T100000
END:DAYLIGHT
BEGIN:STANDARD
TZOFFSETFROM:-0700
TZOFFSETTO:-0800
TZNAME:PST
DTSTART:20201101T090000
END:STANDARD
BEGIN:DAYLIGHT
TZOFFSETFROM:-0800
TZOFFSETTO:-0700
TZNAME:PDT
DTSTART:20210314T100000
END:DAYLIGHT
BEGIN:STANDARD
TZOFFSETFROM:-0700
TZOFFSETTO:-0800
TZNAME:PST
DTSTART:20211107T090000
END:STANDARD
BEGIN:DAYLIGHT
TZOFFSETFROM:-0800
TZOFFSETTO:-0700
TZNAME:PDT
DTSTART:20220313T100000
END:DAYLIGHT
BEGIN:STANDARD
TZOFFSETFROM:-0700
TZOFFSETTO:-0800
TZNAME:PST
DTSTART:20221106T090000
END:STANDARD
END:VTIMEZONE
BEGIN:VEVENT
DTSTART;TZID=America/Los_Angeles:20210621T090000
DTEND;TZID=America/Los_Angeles:20210621T110000
DTSTAMP:20260423T101225
CREATED:20210528T032331Z
LAST-MODIFIED:20210528T032331Z
UID:15288-1624266000-1624273200@www.celinescuisine.com
SUMMARY:JUNIOR MASTER CHEFS 1675-201
DESCRIPTION:  \n7-13 YEARS \n6/21-24 \n9 – 11 AM \n\nSalad and dressing\nSandwich\nItalian calzone pizza
URL:https://www.celinescuisine.com/events/junior-master-chefs-1675-201/
LOCATION:TCC 28816 Pujol Street Temecula\, 28816 Pujol Street Temecula\, TEMECULA\, CA\, 92590\, United States
CATEGORIES:Kids Baking and Culinary Camps ( Inland Empire and Temecula Valley),Summer 2021 - camps,summer recreations classes for kids,Temecula Culinary Camps,Temecula Summer camps 2021
END:VEVENT
BEGIN:VEVENT
DTSTART;TZID=America/Los_Angeles:20210617T173000
DTEND;TZID=America/Los_Angeles:20210617T193000
DTSTAMP:20260423T101225
CREATED:20210528T021415Z
LAST-MODIFIED:20210528T021415Z
UID:15261-1623951000-1623958200@www.celinescuisine.com
SUMMARY:French pastries 1650-201
DESCRIPTION:6/14-6/17  5:30 – 7:30 PM\n7-13 YEARS\n\n\nKouign aman\nPalmiers cookies\nRaspberry clafouti custard pie\nChocolate orange lava cake\nButter cookies
URL:https://www.celinescuisine.com/events/french-pastries-1650-201-2/
LOCATION:TCC 28816 Pujol Street Temecula\, 28816 Pujol Street Temecula\, TEMECULA\, CA\, 92590\, United States
CATEGORIES:Kids Baking and Culinary Camps ( Inland Empire and Temecula Valley),Summer 2021 - camps,summer recreations classes for kids,Temecula Culinary Camps,Temecula Summer camps 2021
END:VEVENT
BEGIN:VEVENT
DTSTART;TZID=America/Los_Angeles:20210617T150000
DTEND;TZID=America/Los_Angeles:20210617T170000
DTSTAMP:20260423T101225
CREATED:20210528T030214Z
LAST-MODIFIED:20210528T030308Z
UID:15277-1623942000-1623949200@www.celinescuisine.com
SUMMARY:masterclass  1650-206
DESCRIPTION:6/14-6/17  3- 5PM \n7-13 YEARS \n\nStrawberry and whip cream Parisian tart\nLattice braided cherry or apple pie
URL:https://www.celinescuisine.com/events/15277/
LOCATION:TCC 28816 Pujol Street Temecula\, 28816 Pujol Street Temecula\, TEMECULA\, CA\, 92590\, United States
CATEGORIES:Kids Baking and Culinary Camps ( Inland Empire and Temecula Valley),Summer 2021 - camps,summer recreations classes for kids,Temecula Culinary Camps,Temecula Summer camps 2021
END:VEVENT
BEGIN:VEVENT
DTSTART;TZID=America/Los_Angeles:20210617T120000
DTEND;TZID=America/Los_Angeles:20210617T140000
DTSTAMP:20260423T101225
CREATED:20210528T022237Z
LAST-MODIFIED:20210528T022237Z
UID:15269-1623931200-1623938400@www.celinescuisine.com
SUMMARY:cookies and cake 1650-204
DESCRIPTION:7-13 years old \n6/14 -6/17 2021 \nnoon- 2 pm \n\nBerries and white chocolate scones\nMini cheesecakes\nSugar cookies\nCrispy cinnamon bread cookies
URL:https://www.celinescuisine.com/events/cookies-and-cake-1650-204-4/
LOCATION:TCC 28816 Pujol Street Temecula\, 28816 Pujol Street Temecula\, TEMECULA\, CA\, 92590\, United States
CATEGORIES:Kids Baking and Culinary Camps ( Inland Empire and Temecula Valley),summer recreations classes for kids,Temecula Culinary Camps,Temecula Summer camps 2021
END:VEVENT
BEGIN:VEVENT
DTSTART;TZID=America/Los_Angeles:20210617T090000
DTEND;TZID=America/Los_Angeles:20210617T103000
DTSTAMP:20260423T101225
CREATED:20210527T210632Z
LAST-MODIFIED:20210527T210632Z
UID:15228-1623920400-1623925800@www.celinescuisine.com
SUMMARY:BREAKFAST AND BRUNCH CAMP -TEMECULA
DESCRIPTION:Monday\, June 14⋅9:00 – 10:30am\nWeekly on Monday\, Tuesday\, Wednesday\, until Jun 16\, 2021\n\n\n\n\n\nDescription:Menu baked French toasts with berries and banana. mini quiche\, zuchini and chicken cheese quesadilla\, Italian brushetta\, orange lemonade \, crispy cinnamon roll
URL:https://www.celinescuisine.com/events/breakfast-and-brunch-camp-temecula/
LOCATION:TCC 28816 Pujol Street Temecula\, 28816 Pujol Street Temecula\, TEMECULA\, CA\, 92590\, United States
CATEGORIES:Kids Baking and Culinary Camps ( Inland Empire and Temecula Valley),Summer 2021 - camps,summer recreations classes for kids,Temecula Culinary Camps,Temecula Summer camps 2021
END:VEVENT
BEGIN:VEVENT
DTSTART;TZID=America/Los_Angeles:20210616T173000
DTEND;TZID=America/Los_Angeles:20210616T193000
DTSTAMP:20260423T101225
CREATED:20210528T021148Z
LAST-MODIFIED:20210528T021148Z
UID:15259-1623864600-1623871800@www.celinescuisine.com
SUMMARY:FRENCH PASTRIES - 1650-201
DESCRIPTION:6/14-6/17  5:30 – 7:30 PM\n7-13 YEARS\n\n\nKouign aman\nPalmiers cookies\nRaspberry clafouti custard pie\nChocolate orange lava cake\nButter cookies
URL:https://www.celinescuisine.com/events/french-pastries-1650-201/
LOCATION:TCC 28816 Pujol Street Temecula\, 28816 Pujol Street Temecula\, TEMECULA\, CA\, 92590\, United States
CATEGORIES:Kids Baking and Culinary Camps ( Inland Empire and Temecula Valley),Summer 2021 - camps,summer recreations classes for kids,Temecula Culinary Camps,Temecula Summer camps 2021
END:VEVENT
BEGIN:VEVENT
DTSTART;TZID=America/Los_Angeles:20210616T150000
DTEND;TZID=America/Los_Angeles:20210616T170000
DTSTAMP:20260423T101225
CREATED:20210528T030006Z
LAST-MODIFIED:20210528T030006Z
UID:15275-1623855600-1623862800@www.celinescuisine.com
SUMMARY:MASTERCLASS 1650. 206
DESCRIPTION:3- 5 pm \n7-13 years \nJune 14-17 \n  \n  \n\nStrawberry and whip cream Parisian tart\nLattice braided cherry or apple pie
URL:https://www.celinescuisine.com/events/masterclass-1650-206-3/
LOCATION:TCC 28816 Pujol Street Temecula\, 28816 Pujol Street Temecula\, TEMECULA\, CA\, 92590\, United States
CATEGORIES:Kids Baking and Culinary Camps ( Inland Empire and Temecula Valley),Summer 2021 - camps,summer recreations classes for kids,Temecula Culinary Camps,Temecula Summer camps 2021
END:VEVENT
BEGIN:VEVENT
DTSTART;TZID=America/Los_Angeles:20210616T120000
DTEND;TZID=America/Los_Angeles:20210616T140000
DTSTAMP:20260423T101225
CREATED:20210528T022041Z
LAST-MODIFIED:20210528T022041Z
UID:15267-1623844800-1623852000@www.celinescuisine.com
SUMMARY:cookies and cake 1650-204
DESCRIPTION:7-13 years old \n6/14 -6/17 2021 \nnoon- 2 pm \n\nBerries and white chocolate scones\nMini cheesecakes\nSugar cookies\nCrispy cinnamon bread cookies
URL:https://www.celinescuisine.com/events/cookies-and-cake-1650-204-3/
LOCATION:TCC 28816 Pujol Street Temecula\, 28816 Pujol Street Temecula\, TEMECULA\, CA\, 92590\, United States
CATEGORIES:Kids Baking and Culinary Camps ( Inland Empire and Temecula Valley),Summer 2021 - camps,summer recreations classes for kids,Temecula Culinary Camps,Temecula Summer camps 2021
END:VEVENT
BEGIN:VEVENT
DTSTART;TZID=America/Los_Angeles:20210616T090000
DTEND;TZID=America/Los_Angeles:20210616T103000
DTSTAMP:20260423T101225
CREATED:20210527T210421Z
LAST-MODIFIED:20210527T210421Z
UID:15226-1623834000-1623839400@www.celinescuisine.com
SUMMARY:BRUNCH AND BREAKFAST CAMP- TEMECULA
DESCRIPTION:Monday\, June 14⋅9:00 – 10:30am\nWeekly on Monday\, Tuesday\, Wednesday\, until Jun 16\, 2021\n\n\n\n\n\nDescription:Menu baked French toasts with berries and banana. mini quiche\, zuchini and chicken cheese quesadilla\, Italian brushetta\, orange lemonade \, crispy cinnamon roll
URL:https://www.celinescuisine.com/events/brunch-and-breakfast-camp-temecula/
LOCATION:TCC 28816 Pujol Street Temecula\, 28816 Pujol Street Temecula\, TEMECULA\, CA\, 92590\, United States
CATEGORIES:Kids Baking and Culinary Camps ( Inland Empire and Temecula Valley),Summer 2021 - camps,SUMMER COOKING - BAKINB CAMPS,summer recreations classes for kids,Temecula Culinary Camps,Temecula Summer camps 2021
END:VEVENT
BEGIN:VEVENT
DTSTART;TZID=America/Los_Angeles:20210615T173000
DTEND;TZID=America/Los_Angeles:20210615T193000
DTSTAMP:20260423T101225
CREATED:20210528T020959Z
LAST-MODIFIED:20210528T020959Z
UID:15257-1623778200-1623785400@www.celinescuisine.com
SUMMARY:FRENCH PASTRIES  1650.207
DESCRIPTION:6/14-6/17  5:30 – 7:30 PM\n7-13 YEARS\n\n\nKouign aman\nPalmiers cookies\nRaspberry clafouti custard pie\nChocolate orange lava cake\nButter cookies
URL:https://www.celinescuisine.com/events/french-pastries-1650-207/
LOCATION:TCC 28816 Pujol Street Temecula\, 28816 Pujol Street Temecula\, TEMECULA\, CA\, 92590\, United States
CATEGORIES:Kids Baking and Culinary Camps ( Inland Empire and Temecula Valley),Summer 2021 - camps,summer recreations classes for kids,Temecula Culinary Camps,Temecula Summer camps 2021
END:VEVENT
BEGIN:VEVENT
DTSTART;TZID=America/Los_Angeles:20210615T150000
DTEND;TZID=America/Los_Angeles:20210615T170000
DTSTAMP:20260423T101225
CREATED:20210528T025545Z
LAST-MODIFIED:20210528T025545Z
UID:15273-1623769200-1623776400@www.celinescuisine.com
SUMMARY:Masterclass   1650-206
DESCRIPTION:3- 5 pm \n7-13 years \nJune 14-17 \n  \n  \n\nStrawberry and whip cream Parisian tart\nLattice braided cherry or apple pie
URL:https://www.celinescuisine.com/events/masterclass-1650-206-2/
LOCATION:TCC 28816 Pujol Street Temecula\, 28816 Pujol Street Temecula\, TEMECULA\, CA\, 92590\, United States
CATEGORIES:Kids Baking and Culinary Camps ( Inland Empire and Temecula Valley),Summer 2021 - camps,summer recreations classes for kids,Temecula Culinary Camps,Temecula Summer camps 2021
END:VEVENT
BEGIN:VEVENT
DTSTART;TZID=America/Los_Angeles:20210615T120000
DTEND;TZID=America/Los_Angeles:20210615T140000
DTSTAMP:20260423T101225
CREATED:20210528T021834Z
LAST-MODIFIED:20210528T021834Z
UID:15265-1623758400-1623765600@www.celinescuisine.com
SUMMARY:Cookies and cake 1650-204
DESCRIPTION:7-13 years old \n6/14 -6/17 2021 \nnoon- 2 pm \n\nBerries and white chocolate scones\nMini cheesecakes\nSugar cookies\nCrispy cinnamon bread cookies
URL:https://www.celinescuisine.com/events/cookies-and-cake-1650-204-2/
LOCATION:TCC 28816 Pujol Street Temecula\, 28816 Pujol Street Temecula\, TEMECULA\, CA\, 92590\, United States
CATEGORIES:Kids Baking and Culinary Camps ( Inland Empire and Temecula Valley),Summer 2021 - camps,summer recreations classes for kids,Temecula Culinary Camps,Temecula Summer camps 2021
END:VEVENT
BEGIN:VEVENT
DTSTART;TZID=America/Los_Angeles:20210615T090000
DTEND;TZID=America/Los_Angeles:20210615T103000
DTSTAMP:20260423T101225
CREATED:20210527T210213Z
LAST-MODIFIED:20210527T210213Z
UID:15224-1623747600-1623753000@www.celinescuisine.com
SUMMARY:BREAKFAST AND BRUNCH CAMP
DESCRIPTION:Monday\, June 14⋅9:00 – 10:30am\nWeekly on Monday\, Tuesday\, Wednesday\, until Jun 16\, 2021\n\n\n\n\n\nDescription:Menu baked French toasts with berries and banana. mini quiche\, zuchini and chicken cheese quesadilla\, Italian brushetta\, orange lemonade \, crispy cinnamon roll
URL:https://www.celinescuisine.com/events/breakfast-and-brunch-camp/
LOCATION:TCC 28816 Pujol Street Temecula\, 28816 Pujol Street Temecula\, TEMECULA\, CA\, 92590\, United States
CATEGORIES:Kids Baking and Culinary Camps ( Inland Empire and Temecula Valley),Summer 2021 - camps,SUMMER COOKING - BAKINB CAMPS,summer recreations classes for kids,Temecula Culinary Camps,Temecula Summer camps 2021
END:VEVENT
BEGIN:VEVENT
DTSTART;TZID=America/Los_Angeles:20210614T173000
DTEND;TZID=America/Los_Angeles:20210614T193000
DTSTAMP:20260423T101225
CREATED:20210528T015919Z
LAST-MODIFIED:20210528T020413Z
UID:15254-1623691800-1623699000@www.celinescuisine.com
SUMMARY:French pastries camp - 1650 -201
DESCRIPTION:6/14-6/17 \n7-13 years old \n\nKouign aman\nPalmiers cookies\nRaspberry clafouti custard pie\nChocolate orange lava cake\nButter cookies
URL:https://www.celinescuisine.com/events/french-pastries-camp-1650-201/
LOCATION:TCC 28816 Pujol Street Temecula\, 28816 Pujol Street Temecula\, TEMECULA\, CA\, 92590\, United States
CATEGORIES:Kids Baking and Culinary Camps ( Inland Empire and Temecula Valley),Summer 2021 - camps,summer recreations classes for kids,Temecula Culinary Camps,Temecula Summer camps 2021
END:VEVENT
BEGIN:VEVENT
DTSTART;TZID=America/Los_Angeles:20210614T150000
DTEND;TZID=America/Los_Angeles:20210614T170000
DTSTAMP:20260423T101225
CREATED:20210528T025302Z
LAST-MODIFIED:20210528T025302Z
UID:15271-1623682800-1623690000@www.celinescuisine.com
SUMMARY:Masterclass  1650-206
DESCRIPTION:3- 5 pm \n7-13 years \nJune 14-17 \n  \n  \n\nStrawberry and whip cream Parisian tart\nLattice braided cherry or apple pie
URL:https://www.celinescuisine.com/events/masterclass-1650-206/
LOCATION:TCC 28816 Pujol Street Temecula\, 28816 Pujol Street Temecula\, TEMECULA\, CA\, 92590\, United States
CATEGORIES:Kids Baking and Culinary Camps ( Inland Empire and Temecula Valley),Summer 2021 - camps,summer recreations classes for kids,Temecula Culinary Camps,Temecula Summer camps 2021
END:VEVENT
BEGIN:VEVENT
DTSTART;TZID=America/Los_Angeles:20210609T083000
DTEND;TZID=America/Los_Angeles:20210609T220000
DTSTAMP:20260423T101225
CREATED:20210527T211033Z
LAST-MODIFIED:20210527T211033Z
UID:15230-1623227400-1623276000@www.celinescuisine.com
SUMMARY:Lets play with food : edible crafts- 61021-1
DESCRIPTION:Tuesday\, June 8⋅1:00 – 2:30pm\n\n\n\n\n\nDescription:menu 6/8-6/11 1:00 – 2:30 pm 6-13 years old fresh fruit lolipop face bread tartines pirate veggies boat fruit kebabs tic tak toe cookies
URL:https://www.celinescuisine.com/events/lets-play-with-food-edible-crafts-61021-1/
LOCATION:Murrieta Community Center\, Juniper street\, murrieta\, 92562\, United States
CATEGORIES:Kids Baking and Culinary Camps ( Inland Empire and Temecula Valley),Summer 2021 - camps,summer recreations classes for kids,Temecula Culinary Camps,Temecula Summer camps 2021
END:VEVENT
BEGIN:VEVENT
DTSTART;TZID=America/Los_Angeles:20190805T130000
DTEND;TZID=America/Los_Angeles:20190808T150000
DTSTAMP:20260423T101225
CREATED:20190509T172716Z
LAST-MODIFIED:20190509T172716Z
UID:14204-1565010000-1565276400@www.celinescuisine.com
SUMMARY:1650.206   junior cupcake wars camp
DESCRIPTION:cupcakes are all the rage! In addition to learning the basics : measuring\, mixing\, baking and decorating campers will finish the week with a baking battle where teams will compete for the title of the ” best cupcake”
URL:https://www.celinescuisine.com/events/1650-206-junior-cupcake-wars-camp/
LOCATION:TCC 28816 Pujol Street Temecula\, 28816 Pujol Street Temecula\, TEMECULA\, CA\, 92590\, United States
CATEGORIES:Kids Baking and Culinary Camps ( Inland Empire and Temecula Valley),Riverside cooking camps,SUMMER COOKING - BAKINB CAMPS,Temecula Culinary Camps
END:VEVENT
BEGIN:VEVENT
DTSTART;TZID=America/Los_Angeles:20190805T103000
DTEND;TZID=America/Los_Angeles:20190808T103000
DTSTAMP:20260423T101225
CREATED:20190509T172445Z
LAST-MODIFIED:20190509T172445Z
UID:14202-1565001000-1565260200@www.celinescuisine.com
SUMMARY:1675.202 JUNIOR MASTER CHEF CAMP
DESCRIPTION:Are you a master chef or do you want to learn how to be one? Show off your skills and new techniques in what is sure to be the highlight  of your summer break. we willl have mystery basket\, team challenges\, and taste test as we create culinary treats that are both savory and sweet. we use real ingredients. this is hands-on class/ camp
URL:https://www.celinescuisine.com/events/1675-202-junior-master-chef-camp/
LOCATION:TCC 28816 Pujol Street Temecula\, 28816 Pujol Street Temecula\, TEMECULA\, CA\, 92590\, United States
CATEGORIES:Kids Baking and Culinary Camps ( Inland Empire and Temecula Valley),Riverside cooking camps,SUMMER COOKING - BAKINB CAMPS,Temecula Culinary Camps
END:VEVENT
BEGIN:VEVENT
DTSTART;TZID=America/Los_Angeles:20190729T153000
DTEND;TZID=America/Los_Angeles:20190801T173000
DTSTAMP:20260423T101225
CREATED:20190509T165019Z
LAST-MODIFIED:20190509T165019Z
UID:14190-1564414200-1564680600@www.celinescuisine.com
SUMMARY:1660.201  kids made dinner!
DESCRIPTION:In this new hands-on cooking camp kids will learn to make yummy dishes and to create a complete dinner from appetizer to dessert! Campers will learn how to read recipes\, prepare the ingredients \, mix\, chop and how to work as a team. At the conclusion of the camp kids will have learned how to create a complete meal for their family to enjoy! All levels are welcome!
URL:https://www.celinescuisine.com/events/1660-201-kids-made-dinner/
LOCATION:TCC 28816 Pujol Street Temecula\, 28816 Pujol Street Temecula\, TEMECULA\, CA\, 92590\, United States
CATEGORIES:Kids Baking and Culinary Camps ( Inland Empire and Temecula Valley),SUMMER COOKING - BAKINB CAMPS,Temecula Culinary Camps
END:VEVENT
BEGIN:VEVENT
DTSTART;TZID=America/Los_Angeles:20190729T130000
DTEND;TZID=America/Los_Angeles:20190801T150000
DTSTAMP:20260423T101225
CREATED:20190509T164226Z
LAST-MODIFIED:20190509T164226Z
UID:14188-1564405200-1564671600@www.celinescuisine.com
SUMMARY:1650.204  COOKIES CAKE AND PIES
DESCRIPTION:A fun new camp for young bakers \nMenu : hand fruit pies\, apple turnover\, strawberry cream scones\, fruit cumble pie\, chocolate pastry\, the most decadent and best chocolate cake ever and cat tongues cookies
URL:https://www.celinescuisine.com/events/1650-204-cookies-cake-and-pies/
LOCATION:TCC 28816 Pujol Street Temecula\, 28816 Pujol Street Temecula\, TEMECULA\, CA\, 92590\, United States
CATEGORIES:Kids Baking and Culinary Camps ( Inland Empire and Temecula Valley),SUMMER COOKING - BAKINB CAMPS,Temecula Culinary Camps
END:VEVENT
BEGIN:VEVENT
DTSTART;TZID=America/Los_Angeles:20190729T103000
DTEND;TZID=America/Los_Angeles:20190801T123000
DTSTAMP:20260423T101225
CREATED:20190509T163511Z
LAST-MODIFIED:20190509T163511Z
UID:14186-1564396200-1564662600@www.celinescuisine.com
SUMMARY:1650.203  COOKIES CAKES AND PIES!
DESCRIPTION:A fun new camp for young bakers \nMenu : hand fruit pies\, apple turnover\, strawberry cream scones\, fruit cumble pie\, chocolate pastry\, the most decadent and best chocolate cake ever and cat tongues cookies
URL:https://www.celinescuisine.com/events/1650-203-cookies-cakes-and-pies/
LOCATION:TCC 28816 Pujol Street Temecula\, 28816 Pujol Street Temecula\, TEMECULA\, CA\, 92590\, United States
CATEGORIES:Kids Baking and Culinary Camps ( Inland Empire and Temecula Valley),Riverside cooking camps,SUMMER COOKING - BAKINB CAMPS,Temecula Culinary Camps
END:VEVENT
BEGIN:VEVENT
DTSTART;TZID=America/Los_Angeles:20190729T083000
DTEND;TZID=America/Los_Angeles:20190801T100000
DTSTAMP:20260423T101225
CREATED:20190509T162828Z
LAST-MODIFIED:20190509T162828Z
UID:14184-1564389000-1564653600@www.celinescuisine.com
SUMMARY:1655.202 AROUND THE WORLD CULINARY CAMP
DESCRIPTION:During this camps campers will travel the world in our kitchen experience they won’t forget. Young chefs will learn how to create multiple cuisines from multiple countries including Italy\, Greece\, France an Spain. \n  \nMenu : greek watermelon salad\, spinach bousin cheese quiches\, alasatiaon bacon cheese turnover or croissant\,  tri color brusheta\, panini danubio..
URL:https://www.celinescuisine.com/events/1655-202-around-the-world-culinary-camp/
LOCATION:TCC 28816 Pujol Street Temecula\, 28816 Pujol Street Temecula\, TEMECULA\, CA\, 92590\, United States
CATEGORIES:Kids Baking and Culinary Camps ( Inland Empire and Temecula Valley),Riverside cooking camps,SUMMER COOKING - BAKINB CAMPS,Temecula Culinary Camps
END:VEVENT
BEGIN:VEVENT
DTSTART;TZID=America/Los_Angeles:20190722T163000
DTEND;TZID=America/Los_Angeles:20190725T183000
DTSTAMP:20260423T101225
CREATED:20190509T161832Z
LAST-MODIFIED:20190509T161832Z
UID:14180-1563813000-1564079400@www.celinescuisine.com
SUMMARY:KSCC  72019-2
DESCRIPTION:During this summer get your kids outside the house and inside our kitchen! This unique culinary camp in the Valley offers a new menu and is a fun an creative way to give your kids an opportunity to learn about cooking from scratch discovering new ingredients and eating new things \n  \nMenu  ITALIAN FRITTATA\, SWEET POTATOES AND ZUCHINI FRIES\, QUESADILLA\, KALE PARMESAN CHIPS\, CHEESE PUFFS
URL:https://www.celinescuisine.com/events/kscc-72019-2/
LOCATION:Murrieta Community Center\, Juniper street\, murrieta\, 92562\, United States
CATEGORIES:Kids Baking and Culinary Camps ( Inland Empire and Temecula Valley),Murrieta Culinary camps,Riverside cooking camps,SUMMER COOKING - BAKINB CAMPS,Temecula Culinary Camps
END:VEVENT
BEGIN:VEVENT
DTSTART;TZID=America/Los_Angeles:20190722T153000
DTEND;TZID=America/Los_Angeles:20190725T173000
DTSTAMP:20260423T101225
CREATED:20190509T155615Z
LAST-MODIFIED:20190509T155701Z
UID:14170-1563809400-1564075800@www.celinescuisine.com
SUMMARY:1650.202  French Pastries and Desserts
DESCRIPTION:Make real french treats from a French born instructor! Camp will be like visiting a Parisian pastry shop with madeleine\, cream puff\, napoleon\, parisian almond croissant\, and french cookies \n  \nMenu : lemon madeleine\, cream strawberry napoleon\,  cream puffs filled with vanilla ice cram and topped with chocolate warm sauce\, cherry custard tart ( clafouti)f
URL:https://www.celinescuisine.com/events/1650-202-french-pastries-and-desserts/
LOCATION:TCC 28816 Pujol Street Temecula\, 28816 Pujol Street Temecula\, TEMECULA\, CA\, 92590\, United States
CATEGORIES:Kids Baking and Culinary Camps ( Inland Empire and Temecula Valley),SUMMER COOKING - BAKINB CAMPS,Temecula Culinary Camps
END:VEVENT
BEGIN:VEVENT
DTSTART;TZID=America/Los_Angeles:20190624T160000
DTEND;TZID=America/Los_Angeles:20190627T173000
DTSTAMP:20260423T101225
CREATED:20190506T195320Z
LAST-MODIFIED:20190509T162453Z
UID:14136-1561392000-1561656600@www.celinescuisine.com
SUMMARY:1655.201 AROUND THE WORLD COOKING CAMP
DESCRIPTION:During this camps campers will travel the world in our kitchen experience they won’t forget. Young chefs will learn how to create multiple cuisines from multiple countries including Italy\, Greece\, France an Spain. \n  \nMenu : greek watermelon salad\, spinach bousin cheese quiches\, alasatiaon bacon cheese turnover or croissant\,  tri color brusheta\, panini danubio..
URL:https://www.celinescuisine.com/events/1655-202-around-the-world-cooking-camp/
LOCATION:TCC 28816 Pujol Street Temecula\, 28816 Pujol Street Temecula\, TEMECULA\, CA\, 92590\, United States
CATEGORIES:Kids Baking and Culinary Camps ( Inland Empire and Temecula Valley),SUMMER COOKING - BAKINB CAMPS,Temecula Culinary Camps
END:VEVENT
BEGIN:VEVENT
DTSTART;TZID=America/Los_Angeles:20190624T133000
DTEND;TZID=America/Los_Angeles:20190627T153000
DTSTAMP:20260423T101225
CREATED:20190506T201143Z
LAST-MODIFIED:20190506T201143Z
UID:14142-1561383000-1561649400@www.celinescuisine.com
SUMMARY:1675.201 JUNIOR MASTER CHEFS CAMP
DESCRIPTION:Are you a master chef or do you want to learn how to be one? Show off your skills and new techniques in what is sure to be the highlight  of your summer break. we willl have mystery basket\, team challenges\, and taste test as we create culinary treats that are both savory and sweet. we use real ingredients. this is hands-on class/ camp
URL:https://www.celinescuisine.com/events/1675-201-junior-master-chefs-camp/
LOCATION:TCC 28816 Pujol Street Temecula\, 28816 Pujol Street Temecula\, TEMECULA\, CA\, 92590\, United States
CATEGORIES:Kids Baking and Culinary Camps ( Inland Empire and Temecula Valley),SUMMER COOKING - BAKINB CAMPS,Temecula Culinary Camps
END:VEVENT
BEGIN:VEVENT
DTSTART;TZID=America/Los_Angeles:20190624T110000
DTEND;TZID=America/Los_Angeles:20190627T130000
DTSTAMP:20260423T101225
CREATED:20190506T195901Z
LAST-MODIFIED:20190506T195901Z
UID:14138-1561374000-1561640400@www.celinescuisine.com
SUMMARY:1650.205 Junior Cupcake wars camp Temecula
DESCRIPTION:cupcakes are all the rage! In addition to learning the basics : measuring\, mixing\, baking and decorating campers will finish the week with a baking battle where teams will compete for the title of the ” best cupcake”
URL:https://www.celinescuisine.com/events/1650-205-junior-cupcake-wars-camp-temecula/
LOCATION:TCC 28816 Pujol Street Temecula\, 28816 Pujol Street Temecula\, TEMECULA\, CA\, 92590\, United States
CATEGORIES:Kids Baking and Culinary Camps ( Inland Empire and Temecula Valley),SUMMER COOKING - BAKINB CAMPS,Temecula Culinary Camps
END:VEVENT
BEGIN:VEVENT
DTSTART;TZID=America/Los_Angeles:20190624T083000
DTEND;TZID=America/Los_Angeles:20190627T223000
DTSTAMP:20260423T101225
CREATED:20190506T200543Z
LAST-MODIFIED:20190506T200543Z
UID:14140-1561365000-1561674600@www.celinescuisine.com
SUMMARY:1650.201  FRENCH PASTRIES AND DESSERTS  CAMPS TEMECULA
DESCRIPTION:Make real french treats from a French born instructor! Camp will be like visiting a Parisian pastry shop with madeleine\, cream puff\, napoleon\, parisian almond croissant\, and french cookies \n  \nMenu : lemon madeleine\, cream strawberry napoleon\,  cream puffs filled with vanilla ice cram and topped with chocolate warm sauce\, cherry custard tart ( clafouti)
URL:https://www.celinescuisine.com/events/1650-201-french-pastries-and-desserts-camps-temecula/
LOCATION:TCC 28816 Pujol Street Temecula\, 28816 Pujol Street Temecula\, TEMECULA\, CA\, 92590\, United States
CATEGORIES:Kids Baking and Culinary Camps ( Inland Empire and Temecula Valley),SUMMER COOKING - BAKINB CAMPS,Temecula Culinary Camps
END:VEVENT
BEGIN:VEVENT
DTSTART;TZID=America/Los_Angeles:20180730T151500
DTEND;TZID=America/Los_Angeles:20180802T171500
DTSTAMP:20260423T101225
CREATED:20180518T170452Z
LAST-MODIFIED:20180518T170452Z
UID:13883-1532963700-1533230100@www.celinescuisine.com
SUMMARY:FRENCH PASTRIES  1650.2014
DESCRIPTION:THIS CAMP STARTS JULY 30-AUG 2 FROM 3: 15-5:15\nMake real French pastries from a French born instructor! Learn how to make madeleines\, Canneles custard cookies\, famous kouign aman from Britany France classic cream puff and more! Camp includes also a demonstration of French Macarons
URL:https://www.celinescuisine.com/events/french-pastries-1650-2014/
LOCATION:Temecula Community Center (CRC)\, 30875 Rancho Vista Road\, Temecula\, CA\, 92590\, United States
CATEGORIES:Kids Baking and Culinary Camps ( Inland Empire and Temecula Valley),Temecula Culinary Camps
ATTACH;FMTTYPE=image/jpeg:https://www.celinescuisine.com/wp-content/uploads/2016/10/madeleinesblog.jpg
END:VEVENT
BEGIN:VEVENT
DTSTART;TZID=America/Los_Angeles:20180730T130000
DTEND;TZID=America/Los_Angeles:20180802T150000
DTSTAMP:20260423T101225
CREATED:20180518T171901Z
LAST-MODIFIED:20180518T171901Z
UID:13890-1532955600-1533222000@www.celinescuisine.com
SUMMARY:JR. CUPCAKE WARS  1650.206
DESCRIPTION:THIS CAMP STARTS JULY 30-AUG 2 FROM 1-3 PM \nCupcakes are all the rage! Camp will finish with a baking battle where teams will compete for the title of ” best cupcake”. May the best cupcake win! \n$ 5 due to the instructor on the first day!
URL:https://www.celinescuisine.com/events/jr-cupcake-wars-1650-206/
LOCATION:TCC 28816 Pujol Street Temecula\, 28816 Pujol Street Temecula\, TEMECULA\, CA\, 92590\, United States
CATEGORIES:Kids Baking and Culinary Camps ( Inland Empire and Temecula Valley),Temecula Culinary Camps
ATTACH;FMTTYPE=image/jpeg:https://www.celinescuisine.com/wp-content/uploads/2018/03/CUPCAKES1650.2022-e1526608584534.jpg
END:VEVENT
END:VCALENDAR