BEGIN:VCALENDAR
VERSION:2.0
PRODID:-// - ECPv6.15.20//NONSGML v1.0//EN
CALSCALE:GREGORIAN
METHOD:PUBLISH
X-ORIGINAL-URL:https://www.celinescuisine.com
X-WR-CALDESC:Events for 
REFRESH-INTERVAL;VALUE=DURATION:PT1H
X-Robots-Tag:noindex
X-PUBLISHED-TTL:PT1H
BEGIN:VTIMEZONE
TZID:America/Los_Angeles
BEGIN:DAYLIGHT
TZOFFSETFROM:-0800
TZOFFSETTO:-0700
TZNAME:PDT
DTSTART:20150308T100000
END:DAYLIGHT
BEGIN:STANDARD
TZOFFSETFROM:-0700
TZOFFSETTO:-0800
TZNAME:PST
DTSTART:20151101T090000
END:STANDARD
BEGIN:DAYLIGHT
TZOFFSETFROM:-0800
TZOFFSETTO:-0700
TZNAME:PDT
DTSTART:20160313T100000
END:DAYLIGHT
BEGIN:STANDARD
TZOFFSETFROM:-0700
TZOFFSETTO:-0800
TZNAME:PST
DTSTART:20161106T090000
END:STANDARD
BEGIN:DAYLIGHT
TZOFFSETFROM:-0800
TZOFFSETTO:-0700
TZNAME:PDT
DTSTART:20170312T100000
END:DAYLIGHT
BEGIN:STANDARD
TZOFFSETFROM:-0700
TZOFFSETTO:-0800
TZNAME:PST
DTSTART:20171105T090000
END:STANDARD
END:VTIMEZONE
BEGIN:VEVENT
DTSTART;TZID=America/Los_Angeles:20160613T160000
DTEND;TZID=America/Los_Angeles:20160613T180000
DTSTAMP:20260423T154113
CREATED:20160510T184209Z
LAST-MODIFIED:20160511T143415Z
UID:12256-1465833600-1465840800@www.celinescuisine.com
SUMMARY:Junior Master Chefs Camp- #1675.202
DESCRIPTION:Are you a Master Chef\, or do you want to learn how to be one? Show off your skills and learn new techniques in what is sure to be the highlight of your summer break. We’ll have mystery baskets\, team challenges\, and taste tests as we create culinary treats that are both savory and sweet! Kids need to be able to be independent in the kitchen. We will use real ingredients that are not processed or from a box! At the end of each class\, kids will eat their creations. This is a hands-on cooking class.
URL:https://www.celinescuisine.com/events/junior-master-chefs-camp-1675-202/
LOCATION:Temecula Community Center (CRC)\, 30875 Rancho Vista Road\, Temecula\, CA\, 92590\, United States
CATEGORIES:Temecula Culinary Camps
END:VEVENT
BEGIN:VEVENT
DTSTART;TZID=America/Los_Angeles:20160613T110000
DTEND;TZID=America/Los_Angeles:20160613T130000
DTSTAMP:20260423T154113
CREATED:20160510T022302Z
LAST-MODIFIED:20160513T212423Z
UID:12240-1465815600-1465822800@www.celinescuisine.com
SUMMARY:Around the World Culinary Camp # 1655.202
DESCRIPTION:This camp teaches a number of cooking methods like sautéing\, chopping\, and cooking from scratch. Camps will have an international theme that will include the geography/region of the food they prepare and even a little of the spoken language. Students will eat what they prepare each day. Cooking diploma and all recipes also included. Each camp is unique with a different menu\, so take one or take them all! Menu Sample: Pajun (Korean green onion pancake)\, spring rolls\, sweet and sour sauce\, sushi\, homemade pasta\, Italian grissini breadstick and much more!
URL:https://www.celinescuisine.com/events/around-the-world-culinary-camp-1655-202/
LOCATION:Temecula Community Center (CRC)\, 30875 Rancho Vista Road\, Temecula\, CA\, 92590\, United States
CATEGORIES:Temecula Culinary Camps
END:VEVENT
BEGIN:VEVENT
DTSTART;TZID=America/Los_Angeles:20160606T110000
DTEND;TZID=America/Los_Angeles:20160606T130000
DTSTAMP:20260423T154113
CREATED:20160510T014256Z
LAST-MODIFIED:20160510T023002Z
UID:12231-1465210800-1465218000@www.celinescuisine.com
SUMMARY:Around the World Culinary Camp # 1655.201
DESCRIPTION:This camp teaches a number of cooking methods like sautéing\, chopping\, and cooking from scratch. Camps will have an international theme that will include the geography/region of the food they prepare and even a little of the spoken language. Students will eat what they prepare each day. Cooking diploma and all recipes also included. Each camp is unique with a different menu\, so take one or take them all! Menu Sample: Pajun (Korean green onion pancake)\, spring rolls\, sweet and sour sauce\, sushi\, homemade pasta\, Italian grissini breadstick and much more!
URL:https://www.celinescuisine.com/events/around-the-world-culinary-camp-1655-201/
LOCATION:Temecula Community Center (CRC)\, 30875 Rancho Vista Road\, Temecula\, CA\, 92590\, United States
CATEGORIES:Temecula Culinary Camps
END:VEVENT
BEGIN:VEVENT
DTSTART;TZID=America/Los_Angeles:20160606T040000
DTEND;TZID=America/Los_Angeles:20160606T180000
DTSTAMP:20260423T154113
CREATED:20160510T140918Z
LAST-MODIFIED:20160513T203305Z
UID:12250-1465185600-1465236000@www.celinescuisine.com
SUMMARY:Junior Master Chefs Camp # 1675.201
DESCRIPTION:Are you a Master Chef\, or do you want to learn how to be one? Show off your skills and learn new techniques in what is sure to be the highlight of your summer break. We’ll have mystery baskets\, team challenges\, and taste tests as we create culinary treats that are both savory and sweet! Kids need to be able to be independent in the kitchen. We will use real ingredients that are not processed or from a box! At the end of each class\, kids will eat their creations. This is a hands-on cooking class.
URL:https://www.celinescuisine.com/events/junior-master-chefs-camp-1675-201/
LOCATION:Temecula Community Center (CRC)\, 30875 Rancho Vista Road\, Temecula\, CA\, 92590\, United States
CATEGORIES:Temecula Culinary Camps
END:VEVENT
END:VCALENDAR