BEGIN:VCALENDAR
VERSION:2.0
PRODID:-// - ECPv6.15.20//NONSGML v1.0//EN
CALSCALE:GREGORIAN
METHOD:PUBLISH
X-ORIGINAL-URL:https://www.celinescuisine.com
X-WR-CALDESC:Events for 
REFRESH-INTERVAL;VALUE=DURATION:PT1H
X-Robots-Tag:noindex
X-PUBLISHED-TTL:PT1H
BEGIN:VTIMEZONE
TZID:America/Los_Angeles
BEGIN:DAYLIGHT
TZOFFSETFROM:-0800
TZOFFSETTO:-0700
TZNAME:PDT
DTSTART:20200308T100000
END:DAYLIGHT
BEGIN:STANDARD
TZOFFSETFROM:-0700
TZOFFSETTO:-0800
TZNAME:PST
DTSTART:20201101T090000
END:STANDARD
BEGIN:DAYLIGHT
TZOFFSETFROM:-0800
TZOFFSETTO:-0700
TZNAME:PDT
DTSTART:20210314T100000
END:DAYLIGHT
BEGIN:STANDARD
TZOFFSETFROM:-0700
TZOFFSETTO:-0800
TZNAME:PST
DTSTART:20211107T090000
END:STANDARD
BEGIN:DAYLIGHT
TZOFFSETFROM:-0800
TZOFFSETTO:-0700
TZNAME:PDT
DTSTART:20220313T100000
END:DAYLIGHT
BEGIN:STANDARD
TZOFFSETFROM:-0700
TZOFFSETTO:-0800
TZNAME:PST
DTSTART:20221106T090000
END:STANDARD
END:VTIMEZONE
BEGIN:VEVENT
DTSTART;TZID=America/Los_Angeles:20210803T150000
DTEND;TZID=America/Los_Angeles:20210803T170000
DTSTAMP:20260425T074108
CREATED:20210529T192214Z
LAST-MODIFIED:20210529T192214Z
UID:15417-1628002800-1628010000@www.celinescuisine.com
SUMMARY:Fun culinary camp - Murrieta
DESCRIPTION:Grissini thin breadstick\nPita sandwich\nCaprese salad\nBruschetta\nBrownies\nFrench lemonade\n\nFun culinary camp \n08/2-08/5 3-5 pm
URL:https://www.celinescuisine.com/events/fun-culinary-camp-murrieta-6/
LOCATION:Murrieta Community Center\, Juniper street\, murrieta\, 92562\, United States
CATEGORIES:Kids Baking and Culinary Camps ( Inland Empire and Temecula Valley),Murrieta Culinary camps,SUMMER 2019 BAKING & COOKING CAMPS,SUMMER COOKING - BAKINB CAMPS,Temecula Culinary Camps,Temecula Summer camps 2021
END:VEVENT
BEGIN:VEVENT
DTSTART;TZID=America/Los_Angeles:20210804T083000
DTEND;TZID=America/Los_Angeles:20210804T100000
DTSTAMP:20260425T074108
CREATED:20210529T193122Z
LAST-MODIFIED:20210529T193152Z
UID:15424-1628065800-1628071200@www.celinescuisine.com
SUMMARY:Let’s play with food : edible craft
DESCRIPTION:Let’s play with food : edible craft \n08/2-08/5 8:30 – 10 AM \n\nFresh fruit lollipop\nFaced bread tartines\nPirate veggie boat\nFruit kebab\nTic tac toe cookies
URL:https://www.celinescuisine.com/events/lets-play-with-food-edible-craft-2/
LOCATION:Murrieta Community Center\, Juniper street\, murrieta\, 92562\, United States
CATEGORIES:Kids Baking and Culinary Camps ( Inland Empire and Temecula Valley),Murrieta Culinary camps,Riverside cooking camps,SUMMER 2019 BAKING & COOKING CAMPS,SUMMER COOKING - BAKINB CAMPS
END:VEVENT
BEGIN:VEVENT
DTSTART;TZID=America/Los_Angeles:20210804T103000
DTEND;TZID=America/Los_Angeles:20210804T120000
DTSTAMP:20260425T074108
CREATED:20210529T185450Z
LAST-MODIFIED:20210529T185450Z
UID:15407-1628073000-1628078400@www.celinescuisine.com
SUMMARY:Fun culinary camp
DESCRIPTION:Grissini thin breadstick\nPita sandwich\nCaprese salad\nBruschetta\nBrownies\nFrench lemonade\n\nFun culinary camp \n08/2-08/5 10:30 – 12:30
URL:https://www.celinescuisine.com/events/fun-culinary-camp/
LOCATION:Murrieta Community Center\, Juniper street\, murrieta\, 92562\, United States
CATEGORIES:Kids Baking and Culinary Camps ( Inland Empire and Temecula Valley),Murrieta Culinary camps,SUMMER 2019 BAKING & COOKING CAMPS,Summer 2021 - camps,SUMMER COOKING - BAKINB CAMPS,summer recreations classes for kids
END:VEVENT
BEGIN:VEVENT
DTSTART;TZID=America/Los_Angeles:20210804T130000
DTEND;TZID=America/Los_Angeles:20210804T143000
DTSTAMP:20260425T074108
CREATED:20210529T194720Z
LAST-MODIFIED:20210529T194720Z
UID:15434-1628082000-1628087400@www.celinescuisine.com
SUMMARY:Let’s play with food : edible craft
DESCRIPTION:Let’s play with food : edible craft \n08/2-08/5 1 – 2:30 PM \n\nFresh fruit lollipop\nFaced bread tartines\nPirate veggie boat\nFruit kebab\nTic tac toe cookies
URL:https://www.celinescuisine.com/events/lets-play-with-food-edible-craft-7/
LOCATION:Murrieta Community Center\, Juniper street\, murrieta\, 92562\, United States
CATEGORIES:Kids Baking and Culinary Camps ( Inland Empire and Temecula Valley),Murrieta Culinary camps,SUMMER 2019 BAKING & COOKING CAMPS,Summer 2021 - camps,summer recreations classes for kids
END:VEVENT
BEGIN:VEVENT
DTSTART;TZID=America/Los_Angeles:20210804T150000
DTEND;TZID=America/Los_Angeles:20210804T170000
DTSTAMP:20260425T074108
CREATED:20210529T192018Z
LAST-MODIFIED:20210529T192018Z
UID:15415-1628089200-1628096400@www.celinescuisine.com
SUMMARY:Fun culinary camp - Murrieta
DESCRIPTION:Grissini thin breadstick\nPita sandwich\nCaprese salad\nBruschetta\nBrownies\nFrench lemonade\n\nFun culinary camp \n08/2-08/5 3-5 pm
URL:https://www.celinescuisine.com/events/fun-culinary-camp-murrieta-5/
LOCATION:Murrieta Community Center\, Juniper street\, murrieta\, 92562\, United States
CATEGORIES:Kids Baking and Culinary Camps ( Inland Empire and Temecula Valley),Murrieta Culinary camps,SUMMER 2019 BAKING & COOKING CAMPS,Summer 2021 - camps,SUMMER COOKING - BAKINB CAMPS,summer recreations classes for kids
END:VEVENT
BEGIN:VEVENT
DTSTART;TZID=America/Los_Angeles:20210805T080000
DTEND;TZID=America/Los_Angeles:20210805T170000
DTSTAMP:20260425T074108
CREATED:20210529T192405Z
LAST-MODIFIED:20210529T192405Z
UID:15419-1628150400-1628182800@www.celinescuisine.com
SUMMARY:Fun culinary camp  - Murrieta
DESCRIPTION:Grissini thin breadstick\nPita sandwich\nCaprese salad\nBruschetta\nBrownies\nFrench lemonade\n\nFun culinary camp \n08/2-08/5 3-5 pm
URL:https://www.celinescuisine.com/events/fun-culinary-camp-murrieta-7/
LOCATION:Murrieta Community Center\, Juniper street\, murrieta\, 92562\, United States
CATEGORIES:Kids Baking and Culinary Camps ( Inland Empire and Temecula Valley),Murrieta Culinary camps,SUMMER 2019 BAKING & COOKING CAMPS,Summer 2021 - camps,SUMMER COOKING - BAKINB CAMPS,summer recreations classes for kids
END:VEVENT
BEGIN:VEVENT
DTSTART;TZID=America/Los_Angeles:20210805T083000
DTEND;TZID=America/Los_Angeles:20210805T100000
DTSTAMP:20260425T074108
CREATED:20210529T194157Z
LAST-MODIFIED:20210529T194157Z
UID:15428-1628152200-1628157600@www.celinescuisine.com
SUMMARY:Let’s play with food : edible craft
DESCRIPTION:Let’s play with food : edible craft \n08/2-08/5 8:30 – 10 AM \n\nFresh fruit lollipop\nFaced bread tartines\nPirate veggie boat\nFruit kebab\nTic tac toe cookies
URL:https://www.celinescuisine.com/events/lets-play-with-food-edible-craft-4/
LOCATION:Murrieta Community Center\, Juniper street\, murrieta\, 92562\, United States
CATEGORIES:Kids Baking and Culinary Camps ( Inland Empire and Temecula Valley),Murrieta Culinary camps,SUMMER 2019 BAKING & COOKING CAMPS,Summer 2021 - camps,summer recreations classes for kids
END:VEVENT
BEGIN:VEVENT
DTSTART;TZID=America/Los_Angeles:20210805T103000
DTEND;TZID=America/Los_Angeles:20210805T123000
DTSTAMP:20260425T074108
CREATED:20210529T190043Z
LAST-MODIFIED:20210529T191300Z
UID:15409-1628159400-1628166600@www.celinescuisine.com
SUMMARY:Fun culinary camp -Murrieta
DESCRIPTION:Grissini thin breadstick\nPita sandwich\nCaprese salad\nBruschetta\nBrownies\nFrench lemonade\n\nFun culinary camp \n08/2-08/5 10:30 -12 :30 pm
URL:https://www.celinescuisine.com/events/fun-culinary-camp-murrieta-3/
LOCATION:Murrieta Community Center\, Juniper street\, murrieta\, 92562\, United States
CATEGORIES:Kids Baking and Culinary Camps ( Inland Empire and Temecula Valley),Murrieta Culinary camps,SUMMER 2019 BAKING & COOKING CAMPS,Summer 2021 - camps,summer recreations classes for kids
END:VEVENT
BEGIN:VEVENT
DTSTART;TZID=America/Los_Angeles:20210805T130000
DTEND;TZID=America/Los_Angeles:20210805T143000
DTSTAMP:20260425T074108
CREATED:20210529T194846Z
LAST-MODIFIED:20210529T194846Z
UID:15436-1628168400-1628173800@www.celinescuisine.com
SUMMARY:Let’s play with food : edible craft
DESCRIPTION:Let’s play with food : edible craft \n08/2-08/5 1 – 2:30 PM \n\nFresh fruit lollipop\nFaced bread tartines\nPirate veggie boat\nFruit kebab\nTic tac toe cookies
URL:https://www.celinescuisine.com/events/lets-play-with-food-edible-craft-8/
LOCATION:Murrieta Community Center\, Juniper street\, murrieta\, 92562\, United States
CATEGORIES:Kids Baking and Culinary Camps ( Inland Empire and Temecula Valley),Murrieta Culinary camps,SUMMER 2019 BAKING & COOKING CAMPS,Summer 2021 - camps,summer recreations classes for kids
END:VEVENT
END:VCALENDAR