BEGIN:VCALENDAR
VERSION:2.0
PRODID:-// - ECPv6.15.20//NONSGML v1.0//EN
CALSCALE:GREGORIAN
METHOD:PUBLISH
X-ORIGINAL-URL:https://www.celinescuisine.com
X-WR-CALDESC:Events for 
REFRESH-INTERVAL;VALUE=DURATION:PT1H
X-Robots-Tag:noindex
X-PUBLISHED-TTL:PT1H
BEGIN:VTIMEZONE
TZID:America/Los_Angeles
BEGIN:DAYLIGHT
TZOFFSETFROM:-0800
TZOFFSETTO:-0700
TZNAME:PDT
DTSTART:20150308T100000
END:DAYLIGHT
BEGIN:STANDARD
TZOFFSETFROM:-0700
TZOFFSETTO:-0800
TZNAME:PST
DTSTART:20151101T090000
END:STANDARD
BEGIN:DAYLIGHT
TZOFFSETFROM:-0800
TZOFFSETTO:-0700
TZNAME:PDT
DTSTART:20160313T100000
END:DAYLIGHT
BEGIN:STANDARD
TZOFFSETFROM:-0700
TZOFFSETTO:-0800
TZNAME:PST
DTSTART:20161106T090000
END:STANDARD
BEGIN:DAYLIGHT
TZOFFSETFROM:-0800
TZOFFSETTO:-0700
TZNAME:PDT
DTSTART:20170312T100000
END:DAYLIGHT
BEGIN:STANDARD
TZOFFSETFROM:-0700
TZOFFSETTO:-0800
TZNAME:PST
DTSTART:20171105T090000
END:STANDARD
END:VTIMEZONE
BEGIN:VEVENT
DTSTART;TZID=America/Los_Angeles:20160707T090000
DTEND;TZID=America/Los_Angeles:20160707T223000
DTSTAMP:20260423T164113
CREATED:20160512T191804Z
LAST-MODIFIED:20160512T191804Z
UID:12335-1467882000-1467930600@www.celinescuisine.com
SUMMARY:Kids Cooking & Baking Combo Camp ( 6 Yrs. to 13 Yrs )Bar Code # 26770
DESCRIPTION:This baking/cooking camp is a fun and creative way to give your kids the opportunity to learn about different baking-cooking techniques. Every day the kids will learn to make a new dessert and/or savory dish using different ingredients. Menu sample: pizza flatbread\, basic tomato sauce\, summer fruit crumble\, chocolate and banana cigars cookies\, Italian croissants and chocolate dipped strawberries.
URL:https://www.celinescuisine.com/events/kids-cooking-baking-combo-camp-6-yrs-to-13-yrs-bar-code-26770-4/
LOCATION:Virtual Murrieta Community Center\, 41810 Juniper st\, Murrieta\, 92562\, United States
END:VEVENT
BEGIN:VEVENT
DTSTART;TZID=America/Los_Angeles:20160706T154500
DTEND;TZID=America/Los_Angeles:20160706T174500
DTSTAMP:20260423T164113
CREATED:20160512T212218Z
LAST-MODIFIED:20160512T212218Z
UID:12359-1467819900-1467827100@www.celinescuisine.com
SUMMARY:Kids Culinary Camp (6-13 Years ) Bar Code # 26782
DESCRIPTION:This culinary camp is a fun and creative way to give your kids the opportunity to learn about cooking from scratch\, discovering new ingredients and eating things. Sample Menu: zucchini fritters with homemade dipping sauce\, quesadillas\, ratatouille\, scrambled egg\, quiche lorraine baba ganoush.
URL:https://www.celinescuisine.com/events/kids-culinary-camp-6-13-years-bar-code-26782-2/
LOCATION:Virtual Murrieta Community Center\, 41810 Juniper st\, Murrieta\, 92562\, United States
END:VEVENT
BEGIN:VEVENT
DTSTART;TZID=America/Los_Angeles:20160706T133000
DTEND;TZID=America/Los_Angeles:20160706T153000
DTSTAMP:20260423T164113
CREATED:20160512T214126Z
LAST-MODIFIED:20160512T214126Z
UID:12389-1467811800-1467819000@www.celinescuisine.com
SUMMARY:Teen Cupcake Wars Camp – 9 Yrs. to 15 Yrs Bar Code # 2677
DESCRIPTION:During this week\, kids/teens will learn the basics of baking\, decorating and presenting their edible creations. On the last day they will be able to put their new skills to the test.
URL:https://www.celinescuisine.com/events/teen-cupcake-wars-camp-9-yrs-to-15-yrs-bar-code-2677-2/
LOCATION:Virtual Murrieta Community Center\, 41810 Juniper st\, Murrieta\, 92562\, United States
END:VEVENT
BEGIN:VEVENT
DTSTART;TZID=America/Los_Angeles:20160706T111500
DTEND;TZID=America/Los_Angeles:20160706T131500
DTSTAMP:20260423T164113
CREATED:20160512T212815Z
LAST-MODIFIED:20160512T212815Z
UID:12369-1467803700-1467810900@www.celinescuisine.com
SUMMARY:Teens Master Chefs Camp (9 Yrs. to 15 Yrs.)Bar Code # 26773
DESCRIPTION:Is you child a master chef? Show off your skills and learn new techniques at camp. On the last day we will have mystery baskets\, team challenges\, and judging
URL:https://www.celinescuisine.com/events/teens-master-chefs-camp-9-yrs-to-15-yrs-bar-code-26773-2/
LOCATION:Virtual Murrieta Community Center\, 41810 Juniper st\, Murrieta\, 92562\, United States
END:VEVENT
BEGIN:VEVENT
DTSTART;TZID=America/Los_Angeles:20160706T090000
DTEND;TZID=America/Los_Angeles:20160706T223000
DTSTAMP:20260423T164113
CREATED:20160512T191441Z
LAST-MODIFIED:20160512T191441Z
UID:12332-1467795600-1467844200@www.celinescuisine.com
SUMMARY:Kids Cooking & Baking Combo Camp ( 6 Yrs. to 13 Yrs )Bar Code # 26770
DESCRIPTION:This baking/cooking camp is a fun and creative way to give your kids the opportunity to learn about different baking-cooking techniques. Every day the kids will learn to make a new dessert and/or savory dish using different ingredients. Menu sample: pizza flatbread\, basic tomato sauce\, summer fruit crumble\, chocolate and banana cigars cookies\, Italian croissants and chocolate dipped strawberries
URL:https://www.celinescuisine.com/events/kids-cooking-baking-combo-camp-6-yrs-to-13-yrs-bar-code-26770-3/
LOCATION:Virtual Murrieta Community Center\, 41810 Juniper st\, Murrieta\, 92562\, United States
END:VEVENT
BEGIN:VEVENT
DTSTART;TZID=America/Los_Angeles:20160705T154500
DTEND;TZID=America/Los_Angeles:20160705T174500
DTSTAMP:20260423T164113
CREATED:20160512T212044Z
LAST-MODIFIED:20160512T212044Z
UID:12358-1467733500-1467740700@www.celinescuisine.com
SUMMARY:Kids Culinary Camp (6-13 Years ) Bar Code # 26782
DESCRIPTION:This culinary camp is a fun and creative way to give your kids the opportunity to learn about cooking from scratch\, discovering new ingredients and eating things. Sample Menu: zucchini fritters with homemade dipping sauce\, quesadillas\, ratatouille\, scrambled egg\, quiche lorraine baba ganoush
URL:https://www.celinescuisine.com/events/kids-culinary-camp-6-13-years-bar-code-26782/
LOCATION:Virtual Murrieta Community Center\, 41810 Juniper st\, Murrieta\, 92562\, United States
END:VEVENT
BEGIN:VEVENT
DTSTART;TZID=America/Los_Angeles:20160705T133000
DTEND;TZID=America/Los_Angeles:20160705T153000
DTSTAMP:20260423T164113
CREATED:20160512T214016Z
LAST-MODIFIED:20160512T214016Z
UID:12385-1467725400-1467732600@www.celinescuisine.com
SUMMARY:Teen Cupcake Wars Camp – 9 Yrs. to 15 Yrs Bar Code # 2677
DESCRIPTION:During this week\, kids/teens will learn the basics of baking\, decorating and presenting their edible creations. On the last day they will be able to put their new skills to the test.
URL:https://www.celinescuisine.com/events/teen-cupcake-wars-camp-9-yrs-to-15-yrs-bar-code-2677/
LOCATION:Virtual Murrieta Community Center\, 41810 Juniper st\, Murrieta\, 92562\, United States
END:VEVENT
BEGIN:VEVENT
DTSTART;TZID=America/Los_Angeles:20160705T111500
DTEND;TZID=America/Los_Angeles:20160705T131500
DTSTAMP:20260423T164113
CREATED:20160512T212659Z
LAST-MODIFIED:20160512T212659Z
UID:12365-1467717300-1467724500@www.celinescuisine.com
SUMMARY:Teens Master Chefs Camp (9 Yrs. to 15 Yrs.)Bar Code # 26773
DESCRIPTION:Is you child a master chef? Show off your skills and learn new techniques at camp. On the last day we will have mystery baskets\, team challenges\, and judging
URL:https://www.celinescuisine.com/events/teens-master-chefs-camp-9-yrs-to-15-yrs-bar-code-26773/
LOCATION:Virtual Murrieta Community Center\, 41810 Juniper st\, Murrieta\, 92562\, United States
END:VEVENT
BEGIN:VEVENT
DTSTART;TZID=America/Los_Angeles:20160705T090000
DTEND;TZID=America/Los_Angeles:20160705T103000
DTSTAMP:20260423T164113
CREATED:20160512T191048Z
LAST-MODIFIED:20160512T191048Z
UID:12331-1467709200-1467714600@www.celinescuisine.com
SUMMARY:Kids Cooking & Baking Combo Camp ( 6 Yrs. to 13 Yrs )Bar Code # 26770
DESCRIPTION:This baking/cooking camp is a fun and creative way to give your kids the opportunity to learn about different baking-cooking techniques. Every day the kids will learn to make a new dessert and/or savory dish using different ingredients. Menu sample: pizza flatbread\, basic tomato sauce\, summer fruit crumble\, chocolate and banana cigars cookies\, Italian croissants and chocolate dipped strawberries.
URL:https://www.celinescuisine.com/events/kids-cooking-baking-combo-camp-6-yrs-to-13-yrs-bar-code-26770-2/
LOCATION:Virtual Murrieta Community Center\, 41810 Juniper st\, Murrieta\, 92562\, United States
END:VEVENT
BEGIN:VEVENT
DTSTART;TZID=America/Los_Angeles:20160705T090000
DTEND;TZID=America/Los_Angeles:20160705T103000
DTSTAMP:20260423T164113
CREATED:20160512T182048Z
LAST-MODIFIED:20160512T182048Z
UID:12327-1467709200-1467714600@www.celinescuisine.com
SUMMARY:Kids Cooking & Baking Combo Camp ( 6 Yrs. to 13 Yrs )Bar Code # 26770
DESCRIPTION:This baking/cooking camp is a fun and creative way to give your kids the opportunity to learn about different baking-cooking techniques. Every day the kids will learn to make a new dessert and/or savory dish using different ingredients. Menu sample: pizza flatbread\, basic tomato sauce\, summer fruit crumble\, chocolate and banana cigars cookies\, Italian croissants and chocolate dipped strawberries.
URL:https://www.celinescuisine.com/events/kids-cooking-baking-combo-camp-6-yrs-to-13-yrs-bar-code-26770/
LOCATION:Virtual Murrieta Community Center\, 41810 Juniper st\, Murrieta\, 92562\, United States
END:VEVENT
BEGIN:VEVENT
DTSTART;TZID=America/Los_Angeles:20160630T154500
DTEND;TZID=America/Los_Angeles:20160630T174500
DTSTAMP:20260423T164113
CREATED:20160512T211918Z
LAST-MODIFIED:20160512T211918Z
UID:12357-1467301500-1467308700@www.celinescuisine.com
SUMMARY:Kids Culinary Camp (6-13 Years )Bar Code  # 26713
DESCRIPTION:This culinary camp is a fun and creative way to give your kids the opportunity to learn about cooking from scratch\, discovering new ingredients and eating things. Sample Menu: zucchini fritters with homemade dipping sauce\, quesadillas\, ratatouille\, scrambled egg\, quiche lorraine baba ganoush.
URL:https://www.celinescuisine.com/events/kids-culinary-camp-6-13-years-bar-code-26713-4/
LOCATION:Virtual Murrieta Community Center\, 41810 Juniper st\, Murrieta\, 92562\, United States
END:VEVENT
BEGIN:VEVENT
DTSTART;TZID=America/Los_Angeles:20160629T154500
DTEND;TZID=America/Los_Angeles:20160629T174500
DTSTAMP:20260423T164113
CREATED:20160512T211750Z
LAST-MODIFIED:20160512T211750Z
UID:12355-1467215100-1467222300@www.celinescuisine.com
SUMMARY:Kids Culinary Camp (6-13 Years )Bar Code # 26713
DESCRIPTION:This culinary camp is a fun and creative way to give your kids the opportunity to learn about cooking from scratch\, discovering new ingredients and eating things. Sample Menu: zucchini fritters with homemade dipping sauce\, quesadillas\, ratatouille\, scrambled egg\, quiche lorraine baba ganoush.
URL:https://www.celinescuisine.com/events/kids-culinary-camp-6-13-years-bar-code-26713-3/
LOCATION:Virtual Murrieta Community Center\, 41810 Juniper st\, Murrieta\, 92562\, United States
END:VEVENT
BEGIN:VEVENT
DTSTART;TZID=America/Los_Angeles:20160628T154500
DTEND;TZID=America/Los_Angeles:20160628T174500
DTSTAMP:20260423T164113
CREATED:20160512T211646Z
LAST-MODIFIED:20160512T211646Z
UID:12352-1467128700-1467135900@www.celinescuisine.com
SUMMARY:Kids Culinary Camp (6-13 Years )Bar Code # 26713
DESCRIPTION:This culinary camp is a fun and creative way to give your kids the opportunity to learn about cooking from scratch\, discovering new ingredients and eating things. Sample Menu: zucchini fritters with homemade dipping sauce\, quesadillas\, ratatouille\, scrambled egg\, quiche lorraine baba ganoush.
URL:https://www.celinescuisine.com/events/kids-culinary-camp-6-13-years-bar-code-26713-2/
LOCATION:Virtual Murrieta Community Center\, 41810 Juniper st\, Murrieta\, 92562\, United States
END:VEVENT
BEGIN:VEVENT
DTSTART;TZID=America/Los_Angeles:20160627T154500
DTEND;TZID=America/Los_Angeles:20160627T164500
DTSTAMP:20260423T164113
CREATED:20160512T211441Z
LAST-MODIFIED:20160512T211441Z
UID:12348-1467042300-1467045900@www.celinescuisine.com
SUMMARY:Kids Culinary Camp (6-13 Years )Bar Code #26713
DESCRIPTION:This culinary camp is a fun and creative way to give your kids the opportunity to learn about cooking from scratch\, discovering new ingredients and eating things. Sample Menu: zucchini fritters with homemade dipping sauce\, quesadillas\, ratatouille\, scrambled egg\, quiche lorraine baba ganoush.
URL:https://www.celinescuisine.com/events/kids-culinary-camp-6-13-years-bar-code-26713/
LOCATION:Virtual Murrieta Community Center\, 41810 Juniper st\, Murrieta\, 92562\, United States
END:VEVENT
BEGIN:VEVENT
DTSTART;TZID=America/Los_Angeles:20160627T133000
DTEND;TZID=America/Los_Angeles:20160627T153000
DTSTAMP:20260423T164113
CREATED:20160512T192430Z
LAST-MODIFIED:20160512T192430Z
UID:12338-1467034200-1467041400@www.celinescuisine.com
SUMMARY:Kids Baking Camp (6-13 Years) Bar Code #26783
DESCRIPTION:This baking mini camp is a fun and creative way to give your kids the opportunity to learn about different baking-pastry techniques. Every day the kids will learn to make a new dessert and use different ingredients. Menu sample: carrot cake\, chocolate cake\, cookies\, pies.
URL:https://www.celinescuisine.com/events/kids-baking-camp-6-13-years-bar-code-26783/
LOCATION:Virtual Murrieta Community Center\, 41810 Juniper st\, Murrieta\, 92562\, United States
END:VEVENT
BEGIN:VEVENT
DTSTART;TZID=America/Los_Angeles:20160623T090000
DTEND;TZID=America/Los_Angeles:20160623T223000
DTSTAMP:20260423T164113
CREATED:20160512T181502Z
LAST-MODIFIED:20160512T181502Z
UID:12324-1466672400-1466721000@www.celinescuisine.com
SUMMARY:Kids Cooking & Baking Combo Camp ( 6 Yrs. to 13 Yrs) Bar Code # 26769
DESCRIPTION:This baking/cooking camp is a fun and creative way to give your kids the opportunity to learn about different baking-cooking techniques. Every day the kids will learn to make a new dessert and/or savory dish using different ingredients. Menu sample: pizza flatbread\, basic tomato sauce\, summer fruit crumble\, chocolate and banana cigars cookies\, Italian croissants and chocolate dipped strawberries.
URL:https://www.celinescuisine.com/events/kids-cooking-baking-combo-camp-6-yrs-to-13-yrs-bar-code-26769-4/
LOCATION:Virtual Murrieta Community Center\, 41810 Juniper st\, Murrieta\, 92562\, United States
END:VEVENT
BEGIN:VEVENT
DTSTART;TZID=America/Los_Angeles:20160620T090000
DTEND;TZID=America/Los_Angeles:20160620T223000
DTSTAMP:20260423T164113
CREATED:20160512T181259Z
LAST-MODIFIED:20160519T035634Z
UID:12319-1466413200-1466461800@www.celinescuisine.com
SUMMARY:Kids Cooking & Baking Combo Camp ( 6 Yrs. to 13 Yrs) Bar Code # 26769
DESCRIPTION:This baking/cooking camp is a fun and creative way to give your kids the opportunity to learn about different baking-cooking techniques. Every day the kids will learn to make a new dessert and/or savory dish using different ingredients. Menu sample: pizza flatbread\, basic tomato sauce\, summer fruit crumble\, chocolate and banana cigars cookies\, Italian croissants and chocolate dipped strawberries.
URL:https://www.celinescuisine.com/events/kids-cooking-baking-combo-camp-6-yrs-to-13-yrs-bar-code-26769-3/
LOCATION:Virtual Murrieta Community Center\, 41810 Juniper st\, Murrieta\, 92562\, United States
END:VEVENT
BEGIN:VEVENT
DTSTART;TZID=America/Los_Angeles:20160619T090000
DTEND;TZID=America/Los_Angeles:20160619T103000
DTSTAMP:20260423T164113
CREATED:20160519T035835Z
LAST-MODIFIED:20160519T035835Z
UID:12409-1466326800-1466332200@www.celinescuisine.com
SUMMARY:Kids Cooking & Baking Combo Camp ( 6 Yrs. to 13 Yrs) Bar Code # 26769
DESCRIPTION:This baking/cooking camp is a fun and creative way to give your kids the opportunity to learn about different baking-cooking techniques. Every day the kids will learn to make a new dessert and/or savory dish using different ingredients. Menu sample: pizza flatbread\, basic tomato sauce\, summer fruit crumble\, chocolate and banana cigars cookies\, Italian croissants and chocolate dipped strawberries.
URL:https://www.celinescuisine.com/events/kids-cooking-baking-combo-camp-6-yrs-to-13-yrs-bar-code-26769-2/
LOCATION:Virtual Murrieta Community Center\, 41810 Juniper st\, Murrieta\, 92562\, United States
END:VEVENT
BEGIN:VEVENT
DTSTART;TZID=America/Los_Angeles:20160616T160000
DTEND;TZID=America/Los_Angeles:20160616T180000
DTSTAMP:20260423T164113
CREATED:20160511T202842Z
LAST-MODIFIED:20160511T202842Z
UID:12296-1466092800-1466100000@www.celinescuisine.com
SUMMARY:Sweet Treats Baking Camp DESSERTS AROUND THE WORLD  #1650.206
DESCRIPTION:This camp has been designed specifically for kids who want to have fun in the kitchen and be creative. They’ll learn all about the wonderful world of baking and techniques needed to make some of their favorite sweet treats. They will use real ingredients that are not processed or from a box! At the end of each class\, kids will eat their creations. At the end of the camp\, kids will receive a baking diploma and copies of all the recipes they made. All levels are welcome in this hands-on cooking class. Menu Sample: Cheesecake (USA)\, Victoria sponge cake (UK)\, Panna cotta (Italy)\, Tarte au Citron – Lemon Tart (France).
URL:https://www.celinescuisine.com/events/sweet-treats-baking-camp-desserts-around-the-world-1650-206-4/
LOCATION:Temecula Community Center (CRC)\, 30875 Rancho Vista Road\, Temecula\, CA\, 92590\, United States
END:VEVENT
BEGIN:VEVENT
DTSTART;TZID=America/Los_Angeles:20160616T133000
DTEND;TZID=America/Los_Angeles:20160616T153000
DTSTAMP:20260423T164113
CREATED:20160511T203539Z
LAST-MODIFIED:20160511T203539Z
UID:12300-1466083800-1466091000@www.celinescuisine.com
SUMMARY:Sweet Treats Baking Camp CUPCAKE WARS # 1650.204
DESCRIPTION:This camp has been designed specifically for kids who want to have fun in the kitchen and be creative. They’ll learn all about the wonderful world of baking and techniques needed to make some of their favorite sweet treats. They will use real ingredients that are not processed or from a box! At the end of each class\, kids will eat their creations. At the end of the camp\, kids will receive a baking diploma and copies of all the recipes they made. All levels are welcome in this hands-on cooking class
URL:https://www.celinescuisine.com/events/sweet-treats-baking-camp-cupcake-wars-1650-204-4/
LOCATION:Temecula Community Center (CRC)\, 30875 Rancho Vista Road\, Temecula\, CA\, 92590\, United States
END:VEVENT
BEGIN:VEVENT
DTSTART;TZID=America/Los_Angeles:20160616T083000
DTEND;TZID=America/Los_Angeles:20160616T223000
DTSTAMP:20260423T164113
CREATED:20160511T201101Z
LAST-MODIFIED:20160511T201101Z
UID:12287-1466065800-1466116200@www.celinescuisine.com
SUMMARY:Sweet Treats Baking Camp FRENCH DESSERTS # 1650.203
DESCRIPTION:This camp has been designed specifically for kids who want to have fun in the kitchen and be creative. They’ll learn all about the wonderful world of baking and techniques needed to make some of their favorite sweet treats. They will use real ingredients that are not processed or from a box! At the end of each class\, kids will eat their creations. At the end of the camp\, kids will receive a baking diploma and copies of all the recipes they made. All levels are welcome in this hands-on cooking class. Menu Sample: Napoleon\, profiteroles cream puff with vanilla ice cream and chocolate sauce\, individual mini chocolate tart\, summer berry pie and much more!
URL:https://www.celinescuisine.com/events/sweet-treats-baking-camp-french-desserts-1650-203-4/
LOCATION:Temecula Community Center (CRC)\, 30875 Rancho Vista Road\, Temecula\, CA\, 92590\, United States
END:VEVENT
BEGIN:VEVENT
DTSTART;TZID=America/Los_Angeles:20160615T160000
DTEND;TZID=America/Los_Angeles:20160615T180000
DTSTAMP:20260423T164113
CREATED:20160511T202655Z
LAST-MODIFIED:20160511T202655Z
UID:12295-1466006400-1466013600@www.celinescuisine.com
SUMMARY:Sweet Treats Baking Camp DESSERTS AROUND THE WORLD #1650.206
DESCRIPTION:This camp has been designed specifically for kids who want to have fun in the kitchen and be creative. They’ll learn all about the wonderful world of baking and techniques needed to make some of their favorite sweet treats. They will use real ingredients that are not processed or from a box! At the end of each class\, kids will eat their creations. At the end of the camp\, kids will receive a baking diploma and copies of all the recipes they made. All levels are welcome in this hands-on cooking class. Menu Sample: Cheesecake (USA)\, Victoria sponge cake (UK)\, Panna cotta (Italy)\, Tarte au Citron – Lemon Tart (France).
URL:https://www.celinescuisine.com/events/sweet-treats-baking-camp-desserts-around-the-world-1650-206-3/
LOCATION:Temecula Community Center (CRC)\, 30875 Rancho Vista Road\, Temecula\, CA\, 92590\, United States
END:VEVENT
BEGIN:VEVENT
DTSTART;TZID=America/Los_Angeles:20160615T133000
DTEND;TZID=America/Los_Angeles:20160615T153000
DTSTAMP:20260423T164113
CREATED:20160511T203401Z
LAST-MODIFIED:20160511T203401Z
UID:12299-1465997400-1466004600@www.celinescuisine.com
SUMMARY:Sweet Treats Baking Camp CUPCAKE WARS # 1650.204
DESCRIPTION:This camp has been designed specifically for kids who want to have fun in the kitchen and be creative. They’ll learn all about the wonderful world of baking and techniques needed to make some of their favorite sweet treats. They will use real ingredients that are not processed or from a box! At the end of each class\, kids will eat their creations. At the end of the camp\, kids will receive a baking diploma and copies of all the recipes they made. All levels are welcome in this hands-on cooking class.
URL:https://www.celinescuisine.com/events/sweet-treats-baking-camp-cupcake-wars-1650-204-3/
LOCATION:Temecula Community Center (CRC)\, 30875 Rancho Vista Road\, Temecula\, CA\, 92590\, United States
END:VEVENT
BEGIN:VEVENT
DTSTART;TZID=America/Los_Angeles:20160615T083000
DTEND;TZID=America/Los_Angeles:20160615T223000
DTSTAMP:20260423T164113
CREATED:20160511T200900Z
LAST-MODIFIED:20160511T200900Z
UID:12286-1465979400-1466029800@www.celinescuisine.com
SUMMARY:Sweet Treats Baking Camp FRENCH DESSERTS # 1650.203
DESCRIPTION:This camp has been designed specifically for kids who want to have fun in the kitchen and be creative. They’ll learn all about the wonderful world of baking and techniques needed to make some of their favorite sweet treats. They will use real ingredients that are not processed or from a box! At the end of each class\, kids will eat their creations. At the end of the camp\, kids will receive a baking diploma and copies of all the recipes they made. All levels are welcome in this hands-on cooking class. Menu Sample: Napoleon\, profiteroles cream puff with vanilla ice cream and chocolate sauce\, individual mini chocolate tart\, summer berry pie and much more!
URL:https://www.celinescuisine.com/events/sweet-treats-baking-camp-french-desserts-1650-203-3/
LOCATION:Temecula Community Center (CRC)\, 30875 Rancho Vista Road\, Temecula\, CA\, 92590\, United States
END:VEVENT
BEGIN:VEVENT
DTSTART;TZID=America/Los_Angeles:20160614T160000
DTEND;TZID=America/Los_Angeles:20160614T180000
DTSTAMP:20260423T164113
CREATED:20160511T202525Z
LAST-MODIFIED:20160511T202525Z
UID:12294-1465920000-1465927200@www.celinescuisine.com
SUMMARY:Sweet Treats Baking Camp DESSERTS AROUND THE WORLD #1650.206
DESCRIPTION:This camp has been designed specifically for kids who want to have fun in the kitchen and be creative. They’ll learn all about the wonderful world of baking and techniques needed to make some of their favorite sweet treats. They will use real ingredients that are not processed or from a box! At the end of each class\, kids will eat their creations. At the end of the camp\, kids will receive a baking diploma and copies of all the recipes they made. All levels are welcome in this hands-on cooking class. Menu Sample: Cheesecake (USA)\, Victoria sponge cake (UK)\, Panna cotta (Italy)\, Tarte au Citron – Lemon Tart (France).
URL:https://www.celinescuisine.com/events/sweet-treats-baking-camp-desserts-around-the-world-1650-206-2/
LOCATION:Temecula Community Center (CRC)\, 30875 Rancho Vista Road\, Temecula\, CA\, 92590\, United States
END:VEVENT
BEGIN:VEVENT
DTSTART;TZID=America/Los_Angeles:20160614T133000
DTEND;TZID=America/Los_Angeles:20160614T153000
DTSTAMP:20260423T164113
CREATED:20160511T203153Z
LAST-MODIFIED:20160511T203153Z
UID:12298-1465911000-1465918200@www.celinescuisine.com
SUMMARY:Sweet Treats Baking Camp CUPCAKE WARS # 1650.204
DESCRIPTION:This camp has been designed specifically for kids who want to have fun in the kitchen and be creative. They’ll learn all about the wonderful world of baking and techniques needed to make some of their favorite sweet treats. They will use real ingredients that are not processed or from a box! At the end of each class\, kids will eat their creations. At the end of the camp\, kids will receive a baking diploma and copies of all the recipes they made. All levels are welcome in this hands-on cooking class.
URL:https://www.celinescuisine.com/events/sweet-treats-baking-camp-cupcake-wars-1650-204-2/
LOCATION:Temecula Community Center (CRC)\, 30875 Rancho Vista Road\, Temecula\, CA\, 92590\, United States
END:VEVENT
BEGIN:VEVENT
DTSTART;TZID=America/Los_Angeles:20160614T083000
DTEND;TZID=America/Los_Angeles:20160614T103000
DTSTAMP:20260423T164113
CREATED:20160511T200714Z
LAST-MODIFIED:20160511T200714Z
UID:12283-1465893000-1465900200@www.celinescuisine.com
SUMMARY:Sweet Treats Baking Camp FRENCH DESSERTS # 1650.203
DESCRIPTION:This camp has been designed specifically for kids who want to have fun in the kitchen and be creative. They’ll learn all about the wonderful world of baking and techniques needed to make some of their favorite sweet treats. They will use real ingredients that are not processed or from a box! At the end of each class\, kids will eat their creations. At the end of the camp\, kids will receive a baking diploma and copies of all the recipes they made. All levels are welcome in this hands-on cooking class. Menu Sample: Napoleon\, profiteroles cream puff with vanilla ice cream and chocolate sauce\, individual mini chocolate tart\, summer berry pie and much more!
URL:https://www.celinescuisine.com/events/sweet-treats-baking-camp-french-desserts-1650-203-2/
LOCATION:Temecula Community Center (CRC)\, 30875 Rancho Vista Road\, Temecula\, CA\, 92590\, United States
END:VEVENT
BEGIN:VEVENT
DTSTART;TZID=America/Los_Angeles:20160613T160000
DTEND;TZID=America/Los_Angeles:20160613T180000
DTSTAMP:20260423T164113
CREATED:20160511T202343Z
LAST-MODIFIED:20160511T202343Z
UID:12293-1465833600-1465840800@www.celinescuisine.com
SUMMARY:Sweet Treats Baking Camp DESSERTS AROUND THE WORLD #1650.206
DESCRIPTION:This camp has been designed specifically for kids who want to have fun in the kitchen and be creative. They’ll learn all about the wonderful world of baking and techniques needed to make some of their favorite sweet treats. They will use real ingredients that are not processed or from a box! At the end of each class\, kids will eat their creations. At the end of the camp\, kids will receive a baking diploma and copies of all the recipes they made. All levels are welcome in this hands-on cooking class. Menu Sample: Cheesecake (USA)\, Victoria sponge cake (UK)\, Panna cotta (Italy)\, Tarte au Citron – Lemon Tart (France).
URL:https://www.celinescuisine.com/events/sweet-treats-baking-camp-desserts-around-the-world-1650-206/
LOCATION:Temecula Community Center (CRC)\, 30875 Rancho Vista Road\, Temecula\, CA\, 92590\, United States
END:VEVENT
BEGIN:VEVENT
DTSTART;TZID=America/Los_Angeles:20160613T160000
DTEND;TZID=America/Los_Angeles:20160613T180000
DTSTAMP:20260423T164113
CREATED:20160510T191538Z
LAST-MODIFIED:20160510T191538Z
UID:12264-1465833600-1465840800@www.celinescuisine.com
SUMMARY:Junior Master Chefs Camp # #1675.202
DESCRIPTION:Are you a Master Chef\, or do you want to learn how to be one? Show off your skills and learn new techniques in what is sure to be the highlight of your summer break. We’ll have mystery baskets\, team challenges\, and taste tests as we create culinary treats that are both savory and sweet! Kids need to be able to be independent in the kitchen. We will use real ingredients that are not processed or from a box! At the end of each class\, kids will eat their creations. This is a hands-on cooking class.
URL:https://www.celinescuisine.com/events/junior-master-chefs-camp-1675-202-2/
LOCATION:Temecula Community Center (CRC)\, 30875 Rancho Vista Road\, Temecula\, CA\, 92590\, United States
END:VEVENT
BEGIN:VEVENT
DTSTART;TZID=America/Los_Angeles:20160613T160000
DTEND;TZID=America/Los_Angeles:20160613T180000
DTSTAMP:20260423T164113
CREATED:20160510T184209Z
LAST-MODIFIED:20160511T143415Z
UID:12256-1465833600-1465840800@www.celinescuisine.com
SUMMARY:Junior Master Chefs Camp- #1675.202
DESCRIPTION:Are you a Master Chef\, or do you want to learn how to be one? Show off your skills and learn new techniques in what is sure to be the highlight of your summer break. We’ll have mystery baskets\, team challenges\, and taste tests as we create culinary treats that are both savory and sweet! Kids need to be able to be independent in the kitchen. We will use real ingredients that are not processed or from a box! At the end of each class\, kids will eat their creations. This is a hands-on cooking class.
URL:https://www.celinescuisine.com/events/junior-master-chefs-camp-1675-202/
LOCATION:Temecula Community Center (CRC)\, 30875 Rancho Vista Road\, Temecula\, CA\, 92590\, United States
CATEGORIES:Temecula Culinary Camps
END:VEVENT
END:VCALENDAR