BEGIN:VCALENDAR
VERSION:2.0
PRODID:-// - ECPv6.15.20//NONSGML v1.0//EN
CALSCALE:GREGORIAN
METHOD:PUBLISH
X-ORIGINAL-URL:https://www.celinescuisine.com
X-WR-CALDESC:Events for 
REFRESH-INTERVAL;VALUE=DURATION:PT1H
X-Robots-Tag:noindex
X-PUBLISHED-TTL:PT1H
BEGIN:VTIMEZONE
TZID:America/Los_Angeles
BEGIN:DAYLIGHT
TZOFFSETFROM:-0800
TZOFFSETTO:-0700
TZNAME:PDT
DTSTART:20170312T100000
END:DAYLIGHT
BEGIN:STANDARD
TZOFFSETFROM:-0700
TZOFFSETTO:-0800
TZNAME:PST
DTSTART:20171105T090000
END:STANDARD
BEGIN:DAYLIGHT
TZOFFSETFROM:-0800
TZOFFSETTO:-0700
TZNAME:PDT
DTSTART:20180311T100000
END:DAYLIGHT
BEGIN:STANDARD
TZOFFSETFROM:-0700
TZOFFSETTO:-0800
TZNAME:PST
DTSTART:20181104T090000
END:STANDARD
BEGIN:DAYLIGHT
TZOFFSETFROM:-0800
TZOFFSETTO:-0700
TZNAME:PDT
DTSTART:20190310T100000
END:DAYLIGHT
BEGIN:STANDARD
TZOFFSETFROM:-0700
TZOFFSETTO:-0800
TZNAME:PST
DTSTART:20191103T090000
END:STANDARD
END:VTIMEZONE
BEGIN:VEVENT
DTSTART;TZID=America/Los_Angeles:20180611T090000
DTEND;TZID=America/Los_Angeles:20180614T233000
DTSTAMP:20260423T023351
CREATED:20180518T165617Z
LAST-MODIFIED:20180518T165617Z
UID:13881-1528707600-1529019000@www.celinescuisine.com
SUMMARY:FRENCH MACARONS 1650. 201
DESCRIPTION:THIS CAMP STARTS JUNE 11-14 FROM 9:00 TO 11:30 AM \nyour young Pastry Chefs will learn step by step how to make macarons from  prep\, pipe\, bake\, and assemble macarons from scratch. Each day campers will work in a team to make new flavors ( chocolate\, strawberry\, lemon and vanilla) \nThere is additional $5 to pay to the instructor at the first class
URL:https://www.celinescuisine.com/events/french-macarons-1650-201/
LOCATION:Temecula Community Center (CRC)\, 30875 Rancho Vista Road\, Temecula\, CA\, 92590\, United States
CATEGORIES:Kids Baking and Culinary Camps ( Inland Empire and Temecula Valley),Temecula Culinary Camps
ATTACH;FMTTYPE=image/jpeg:https://www.celinescuisine.com/wp-content/uploads/2018/02/macaron_lg-2.jpg
END:VEVENT
BEGIN:VEVENT
DTSTART;TZID=America/Los_Angeles:20180618T083000
DTEND;TZID=America/Los_Angeles:20180621T103000
DTSTAMP:20260423T023351
CREATED:20180524T003843Z
LAST-MODIFIED:20180524T003843Z
UID:13920-1529310600-1529577000@www.celinescuisine.com
SUMMARY:KIDS BAKING AND COOKING CLASS  KCBC 62018
DESCRIPTION:THIS CAMPS RUN FROM JUNE 18-21 FROM 8:30 – 10:30 \nThis new camp is a fun and creative way to give your kids the opportunity to learn about different baking and cooking techniques. Every day kids will learn to make a new dessert or savory dish using different techniques \nNew menu : Italian calzone\,Parisian Croissant\, Mini meatloaf and tomat sauce\, Summer fruit crisp\, roasted ratatouille with garlic bread\,  chocolate dipped strawberries
URL:https://www.celinescuisine.com/events/kids-baking-and-cooking-class-kcbc-62018/
LOCATION:Murrieta Community Center\, Juniper street\, murrieta\, 92562\, United States
CATEGORIES:Murrieta Culinary camps
ATTACH;FMTTYPE=image/jpeg:https://www.celinescuisine.com/wp-content/uploads/2017/03/ham-and-cheese-croissantR.jpg
END:VEVENT
BEGIN:VEVENT
DTSTART;TZID=America/Los_Angeles:20180618T104500
DTEND;TZID=America/Los_Angeles:20180621T124500
DTSTAMP:20260423T023351
CREATED:20180524T004546Z
LAST-MODIFIED:20180524T004546Z
UID:13922-1529318700-1529585100@www.celinescuisine.com
SUMMARY:KIDS CULINARY CAMP  KCSC 62018
DESCRIPTION:THIS SUMMER CAMP RUNS FROM JUNE 18-21 FROM 10:45 – 12:45 \nThis unique culinary camp for kids offers a new menu and creative way  to give your kids opportunity to learn cooking from scratch\, discovering new flavors\,  new ingredients and trying new food! \nNew menu : Italian mini fritata\,  sweet potatoe and zuchini parmesan baked fries\, garlic parmesan kale chips\, ham cheese puff\,
URL:https://www.celinescuisine.com/events/kids-culinary-camp-kcsc-62018/
LOCATION:Murrieta Community Center\, Juniper street\, murrieta\, 92562\, United States
CATEGORIES:Murrieta Culinary camps
ATTACH;FMTTYPE=image/jpeg:https://www.celinescuisine.com/wp-content/uploads/2017/11/IMG_1015-e1516412181713.jpg
END:VEVENT
BEGIN:VEVENT
DTSTART;TZID=America/Los_Angeles:20180618T130000
DTEND;TZID=America/Los_Angeles:20180621T150000
DTSTAMP:20260423T023351
CREATED:20180524T010308Z
LAST-MODIFIED:20180524T010308Z
UID:13924-1529326800-1529593200@www.celinescuisine.com
SUMMARY:KIDS SWEET DESSERTS CAMP  KSCCDC 62018
DESCRIPTION:THIS CAMP RUNS FROM JUNE 18-21 FROM 1-3 PM \nThis sweet baking camp ( new menu) is a fun and creative to give your kids opportunity to learn about baking from scratch\, new flavors and taste. \nNew Menu : Profiteroles ( cream puff\, ice cream and chocolate sauce)\,  Summer fruit crostata\, French apple cake\,  strawberry -cream popsicle\, baked churros with chocolate sauce
URL:https://www.celinescuisine.com/events/kids-sweet-desserts-camp-ksccdc-62018/
LOCATION:Virtual Murrieta Community Center\, 41810 Juniper st\, Murrieta\, 92562\, United States
CATEGORIES:Murrieta Culinary camps
ATTACH;FMTTYPE=image/jpeg:https://www.celinescuisine.com/wp-content/uploads/2015/08/IMG_3230-scaled.jpg
END:VEVENT
BEGIN:VEVENT
DTSTART;TZID=America/Los_Angeles:20180618T154500
DTEND;TZID=America/Los_Angeles:20180621T174500
DTSTAMP:20260423T023351
CREATED:20180524T000610Z
LAST-MODIFIED:20180524T000610Z
UID:13912-1529336700-1529603100@www.celinescuisine.com
SUMMARY:Teens Master Chefs Camp   TMCC 62018
DESCRIPTION:THIS CAMP RUNS FROM JUNE 18-21  3:15-5:15 PM \nIs your teen/ kids a master chef or want to learn how to be ? Does he/ she like to show off his/her creativity and skills and learn new culinary techniques? The first 3-days teens will learn different culinary techniques and on  the last day just like the show they will have mystery basket\, team challenges taste – test and jugging
URL:https://www.celinescuisine.com/events/teens-master-chefs-camp-tmcc-62018/
LOCATION:Virtual Murrieta Community Center\, 41810 Juniper st\, Murrieta\, 92562\, United States
CATEGORIES:Kids Baking and Culinary Camps ( Inland Empire and Temecula Valley)
ATTACH;FMTTYPE=image/jpeg:https://www.celinescuisine.com/wp-content/uploads/2017/05/IMG_7514-1.jpg
END:VEVENT
BEGIN:VEVENT
DTSTART;TZID=America/Los_Angeles:20180625T090000
DTEND;TZID=America/Los_Angeles:20180625T103000
DTSTAMP:20260423T023351
CREATED:20180518T013656Z
LAST-MODIFIED:20180518T022602Z
UID:12859-1529917200-1529922600@www.celinescuisine.com
SUMMARY:AMERICAN ROAD TRIP COOKING CAMPS # 1680.201
DESCRIPTION:START MONDAY JUNE 25 TO JUNE 28 9:00-10:30 AM \nSend your child on a culinary trip across the USA! In this new exciting new culinary camp young chef will explore flavors and ingredients from coast to coast and regions in between! Chefs will work  as a team and enjoy dishes they made together. Sample menu includes : Hamburger\, baked wedge fries\, chicken nuggets\, guacamole\, homemade tortilla chips\, BLT\, potato salad\, Cobb salad\, shakes and chocolate chips
URL:https://www.celinescuisine.com/events/american-road-trip-cooking-camps-1680-201/
LOCATION:TCC 28816 Pujol Street Temecula\, 28816 Pujol Street Temecula\, TEMECULA\, CA\, 92590\, United States
ATTACH;FMTTYPE=image/jpeg:https://www.celinescuisine.com/wp-content/uploads/2015/04/temeculamoneCOOKIES-e1526609169842.jpg
END:VEVENT
BEGIN:VEVENT
DTSTART;TZID=America/Los_Angeles:20180625T104500
DTEND;TZID=America/Los_Angeles:20180628T124500
DTSTAMP:20260423T023351
CREATED:20180518T061857Z
LAST-MODIFIED:20180518T061938Z
UID:13873-1529923500-1530189900@www.celinescuisine.com
SUMMARY:Around the world culinary camp 1655.202
DESCRIPTION:THIS CAMP STARTS ON JUNE 25 TO JUNE 28 FROM  10:45 AM –12:45\nCampers will travel the world in our kitchen and enjoy a culinary experience they won’t forget! Camp teaches a number of different cooking method like sautéing\, chopping\,  and cooking from scratch with fresh ingredients. Camps will have an international theme and each camp has a unique menu of recipes. Students will eat what they prepare each day.  Sample menus include:  sushi\, Napoli pizza\, quiche Lorraine\,  Greek salad with pitta and shepherd mashed potato and peas.
URL:https://www.celinescuisine.com/events/around-the-world-culinary-camp-1655-202-3/
ATTACH;FMTTYPE=image/jpeg:https://www.celinescuisine.com/wp-content/uploads/2012/08/ch4-pancetta-and-ham-quiche-Img0597-scaled.jpg
END:VEVENT
BEGIN:VEVENT
DTSTART;TZID=America/Los_Angeles:20180625T130000
DTEND;TZID=America/Los_Angeles:20180628T150000
DTSTAMP:20260423T023351
CREATED:20180518T063745Z
LAST-MODIFIED:20180518T063745Z
UID:13877-1529931600-1530198000@www.celinescuisine.com
SUMMARY:JUNIOR MASTER CHEFS CAMPS 1675. 201
DESCRIPTION:THIS CAMP STARTS ON JUNE 25-28 FROM  1-3 PM \nAre you a master chef or do you want to learn how to become one? Show off your skills and learn new techniques in what is sure is the highlight of your summer break. We will have mystery basket\,  team challenges\, and tastes test as we create culinary treats that are both savory or sweet. We will use real ingredients that are not processed or from a box. This is an hands on cooking class. kids need to be independant in the kitchen. At the end of the class kids eat their creations
URL:https://www.celinescuisine.com/events/junior-master-chefs-camps-1675-201/
LOCATION:TCC 28816 Pujol Street Temecula\, 28816 Pujol Street Temecula\, TEMECULA\, CA\, 92590\, United States
ATTACH;FMTTYPE=image/jpeg:https://www.celinescuisine.com/wp-content/uploads/2015/04/temeculamctwochopping-e1428429003850.jpg
END:VEVENT
BEGIN:VEVENT
DTSTART;TZID=America/Los_Angeles:20180625T151500
DTEND;TZID=America/Los_Angeles:20180628T171500
DTSTAMP:20260423T023351
CREATED:20180518T170816Z
LAST-MODIFIED:20180518T170816Z
UID:13885-1529939700-1530206100@www.celinescuisine.com
SUMMARY:FRENCH PASTRIES  1650.203
DESCRIPTION:THIS CAMP STARTS JUNE 25- 28 FROM 3: 15-5:15\nMake real French pastries from a French born instructor! Learn how to make madeleines\, Canneles custard cookies\, famous kouign aman from Britany France classic cream puff and more! Camp includes also a demonstration of French Macarons
URL:https://www.celinescuisine.com/events/french-pastries-1650-203/
LOCATION:Temecula Community Center (CRC)\, 30875 Rancho Vista Road\, Temecula\, CA\, 92590\, United States
CATEGORIES:Kids Baking and Culinary Camps ( Inland Empire and Temecula Valley),Temecula Culinary Camps
ATTACH;FMTTYPE=image/jpeg:https://www.celinescuisine.com/wp-content/uploads/2016/10/madeleinesblog.jpg
END:VEVENT
BEGIN:VEVENT
DTSTART;TZID=America/Los_Angeles:20180626T090000
DTEND;TZID=America/Los_Angeles:20180626T103000
DTSTAMP:20260423T023351
CREATED:20180518T014853Z
LAST-MODIFIED:20180518T014853Z
UID:13433-1530003600-1530009000@www.celinescuisine.com
SUMMARY:AMERICAN ROAD TRIP COOKING CAMP
DESCRIPTION:START JUNE 25 TO JUNE 28 FROM 9: 00 TO 10:30 AM \n  \nSend your child on a culinary trip across the USA! In this new exciting new culinary camp young chef will explore flavors and ingredients from coast to coast and regions in between! Chefs will work as a team and enjoy dishes they made together. Sample menu includes: Hamburger\, baked wedge fries\, chicken nuggets\, guacamole\, homemade tortilla chips\, BLT\, potato salad\, Cobb salad\, shakes and chocolate chips
URL:https://www.celinescuisine.com/events/american-road-trip-cooking-camp/
LOCATION:TCC 28816 Pujol Street Temecula\, 28816 Pujol Street Temecula\, TEMECULA\, CA\, 92590\, United States
ATTACH;FMTTYPE=image/jpeg:https://www.celinescuisine.com/wp-content/uploads/2015/04/TEMECULAONEBC-e1526619012354.jpg
END:VEVENT
BEGIN:VEVENT
DTSTART;TZID=America/Los_Angeles:20180627T090000
DTEND;TZID=America/Los_Angeles:20180627T103000
DTSTAMP:20260423T023351
CREATED:20180518T015307Z
LAST-MODIFIED:20180518T015307Z
UID:13435-1530090000-1530095400@www.celinescuisine.com
SUMMARY:AMERICAN ROAD TRIP COOKING CAMP
DESCRIPTION:STARTS MONDAY JUNE 25 TO JUNE 28 FROM 9: 00 AM TO 10:30 AM \n  \nSend your child on a culinary trip across the USA! In this new exciting new culinary camp young chef will explore flavors and ingredients from coast to coast and regions in between! Chefs will work as a team and enjoy dishes they made together. Sample menu includes: Hamburger\, baked wedge fries\, chicken nuggets\, guacamole\, homemade tortilla chips\, BLT\, potato salad\, Cobb salad\, shakes and chocolate chips
URL:https://www.celinescuisine.com/events/american-road-trip-cooking-camp-2/
LOCATION:TCC 28816 Pujol Street Temecula\, 28816 Pujol Street Temecula\, TEMECULA\, CA\, 92590\, United States
ATTACH;FMTTYPE=image/jpeg:https://www.celinescuisine.com/wp-content/uploads/2015/04/temeculamoneCOOKIES-e1526609169842.jpg
END:VEVENT
BEGIN:VEVENT
DTSTART;TZID=America/Los_Angeles:20180628T090000
DTEND;TZID=America/Los_Angeles:20180628T103000
DTSTAMP:20260423T023351
CREATED:20180518T015954Z
LAST-MODIFIED:20180518T015954Z
UID:13439-1530176400-1530181800@www.celinescuisine.com
SUMMARY:AMERICAN ROAD TRIP COOKING CAMP
DESCRIPTION:THIS CAMP STARTS JUNE 25 TO JUNE 28 FROM 9 :00 AM TO 10:30 AM \n  \nSend your child on a culinary trip across the USA! In this new exciting new culinary camp young chef will explore flavors and ingredients from coast to coast and regions in between! Chefs will work as a team and enjoy dishes they made together. Sample menu includes: Hamburger\, baked wedge fries\, chicken nuggets\, guacamole\, homemade tortilla chips\, BLT\, potato salad\, Cobb salad\, shakes and chocolate chips
URL:https://www.celinescuisine.com/events/american-road-trip-cooking-camp-4/
LOCATION:TCC 28816 Pujol Street Temecula\, 28816 Pujol Street Temecula\, TEMECULA\, CA\, 92590\, United States
END:VEVENT
END:VCALENDAR