BEGIN:VCALENDAR
VERSION:2.0
PRODID:-// - ECPv6.15.20//NONSGML v1.0//EN
CALSCALE:GREGORIAN
METHOD:PUBLISH
X-ORIGINAL-URL:https://www.celinescuisine.com
X-WR-CALDESC:Events for 
REFRESH-INTERVAL;VALUE=DURATION:PT1H
X-Robots-Tag:noindex
X-PUBLISHED-TTL:PT1H
BEGIN:VTIMEZONE
TZID:America/Los_Angeles
BEGIN:DAYLIGHT
TZOFFSETFROM:-0800
TZOFFSETTO:-0700
TZNAME:PDT
DTSTART:20170312T100000
END:DAYLIGHT
BEGIN:STANDARD
TZOFFSETFROM:-0700
TZOFFSETTO:-0800
TZNAME:PST
DTSTART:20171105T090000
END:STANDARD
BEGIN:DAYLIGHT
TZOFFSETFROM:-0800
TZOFFSETTO:-0700
TZNAME:PDT
DTSTART:20180311T100000
END:DAYLIGHT
BEGIN:STANDARD
TZOFFSETFROM:-0700
TZOFFSETTO:-0800
TZNAME:PST
DTSTART:20181104T090000
END:STANDARD
BEGIN:DAYLIGHT
TZOFFSETFROM:-0800
TZOFFSETTO:-0700
TZNAME:PDT
DTSTART:20190310T100000
END:DAYLIGHT
BEGIN:STANDARD
TZOFFSETFROM:-0700
TZOFFSETTO:-0800
TZNAME:PST
DTSTART:20191103T090000
END:STANDARD
END:VTIMEZONE
BEGIN:VEVENT
DTSTART;TZID=America/Los_Angeles:20180702T080000
DTEND;TZID=America/Los_Angeles:20180706T170000
DTSTAMP:20260423T023352
CREATED:20180522T201250Z
LAST-MODIFIED:20180522T201250Z
UID:13898-1530518400-1530896400@www.celinescuisine.com
SUMMARY:Around the World Desserts Camp- 0079.2A
DESCRIPTION:Jul 2\, 2018 to Jul 6\, 2018  10:45am to 12:45pm   NO CLASS ON JULY 4TH \nStudents become a pastry chef and learn to make yummy goodies and bake their favorite desserts such as muffins\, berry scones\, chocolate croissants\, Italian summer fruit crostada\, and other goodies. All desserts are made from scratch using several baking techniques. All levels are welcome. Note: A material fee of $10 is due and payable to the instructor at the first class meeting.
URL:https://www.celinescuisine.com/events/around-the-world-desserts-camp-0079-2a/
LOCATION:Orange Terrace Park/Orange Terrace Comm. Center\, 20010 Orange Terrace Parkway\, Riverside\, CA\, 92508\, CA\, 92508\, United States
CATEGORIES:Riverside cooking camps
ATTACH;FMTTYPE=image/jpeg:https://www.celinescuisine.com/wp-content/uploads/2017/03/yogurtcake-e1526664210544.jpg
END:VEVENT
BEGIN:VEVENT
DTSTART;TZID=America/Los_Angeles:20180702T083000
DTEND;TZID=America/Los_Angeles:20180706T103000
DTSTAMP:20260423T023352
CREATED:20180523T053357Z
LAST-MODIFIED:20180523T053357Z
UID:13906-1530520200-1530873000@www.celinescuisine.com
SUMMARY:French Pastries and Desserts Camp- 0244.2A
DESCRIPTION:Jul 2\, 2018 to Jul 9\, 2018  8:30am to 10:30am  no class on July 4th \nYoung students learn how to make desserts such madeleines and apple tarts while finding their inner chef during this interactive camp. Kids cook using fresh ingredients\, peeling and measuring food from scratch and learning professional kitchen etiquette about food and kitchen safety. Note: A material fee of $10 is due and payable to the instructor at the first class meeting.
URL:https://www.celinescuisine.com/events/french-pastries-and-desserts-camp-0244-2a/
LOCATION:Orange Terrace Park/Orange Terrace Comm. Center\, 20010 Orange Terrace Parkway\, Riverside\, CA\, 92508\, CA\, 92508\, United States
CATEGORIES:Riverside cooking camps
ATTACH;FMTTYPE=image/jpeg:https://www.celinescuisine.com/wp-content/uploads/2016/10/madeleinesblog.jpg
END:VEVENT
BEGIN:VEVENT
DTSTART;TZID=America/Los_Angeles:20180702T130000
DTEND;TZID=America/Los_Angeles:20180706T150000
DTSTAMP:20260423T023352
CREATED:20180522T201812Z
LAST-MODIFIED:20180522T201812Z
UID:13900-1530536400-1530889200@www.celinescuisine.com
SUMMARY:Jr. Master Chefs Camp - 0195.2A
DESCRIPTION:Jul 2\, 2018 to Jul 6\, 2018  1pm to 3pm \nMaster Chefs begin training to become a top master chef as we master essential culinary concepts and techniques all while creating delicious dishes that are eaten at the conclusion of each class. On the last day of camp chefs put our culinary tricks to the test as we put on our own friendly mystery basket competition. Note: A material fee of $10 is due and payable to the instructor at the first class meeting
URL:https://www.celinescuisine.com/events/jr-master-chefs-camp-0195-2a/
LOCATION:Orange Terrace Park/Orange Terrace Comm. Center\, 20010 Orange Terrace Parkway\, Riverside\, CA\, 92508\, CA\, 92508\, United States
ATTACH;FMTTYPE=image/jpeg:https://www.celinescuisine.com/wp-content/uploads/2017/11/IMG_1253-scaled.jpg
END:VEVENT
BEGIN:VEVENT
DTSTART;TZID=America/Los_Angeles:20180702T151500
DTEND;TZID=America/Los_Angeles:20180706T171500
DTSTAMP:20260423T023352
CREATED:20180523T052749Z
LAST-MODIFIED:20180523T052749Z
UID:13904-1530544500-1530897300@www.celinescuisine.com
SUMMARY:Jr. Cupcake Wars Camp - 0240.2A
DESCRIPTION:Jul 2\, 2018 to Jul 6\, 2018  3:15pm to 5:15pm \nJr. chefs mix\, bake\, design and create cupcakes while mastering the essentials tools needed to produce one of a kind cupcakes! Camp teaches students the art of making delicious unique cupcakes and decorating them. All levels are welcome. Note: A material fee of $10 is due and payable to the instructor at the first class meeting.
URL:https://www.celinescuisine.com/events/jr-cupcake-wars-camp-0240-2a/
LOCATION:Orange Terrace Park/Orange Terrace Comm. Center\, 20010 Orange Terrace Parkway\, Riverside\, CA\, 92508\, CA\, 92508\, United States
CATEGORIES:Riverside cooking camps
ATTACH;FMTTYPE=image/jpeg:https://www.celinescuisine.com/wp-content/uploads/2018/03/CUPCAKES1650.2029.jpg
END:VEVENT
BEGIN:VEVENT
DTSTART;TZID=America/Los_Angeles:20180709T083000
DTEND;TZID=America/Los_Angeles:20180712T223000
DTSTAMP:20260423T023352
CREATED:20180524T011235Z
LAST-MODIFIED:20180524T011235Z
UID:13927-1531125000-1531434600@www.celinescuisine.com
SUMMARY:KIDS COOKING AND BAKING COMBO CAMP KCBC 72018
DESCRIPTION:THIS CAMPS RUN FROM JULY 9-12 FROM 8:30 – 10:30 \nThis new camp is a fun and creative way to give your kids the opportunity to learn about different baking and cooking techniques. Every day kids will learn to make a new dessert or savory dish using different techniques \nNew menu : Italian calzone\,Parisian Croissant\, Mini meatloaf and tomato sauce\, Summer fruit crisp\, roasted ratatouille with garlic bread\,  chocolate dipped strawberries
URL:https://www.celinescuisine.com/events/kids-cooking-and-baking-combo-camp-kcbc-72018/
LOCATION:Virtual Murrieta Community Center\, 41810 Juniper st\, Murrieta\, 92562\, United States
CATEGORIES:Kids Baking and Culinary Camps ( Inland Empire and Temecula Valley),Murrieta Culinary camps
ATTACH;FMTTYPE=image/jpeg:https://www.celinescuisine.com/wp-content/uploads/2016/09/TOMATOCOURGETTEPIE-e1473789583792.jpg
END:VEVENT
BEGIN:VEVENT
DTSTART;TZID=America/Los_Angeles:20180709T104500
DTEND;TZID=America/Los_Angeles:20180712T124500
DTSTAMP:20260423T023352
CREATED:20180524T012602Z
LAST-MODIFIED:20180524T012602Z
UID:13931-1531133100-1531399500@www.celinescuisine.com
SUMMARY:KIDS CULINARY CAMP KSCS 72018
DESCRIPTION:THIS SUMMER CAMP RUNS FROM JULY  9-12 FROM 10:45 – 12:45 \nThis unique culinary camp for kids offers a new menu and creative way  to give your kids opportunity to learn cooking from scratch\, discovering new flavors\,  new ingredients and trying new food! \nNew menu : Italian mini fritata\,  sweet potatoe and zuchini parmesan baked fries\, garlic parmesan kale chips\, ham cheese puff\,
URL:https://www.celinescuisine.com/events/kids-culinary-camp-kscs-72018/
LOCATION:Virtual Murrieta Community Center\, 41810 Juniper st\, Murrieta\, 92562\, United States
CATEGORIES:Kids Baking and Culinary Camps ( Inland Empire and Temecula Valley),Murrieta Culinary camps
ATTACH;FMTTYPE=image/jpeg:https://www.celinescuisine.com/wp-content/uploads/2016/05/Petite-Chefs-1665.102-friedrice1.jpg
END:VEVENT
BEGIN:VEVENT
DTSTART;TZID=America/Los_Angeles:20180709T130000
DTEND;TZID=America/Los_Angeles:20180712T150000
DTSTAMP:20260423T023352
CREATED:20180524T012052Z
LAST-MODIFIED:20180524T012052Z
UID:13929-1531141200-1531407600@www.celinescuisine.com
SUMMARY:KIDS SWEETS DESSERTS CAMPS KCCSDC  72018
DESCRIPTION:THIS CAMP RUNS FROM JULY 9-12 FROM 1-3 PM \nThis sweet baking camp ( new menu) is a fun and creative to give your kids opportunity to learn about baking from scratch\, new flavors and taste. \nNew Menu : Profiteroles ( cream puff\, ice cream and chocolate sauce)\,  Summer fruit crostata\, French apple cake\,  strawberry -cream popsicle\, baked churros with chocolate sauce
URL:https://www.celinescuisine.com/events/kids-sweets-desserts-camps-kccsdc-72018/
LOCATION:Virtual Murrieta Community Center\, 41810 Juniper st\, Murrieta\, 92562\, United States
CATEGORIES:Kids Baking and Culinary Camps ( Inland Empire and Temecula Valley),Murrieta Culinary camps
END:VEVENT
BEGIN:VEVENT
DTSTART;TZID=America/Los_Angeles:20180709T151500
DTEND;TZID=America/Los_Angeles:20180712T171500
DTSTAMP:20260423T023352
CREATED:20180524T001453Z
LAST-MODIFIED:20180524T001453Z
UID:13914-1531149300-1531415700@www.celinescuisine.com
SUMMARY:TEENS CUPCAKE WARS CAMP  TCCW 72018
DESCRIPTION:THIS CAMP RUNS FROM JULY 9-12 FROM  3;15 TO 5 :15 PM \nDuring this camp kids/ teens will learn the basics of baking\, creating and presenting their edible creations. \nOn the last day they will be able to put their new skill to test \nEvery cupcake is made from scratch ( never from a box) and the students eat their creation daily
URL:https://www.celinescuisine.com/events/teens-cupcake-wars-camp-tccw-72018/
LOCATION:Murrieta Community Center\, Juniper street\, murrieta\, 92562\, United States
CATEGORIES:Kids Baking and Culinary Camps ( Inland Empire and Temecula Valley)
ATTACH;FMTTYPE=image/jpeg:https://www.celinescuisine.com/wp-content/uploads/2017/05/campsummer16riversidecw3.jpg
END:VEVENT
BEGIN:VEVENT
DTSTART;TZID=America/Los_Angeles:20180716T083000
DTEND;TZID=America/Los_Angeles:20180719T103000
DTSTAMP:20260423T023352
CREATED:20180523T054525Z
LAST-MODIFIED:20180523T054525Z
UID:13908-1531729800-1531996200@www.celinescuisine.com
SUMMARY:Jr. Cupcake Wars Camp - 0240.2A
DESCRIPTION:Jul 16\, 2018 to Jul 20\, 2018  8:30am to 10:30am \nJr. chefs mix\, bake\, design and create cupcakes while mastering the essentials tools needed to produce one of a kind cupcakes! Camp teaches students the art of making delicious unique cupcakes and decorating them. All levels are welcome. Note: A material fee of $10 is due and payable to the instructor at the first class meeting.
URL:https://www.celinescuisine.com/events/jr-cupcake-wars-camp-0240-2a-2/
LOCATION:Orange Terrace Park/Orange Terrace Comm. Center\, 20010 Orange Terrace Parkway\, Riverside\, CA\, 92508\, CA\, 92508\, United States
CATEGORIES:Riverside cooking camps
END:VEVENT
BEGIN:VEVENT
DTSTART;TZID=America/Los_Angeles:20180716T104500
DTEND;TZID=America/Los_Angeles:20180719T124500
DTSTAMP:20260423T023352
CREATED:20180522T174714Z
LAST-MODIFIED:20180522T174714Z
UID:13894-1531737900-1532004300@www.celinescuisine.com
SUMMARY:Around the World Culinary Camp- 0078.2A
DESCRIPTION:Jul 16\, 2018 to Jul 19\, 2018 10:45am to 12:45pm \nOrange Terrace Park/Orange Terrace Comm. Center\n20010 Orange Terrace Parkway\nRiverside\, CA\, 92508 \nStudents learn to cook international foods using fresh ingredients from scratch while learning kitchen and food safety\, professional kitchen etiquette\, measuring ratios\, prep skills\, peeling\, and proper food cleaning. All levels are welcome. MENU: Italian Snowflake pizza\, Parisian Croissant\, Mini meatloaf and homemade tomato sauce Frittata\, roasted ratatouille with garlic bread\, Chocolate Dipped Strawberries. Note: a material fee of $10 is due and payable to the instructor at the first class meeting.
URL:https://www.celinescuisine.com/events/around-the-world-culinary-camp-0078-2a/
LOCATION:Orange Terrace Park/Orange Terrace Comm. Center\, 20010 Orange Terrace Parkway\, Riverside\, CA\, 92508\, CA\, 92508\, United States
CATEGORIES:Riverside cooking camps
END:VEVENT
BEGIN:VEVENT
DTSTART;TZID=America/Los_Angeles:20180716T130000
DTEND;TZID=America/Los_Angeles:20180719T150000
DTSTAMP:20260423T023352
CREATED:20180522T202353Z
LAST-MODIFIED:20180522T202353Z
UID:13902-1531746000-1532012400@www.celinescuisine.com
SUMMARY:Jr. Master Chefs Camp- 0195.2B
DESCRIPTION:Jul 16\, 2018 to Jul 20\, 2018  1pm to 3pm \nMaster Chefs begin training to become a top master chef as we master essential culinary concepts and techniques all while creating delicious dishes that are eaten at the conclusion of each class. On the last day of camp chefs put our culinary tricks to the test as we put on our own friendly mystery basket competition. Note: A material fee of $10 is due and payable to the instructor at the first class meeting.
URL:https://www.celinescuisine.com/events/jr-master-chefs-camp-0195-2b/
CATEGORIES:Riverside cooking camps
ATTACH;FMTTYPE=image/jpeg:https://www.celinescuisine.com/wp-content/uploads/2016/05/Petite-Chefs-1665.102-friedrice1.jpg
END:VEVENT
BEGIN:VEVENT
DTSTART;TZID=America/Los_Angeles:20180716T151500
DTEND;TZID=America/Los_Angeles:20180719T171500
DTSTAMP:20260423T023352
CREATED:20180523T055132Z
LAST-MODIFIED:20180523T055132Z
UID:13910-1531754100-1532020500@www.celinescuisine.com
SUMMARY:French Pastries and Desserts Camp - 0244.2B
DESCRIPTION:Jul 16\, 2018 to Jul 20\, 2018  3:15pm to 5:15pm \nYoung students learn how to make desserts such madeleines and apple tarts while finding their inner chef during this interactive camp. Kids cook using fresh ingredients\, peeling and measuring food from scratch and learning professional kitchen etiquette about food and kitchen safety.
URL:https://www.celinescuisine.com/events/french-pastries-and-desserts-camp-0244-2b/
LOCATION:Orange Terrace Park/Orange Terrace Comm. Center\, 20010 Orange Terrace Parkway\, Riverside\, CA\, 92508\, CA\, 92508\, United States
CATEGORIES:Riverside cooking camps
ATTACH;FMTTYPE=image/jpeg:https://www.celinescuisine.com/wp-content/uploads/2016/10/madeleinesblog.jpg
END:VEVENT
BEGIN:VEVENT
DTSTART;TZID=America/Los_Angeles:20180723T090000
DTEND;TZID=America/Los_Angeles:20180723T103000
DTSTAMP:20260423T023352
CREATED:20180518T045050Z
LAST-MODIFIED:20180518T045050Z
UID:13863-1532336400-1532341800@www.celinescuisine.com
SUMMARY:AMERICAN ROAD TRIP COOKING CAMP # 1680.202
DESCRIPTION:THIS CAMP STARTS FROM JULY 23- 26 FROM 9:00 – 10:30 AM  \nSend your child on a culinary trip across the USA! In this new exciting new culinary camp young chef will explore flavors and ingredients from coast to coast and regions in between! Chefs will work as a team and enjoy dishes they made together. Sample menu includes: Hamburger\, baked wedge fries\, chicken nuggets\, guacamole\, homemade tortilla chips\, BLT\, potato salad\, Cobb salad\, shakes and chocolate chips
URL:https://www.celinescuisine.com/events/american-road-trip-cooking-camp-1680-202/
LOCATION:Temecula Community Center (CRC)\, 30875 Rancho Vista Road\, Temecula\, CA\, 92590\, United States
ATTACH;FMTTYPE=image/jpeg:https://www.celinescuisine.com/wp-content/uploads/2015/04/TEMECULAONEBC-e1526619012354.jpg
END:VEVENT
BEGIN:VEVENT
DTSTART;TZID=America/Los_Angeles:20180723T104500
DTEND;TZID=America/Los_Angeles:20180726T124500
DTSTAMP:20260423T023352
CREATED:20180518T171508Z
LAST-MODIFIED:20180518T171508Z
UID:13887-1532342700-1532609100@www.celinescuisine.com
SUMMARY:JR. CUPCAKE WARS  1650.205
DESCRIPTION:THIS CAMP STARTS JULY  23-26 FROM  10:45-12:45 AM \nCupcakes are all the rage! Camp will finish with a baking battle where teams will compete for the title of ” best cupcake”. May the best cupcake win! \n$ 5 due to the instructor on the first day!
URL:https://www.celinescuisine.com/events/jr-cupcake-wars-1650-205/
LOCATION:TCC 28816 Pujol Street Temecula\, 28816 Pujol Street Temecula\, TEMECULA\, CA\, 92590\, United States
CATEGORIES:Kids Baking and Culinary Camps ( Inland Empire and Temecula Valley),Temecula Culinary Camps
ATTACH;FMTTYPE=image/jpeg:https://www.celinescuisine.com/wp-content/uploads/2018/03/CUPCAKES1650.20212-e1551373807864.jpg
END:VEVENT
BEGIN:VEVENT
DTSTART;TZID=America/Los_Angeles:20180723T130000
DTEND;TZID=America/Los_Angeles:20180726T150000
DTSTAMP:20260423T023352
CREATED:20180518T060948Z
LAST-MODIFIED:20180518T061236Z
UID:13871-1532350800-1532617200@www.celinescuisine.com
SUMMARY:Around the world culinary camp 1655.202
DESCRIPTION:Around the world culinary camp 1655.202 \nTHIS CAMP STARTS ON JULY 23 TO JULY 26 FROM 1-3 PM\nCampers will travel the world in our kitchen and enjoy a culinary experience they won’t forget! Camp teaches a number of different cooking method like sautéing\, chopping\,  and cooking from scratch with fresh ingredients. Camps will have an international theme and each camp has a unique menu of recipes. Students will eat what they prepare each day.  Sample menus include:  sushi\, Napoli pizza\, quiche Lorraine\,  Greek salad with pitta and shepherd mashed potato and peas.
URL:https://www.celinescuisine.com/events/around-the-world-culinary-camp-1655-202-2/
LOCATION:TCC 28816 Pujol Street Temecula\, 28816 Pujol Street Temecula\, TEMECULA\, CA\, 92590\, United States
ATTACH;FMTTYPE=image/jpeg:https://www.celinescuisine.com/wp-content/uploads/2013/02/IMG_1363-e1526623691526-rotated.jpg
END:VEVENT
BEGIN:VEVENT
DTSTART;TZID=America/Los_Angeles:20180723T151500
DTEND;TZID=America/Los_Angeles:20180726T174500
DTSTAMP:20260423T023352
CREATED:20180518T165202Z
LAST-MODIFIED:20180518T165202Z
UID:13879-1532358900-1532627100@www.celinescuisine.com
SUMMARY:FRENCH MACARONS  1650.202
DESCRIPTION:THIS CAMP STARTS JULY 23-26 FROM 3:15 TO 6:15 PM \nyour young Pastry Chefs will learn step by step how to make macarons from  prep\, pipe\, bake\, and assemble macarons from scratch. Each day campers will work in a team to make new flavors ( chocolate\, strawberry\, lemon and vanilla) \nThere is additional $5 to pay to the instructor at the first class
URL:https://www.celinescuisine.com/events/french-macarons-1650-202/
LOCATION:Temecula Community Center (CRC)\, 30875 Rancho Vista Road\, Temecula\, CA\, 92590\, United States
ATTACH;FMTTYPE=image/jpeg:https://www.celinescuisine.com/wp-content/uploads/2018/02/macaron_lg-2.jpg
END:VEVENT
BEGIN:VEVENT
DTSTART;TZID=America/Los_Angeles:20180724T090000
DTEND;TZID=America/Los_Angeles:20180724T223000
DTSTAMP:20260423T023352
CREATED:20180518T051438Z
LAST-MODIFIED:20180518T051438Z
UID:13865-1532422800-1532471400@www.celinescuisine.com
SUMMARY:AMERICAN ROAD TRIP COOKING CAMP # 1680.202
DESCRIPTION:THIS CAMP STARTS ON JULY 23 TO 28 FROM 9:00 TO 10:30 AM \nSend your child on a culinary trip across the USA! In this new exciting new culinary camp young chef will explore flavors and ingredients from coast to coast and regions in between! Chefs will work as a team and enjoy dishes they made together. Sample menu includes: Hamburger\, baked wedge fries\, chicken nuggets\, guacamole\, homemade tortilla chips\, BLT\, potato salad\, Cobb salad\, shakes and chocolate chips
URL:https://www.celinescuisine.com/events/american-road-trip-cooking-camp-1680-202-2/
LOCATION:TCC 28816 Pujol Street Temecula\, 28816 Pujol Street Temecula\, TEMECULA\, CA\, 92590\, United States
ATTACH;FMTTYPE=image/jpeg:https://www.celinescuisine.com/wp-content/uploads/2015/04/TEMECULAONEBC-e1526619012354.jpg
END:VEVENT
BEGIN:VEVENT
DTSTART;TZID=America/Los_Angeles:20180725T090000
DTEND;TZID=America/Los_Angeles:20180725T103000
DTSTAMP:20260423T023352
CREATED:20180518T052353Z
LAST-MODIFIED:20180518T052353Z
UID:13867-1532509200-1532514600@www.celinescuisine.com
SUMMARY:AMERICAN ROAD TRIP COOKING CAMP # 1680.202
DESCRIPTION:THIS CAMP STARTS JULY 23 TO JULY 26 FROM 9:00 AM TO 10:30 AM \nSend your child on a culinary trip across the USA! In this new exciting new culinary camp young chef will explore flavors and ingredients from coast to coast and regions in between! Chefs will work as a team and enjoy dishes they made together. Sample menu includes: Hamburger\, baked wedge fries\, chicken nuggets\, guacamole\, homemade tortilla chips\, BLT\, potato salad\, Cobb salad\, shakes and chocolate chips
URL:https://www.celinescuisine.com/events/american-road-trip-cooking-camp-1680-202-3/
LOCATION:TCC 28816 Pujol Street Temecula\, 28816 Pujol Street Temecula\, TEMECULA\, CA\, 92590\, United States
ATTACH;FMTTYPE=image/jpeg:https://www.celinescuisine.com/wp-content/uploads/2015/04/TEMECULAONEBC-e1526619012354.jpg
END:VEVENT
BEGIN:VEVENT
DTSTART;TZID=America/Los_Angeles:20180726T090000
DTEND;TZID=America/Los_Angeles:20180726T103000
DTSTAMP:20260423T023352
CREATED:20180518T052753Z
LAST-MODIFIED:20180518T052753Z
UID:13869-1532595600-1532601000@www.celinescuisine.com
SUMMARY:AMERICAN ROAD TRIP COOKING CAMP # 1680.202
DESCRIPTION:THIS CAMP STARTS ON JULY 23 TO JULY 26 FROM 9:00 AM TO 10:30 AM \nSend your child on a culinary trip across the USA! In this new exciting new culinary camp young chef will explore flavors and ingredients from coast to coast and regions in between! Chefs will work as a team and enjoy dishes they made together. Sample menu includes: Hamburger\, baked wedge fries\, chicken nuggets\, guacamole\, homemade tortilla chips\, BLT\, potato salad\, Cobb salad\, shakes and chocolate chips
URL:https://www.celinescuisine.com/events/american-road-trip-cooking-camp-1680-202-4/
LOCATION:TCC 28816 Pujol Street Temecula\, 28816 Pujol Street Temecula\, TEMECULA\, CA\, 92590\, United States
ATTACH;FMTTYPE=image/jpeg:https://www.celinescuisine.com/wp-content/uploads/2015/04/TEMECULAONEBC-e1526619012354.jpg
END:VEVENT
BEGIN:VEVENT
DTSTART;TZID=America/Los_Angeles:20180730T090000
DTEND;TZID=America/Los_Angeles:20180802T103000
DTSTAMP:20260423T023352
CREATED:20180518T172438Z
LAST-MODIFIED:20180518T172438Z
UID:13892-1532941200-1533205800@www.celinescuisine.com
SUMMARY:COOKIES\, CAKES AND CUPCAKES 1650.207
DESCRIPTION:THIS CAMP STARTS JULY 30- AUG 2 FROM 9:00 AM TO 10:30 AM \nMini pastry chefs will make yummy cookies\, cakes and cupcakes and sweet treats from scratch. Campers will also learn how to decorate their sweet treats an mini cakes.
URL:https://www.celinescuisine.com/events/cookies-cakes-and-cupcakes-1650-207/
LOCATION:TCC 28816 Pujol Street Temecula\, 28816 Pujol Street Temecula\, TEMECULA\, CA\, 92590\, United States
CATEGORIES:Kids Baking and Culinary Camps ( Inland Empire and Temecula Valley),Temecula Culinary Camps
ATTACH;FMTTYPE=image/jpeg:https://www.celinescuisine.com/wp-content/uploads/2017/03/yogurtcake-e1526664210544.jpg
END:VEVENT
BEGIN:VEVENT
DTSTART;TZID=America/Los_Angeles:20180730T104500
DTEND;TZID=America/Los_Angeles:20180802T124500
DTSTAMP:20260423T023352
CREATED:20180518T063250Z
LAST-MODIFIED:20180518T063250Z
UID:13875-1532947500-1533213900@www.celinescuisine.com
SUMMARY:JUNIOR MASTER CHEFS CAMPS 1675. 202
DESCRIPTION:THIS CAMP STARTS ON JULY 30 TO AUGUST 2 FROM 10:45 AM TO 12: 45 AM  \nAre you a master chef or do you want to learn how to become one? Show off your skills and learn new techniques in what is sure is the highlight of your summer break. We will have mystery basket\,  team challenges\, and tastes test as we create culinary treats that are both savory or sweet. We will use real ingredients that are not processed or from a box. This is an hands on cooking class. kids need to be independant in the kitchen. At the end of the class kids eat their creations
URL:https://www.celinescuisine.com/events/junior-master-chefs-camps-1675-202/
LOCATION:Temecula Community Center (CRC)\, 30875 Rancho Vista Road\, Temecula\, CA\, 92590\, United States
ATTACH;FMTTYPE=image/jpeg:https://www.celinescuisine.com/wp-content/uploads/2015/04/temeculamctwochopping-e1428429003850.jpg
END:VEVENT
BEGIN:VEVENT
DTSTART;TZID=America/Los_Angeles:20180730T130000
DTEND;TZID=America/Los_Angeles:20180802T150000
DTSTAMP:20260423T023352
CREATED:20180518T171901Z
LAST-MODIFIED:20180518T171901Z
UID:13890-1532955600-1533222000@www.celinescuisine.com
SUMMARY:JR. CUPCAKE WARS  1650.206
DESCRIPTION:THIS CAMP STARTS JULY 30-AUG 2 FROM 1-3 PM \nCupcakes are all the rage! Camp will finish with a baking battle where teams will compete for the title of ” best cupcake”. May the best cupcake win! \n$ 5 due to the instructor on the first day!
URL:https://www.celinescuisine.com/events/jr-cupcake-wars-1650-206/
LOCATION:TCC 28816 Pujol Street Temecula\, 28816 Pujol Street Temecula\, TEMECULA\, CA\, 92590\, United States
CATEGORIES:Kids Baking and Culinary Camps ( Inland Empire and Temecula Valley),Temecula Culinary Camps
ATTACH;FMTTYPE=image/jpeg:https://www.celinescuisine.com/wp-content/uploads/2018/03/CUPCAKES1650.2022-e1526608584534.jpg
END:VEVENT
BEGIN:VEVENT
DTSTART;TZID=America/Los_Angeles:20180730T151500
DTEND;TZID=America/Los_Angeles:20180802T171500
DTSTAMP:20260423T023352
CREATED:20180518T170452Z
LAST-MODIFIED:20180518T170452Z
UID:13883-1532963700-1533230100@www.celinescuisine.com
SUMMARY:FRENCH PASTRIES  1650.2014
DESCRIPTION:THIS CAMP STARTS JULY 30-AUG 2 FROM 3: 15-5:15\nMake real French pastries from a French born instructor! Learn how to make madeleines\, Canneles custard cookies\, famous kouign aman from Britany France classic cream puff and more! Camp includes also a demonstration of French Macarons
URL:https://www.celinescuisine.com/events/french-pastries-1650-2014/
LOCATION:Temecula Community Center (CRC)\, 30875 Rancho Vista Road\, Temecula\, CA\, 92590\, United States
CATEGORIES:Kids Baking and Culinary Camps ( Inland Empire and Temecula Valley),Temecula Culinary Camps
ATTACH;FMTTYPE=image/jpeg:https://www.celinescuisine.com/wp-content/uploads/2016/10/madeleinesblog.jpg
END:VEVENT
END:VCALENDAR